BEGIN:VCALENDAR
VERSION:2.0
PRODID:-//Havelock Tourist &amp; Event Center - ECPv6.15.20//NONSGML v1.0//EN
CALSCALE:GREGORIAN
METHOD:PUBLISH
X-ORIGINAL-URL:https://havelockevents.com
X-WR-CALDESC:Events for Havelock Tourist &amp; Event Center
REFRESH-INTERVAL;VALUE=DURATION:PT1H
X-Robots-Tag:noindex
X-PUBLISHED-TTL:PT1H
BEGIN:VTIMEZONE
TZID:UTC
BEGIN:STANDARD
TZOFFSETFROM:+0000
TZOFFSETTO:+0000
TZNAME:UTC
DTSTART:20170101T000000
END:STANDARD
END:VTIMEZONE
BEGIN:VEVENT
DTSTART;TZID=UTC:20180518T000000
DTEND;TZID=UTC:20180518T000000
DTSTAMP:20260424T231007
CREATED:20180518T150611Z
LAST-MODIFIED:20180518T153025Z
UID:575-1526601600-1526601600@havelockevents.com
SUMMARY:HHS Senior Breakfast
DESCRIPTION:
URL:https://havelockevents.com/event/hhs-senior-breakfast/
LOCATION:Havelock Tourist & Event Center\, 201 Tourist Center Drive\, Havelock\, NC\, 28532\, United States
END:VEVENT
BEGIN:VEVENT
DTSTART;VALUE=DATE:20180518
DTEND;VALUE=DATE:20180519
DTSTAMP:20260424T231007
CREATED:20180518T152337Z
LAST-MODIFIED:20180518T152337Z
UID:578-1526601600-1526687999@havelockevents.com
SUMMARY:Keith Educational Seminar
DESCRIPTION:Rental of Conference Room
URL:https://havelockevents.com/event/keith-educational-seminar-2/
END:VEVENT
BEGIN:VEVENT
DTSTART;TZID=UTC:20180521T000000
DTEND;TZID=UTC:20180521T000000
DTSTAMP:20260424T231007
CREATED:20180518T154112Z
LAST-MODIFIED:20180518T154112Z
UID:590-1526860800-1526860800@havelockevents.com
SUMMARY:MAC Meeting
DESCRIPTION:
URL:https://havelockevents.com/event/mac-meeting/
LOCATION:Conference Room
END:VEVENT
BEGIN:VEVENT
DTSTART;TZID=UTC:20180523T000000
DTEND;TZID=UTC:20180523T000000
DTSTAMP:20260424T231007
CREATED:20180518T154310Z
LAST-MODIFIED:20180518T154310Z
UID:592-1527033600-1527033600@havelockevents.com
SUMMARY:Chamber BOD Meeting
DESCRIPTION:
URL:https://havelockevents.com/event/chamber-bod-meeting/
LOCATION:Conference Room
END:VEVENT
BEGIN:VEVENT
DTSTART;TZID=UTC:20180524T160000
DTEND;TZID=UTC:20180524T160000
DTSTAMP:20260424T231007
CREATED:20180518T201824Z
LAST-MODIFIED:20180518T201824Z
UID:614-1527177600-1527177600@havelockevents.com
SUMMARY:ECAHF Summer Camp Meeting
DESCRIPTION:
URL:https://havelockevents.com/event/ecahf-summer-camp-meeting/
LOCATION:Conference Room
END:VEVENT
BEGIN:VEVENT
DTSTART;TZID=UTC:20180525T000000
DTEND;TZID=UTC:20180525T000000
DTSTAMP:20260424T231007
CREATED:20180518T154442Z
LAST-MODIFIED:20180518T154442Z
UID:594-1527206400-1527206400@havelockevents.com
SUMMARY:ABC Board Meeting
DESCRIPTION:
URL:https://havelockevents.com/event/abc-board-meeting/
LOCATION:Conference Room
END:VEVENT
BEGIN:VEVENT
DTSTART;TZID=UTC:20180526T183000
DTEND;TZID=UTC:20180526T183000
DTSTAMP:20260424T231007
CREATED:20180518T154813Z
LAST-MODIFIED:20180518T154813Z
UID:598-1527359400-1527359400@havelockevents.com
SUMMARY:Hyman Family Reunion
DESCRIPTION:
URL:https://havelockevents.com/event/hyman-family-reunion/
LOCATION:1/2 Hall
END:VEVENT
BEGIN:VEVENT
DTSTART;TZID=UTC:20180528T100000
DTEND;TZID=UTC:20180528T100000
DTSTAMP:20260424T231007
CREATED:20180518T160111Z
LAST-MODIFIED:20180518T201929Z
UID:600-1527501600-1527501600@havelockevents.com
SUMMARY:Memorial Day Service
DESCRIPTION:Open to the Public
URL:https://havelockevents.com/event/memorial-day-service/
LOCATION:Havelock Tourist & Event Center\, 201 Tourist Center Drive\, Havelock\, NC\, 28532\, United States
END:VEVENT
BEGIN:VEVENT
DTSTART;VALUE=DATE:20180530
DTEND;VALUE=DATE:20180601
DTSTAMP:20260424T231007
CREATED:20180518T201611Z
LAST-MODIFIED:20180518T201611Z
UID:611-1527638400-1527811199@havelockevents.com
SUMMARY:Meeting
DESCRIPTION:
URL:https://havelockevents.com/event/meeting-2/
LOCATION:1/2 Hall
END:VEVENT
END:VCALENDAR