BEGIN:VCALENDAR
VERSION:2.0
PRODID:-//Havelock Tourist &amp; Event Center - ECPv6.15.20//NONSGML v1.0//EN
CALSCALE:GREGORIAN
METHOD:PUBLISH
X-ORIGINAL-URL:https://havelockevents.com
X-WR-CALDESC:Events for Havelock Tourist &amp; Event Center
REFRESH-INTERVAL;VALUE=DURATION:PT1H
X-Robots-Tag:noindex
X-PUBLISHED-TTL:PT1H
BEGIN:VTIMEZONE
TZID:UTC
BEGIN:STANDARD
TZOFFSETFROM:+0000
TZOFFSETTO:+0000
TZNAME:UTC
DTSTART:20170101T000000
END:STANDARD
END:VTIMEZONE
BEGIN:VEVENT
DTSTART;TZID=UTC:20180605T153000
DTEND;TZID=UTC:20180605T153000
DTSTAMP:20260418T232344
CREATED:20180518T201151Z
LAST-MODIFIED:20180518T201151Z
UID:609-1528212600-1528212600@havelockevents.com
SUMMARY:ECAHF Development Meeting
DESCRIPTION:
URL:https://havelockevents.com/event/ecahf-development-meeting/
LOCATION:Conference Room
END:VEVENT
BEGIN:VEVENT
DTSTART;TZID=UTC:20180607T000000
DTEND;TZID=UTC:20180607T000000
DTSTAMP:20260418T232344
CREATED:20180518T200711Z
LAST-MODIFIED:20180518T200711Z
UID:607-1528329600-1528329600@havelockevents.com
SUMMARY:HHS Athletic Booster Club Senior Banquet
DESCRIPTION:
URL:https://havelockevents.com/event/hhs-athletic-booster-club-senior-banquet/
LOCATION:1/2 Hall
END:VEVENT
BEGIN:VEVENT
DTSTART;TZID=UTC:20180608T073000
DTEND;TZID=UTC:20180608T073000
DTSTAMP:20260418T232344
CREATED:20180518T195904Z
LAST-MODIFIED:20180518T195904Z
UID:605-1528443000-1528443000@havelockevents.com
SUMMARY:ECAHF BOD Meeting
DESCRIPTION:
URL:https://havelockevents.com/event/ecahf-bod-meeting/
LOCATION:Conference Room
END:VEVENT
BEGIN:VEVENT
DTSTART;TZID=UTC:20180608T170000
DTEND;TZID=UTC:20180608T210000
DTSTAMP:20260418T232344
CREATED:20180518T195616Z
LAST-MODIFIED:20180518T195616Z
UID:602-1528477200-1528491600@havelockevents.com
SUMMARY:ECAHF 8th Annual Fly-In Movie & Family Night
DESCRIPTION:BRING YOUR LAWN CHAIRS & BLANKETS\, RAIN OR SHINE! \nFUN & INTERACTIVE STEM DEMONSTRATIONS & BOOTHS! \nLEARN ABOUT ENGINEERING\, WEATHER & AERODYNAMICS! \n“FERDINAND” AT 7PM ON THE GIANT SCREEN \nPHOTOS IN FLIGHT GEAR & GIVEAWAYS \nContact then Havelock Tourist & Event Center for additional Information @ \n(252)444-4348 or events@havelocknc.us
URL:https://havelockevents.com/event/ecahf-8th-annual-fly-in-movie-family-night/
LOCATION:Havelock Tourist & Event Center\, 201 Tourist Center Drive\, Havelock\, NC\, 28532\, United States
END:VEVENT
BEGIN:VEVENT
DTSTART;TZID=UTC:20180613T000000
DTEND;TZID=UTC:20180613T000000
DTSTAMP:20260418T232344
CREATED:20180531T191647Z
LAST-MODIFIED:20180531T191647Z
UID:643-1528848000-1528848000@havelockevents.com
SUMMARY:USDA Forestry Service Meeting
DESCRIPTION:
URL:https://havelockevents.com/event/usda-forestry-service-meeting/
LOCATION:1/2 Hall
END:VEVENT
BEGIN:VEVENT
DTSTART;TZID=UTC:20180614T113000
DTEND;TZID=UTC:20180614T133000
DTSTAMP:20260418T232344
CREATED:20180518T203553Z
LAST-MODIFIED:20180518T203553Z
UID:618-1528975800-1528983000@havelockevents.com
SUMMARY:Salute to Women in the Military Event: Past and Present
DESCRIPTION:
URL:https://havelockevents.com/event/salute-to-women-in-the-military-event-past-and-present/
LOCATION:Ballroom
ORGANIZER;CN="Promise Place":MAILTO:promiseplaceinfo@gmail.com
END:VEVENT
BEGIN:VEVENT
DTSTART;TZID=UTC:20180614T150000
DTEND;TZID=UTC:20180614T170000
DTSTAMP:20260418T232344
CREATED:20180523T004338Z
LAST-MODIFIED:20180523T004338Z
UID:626-1528988400-1528995600@havelockevents.com
SUMMARY:ACT Meeting
DESCRIPTION:
URL:https://havelockevents.com/event/act-meeting/
LOCATION:Conference Room
END:VEVENT
BEGIN:VEVENT
DTSTART;TZID=UTC:20180621T100000
DTEND;TZID=UTC:20180621T110000
DTSTAMP:20260418T232344
CREATED:20180531T202254Z
LAST-MODIFIED:20180531T202254Z
UID:669-1529575200-1529578800@havelockevents.com
SUMMARY:Meeting
DESCRIPTION:
URL:https://havelockevents.com/event/meeting-3/
LOCATION:Conference Room
END:VEVENT
BEGIN:VEVENT
DTSTART;TZID=UTC:20180621T100000
DTEND;TZID=UTC:20180621T140000
DTSTAMP:20260418T232344
CREATED:20180523T004628Z
LAST-MODIFIED:20180523T004628Z
UID:628-1529575200-1529589600@havelockevents.com
SUMMARY:ECAHF Summer Camp Teacher Day
DESCRIPTION:
URL:https://havelockevents.com/event/ecahf-summer-camp-teacher-day/
LOCATION:1/2 Hall
END:VEVENT
BEGIN:VEVENT
DTSTART;TZID=UTC:20180627T073000
DTEND;TZID=UTC:20180627T090000
DTSTAMP:20260418T232344
CREATED:20180523T010827Z
LAST-MODIFIED:20180523T010827Z
UID:630-1530084600-1530090000@havelockevents.com
SUMMARY:Chamber BOD Meeting
DESCRIPTION:
URL:https://havelockevents.com/event/chamber-bod-meeting-2/
LOCATION:Conference Room
END:VEVENT
BEGIN:VEVENT
DTSTART;TZID=UTC:20180629T000000
DTEND;TZID=UTC:20180629T000000
DTSTAMP:20260418T232344
CREATED:20180523T011014Z
LAST-MODIFIED:20180523T011014Z
UID:632-1530230400-1530230400@havelockevents.com
SUMMARY:Beck Retirement Party
DESCRIPTION:
URL:https://havelockevents.com/event/beck-retirement-party/
LOCATION:1/2 Hall
END:VEVENT
BEGIN:VEVENT
DTSTART;TZID=UTC:20180630T000000
DTEND;TZID=UTC:20180630T000000
DTSTAMP:20260418T232344
CREATED:20180523T011127Z
LAST-MODIFIED:20180523T011127Z
UID:634-1530316800-1530316800@havelockevents.com
SUMMARY:Thomas 50th Wedding Anniversary
DESCRIPTION:
URL:https://havelockevents.com/event/thomas-50th-wedding-anniversary/
LOCATION:1/2 Hall
END:VEVENT
BEGIN:VEVENT
DTSTART;TZID=UTC:20180630T000000
DTEND;TZID=UTC:20180630T000000
DTSTAMP:20260418T232344
CREATED:20180523T011209Z
LAST-MODIFIED:20180523T011209Z
UID:636-1530316800-1530316800@havelockevents.com
SUMMARY:Bedford Wedding
DESCRIPTION:
URL:https://havelockevents.com/event/bedford-wedding/
LOCATION:1/2 Hall
END:VEVENT
END:VCALENDAR