BEGIN:VCALENDAR
VERSION:2.0
PRODID:-//Havelock Tourist &amp; Event Center - ECPv6.15.20//NONSGML v1.0//EN
CALSCALE:GREGORIAN
METHOD:PUBLISH
X-WR-CALNAME:Havelock Tourist &amp; Event Center
X-ORIGINAL-URL:https://havelockevents.com
X-WR-CALDESC:Events for Havelock Tourist &amp; Event Center
REFRESH-INTERVAL;VALUE=DURATION:PT1H
X-Robots-Tag:noindex
X-PUBLISHED-TTL:PT1H
BEGIN:VTIMEZONE
TZID:UTC
BEGIN:STANDARD
TZOFFSETFROM:+0000
TZOFFSETTO:+0000
TZNAME:UTC
DTSTART:20170101T000000
END:STANDARD
END:VTIMEZONE
BEGIN:VEVENT
DTSTART;TZID=UTC:20180802T190000
DTEND;TZID=UTC:20180802T210000
DTSTAMP:20260418T220527
CREATED:20180531T202847Z
LAST-MODIFIED:20180802T002018Z
UID:674-1533236400-1533243600@havelockevents.com
SUMMARY:Free Thursday Night Live Concert Series  (Public Event)
DESCRIPTION:Performance provided by the New River Gospel Group
URL:https://havelockevents.com/event/thursday-night-live-2/
LOCATION:1/2 Hall
END:VEVENT
BEGIN:VEVENT
DTSTART;TZID=UTC:20180804T160000
DTEND;TZID=UTC:20180804T233000
DTSTAMP:20260418T220527
CREATED:20180531T203205Z
LAST-MODIFIED:20180802T000517Z
UID:678-1533398400-1533425400@havelockevents.com
SUMMARY:Johnson-Nelson Family Reunion
DESCRIPTION:
URL:https://havelockevents.com/event/johnson-nelson-family-reunion/
LOCATION:Ballroom
END:VEVENT
BEGIN:VEVENT
DTSTART;TZID=UTC:20180807T153000
DTEND;TZID=UTC:20180807T170000
DTSTAMP:20260418T220527
CREATED:20180531T203410Z
LAST-MODIFIED:20180531T203410Z
UID:680-1533655800-1533661200@havelockevents.com
SUMMARY:ECAHF Development Committee Meeting
DESCRIPTION:
URL:https://havelockevents.com/event/ecahf-development-committee-meeting-2/
LOCATION:Conference Room
END:VEVENT
BEGIN:VEVENT
DTSTART;TZID=UTC:20180809T190000
DTEND;TZID=UTC:20180809T210000
DTSTAMP:20260418T220527
CREATED:20180531T203045Z
LAST-MODIFIED:20180802T001822Z
UID:676-1533841200-1533848400@havelockevents.com
SUMMARY:Free Thursday Night Live Concert Series  (Public Event)
DESCRIPTION:Performance by Ron Thomas and 8 Yards
URL:https://havelockevents.com/event/thursday-night-live-3/
LOCATION:1/2 Hall
END:VEVENT
BEGIN:VEVENT
DTSTART;TZID=UTC:20180810T083000
DTEND;TZID=UTC:20180810T100000
DTSTAMP:20260418T220527
CREATED:20180802T002758Z
LAST-MODIFIED:20180802T002758Z
UID:702-1533889800-1533895200@havelockevents.com
SUMMARY:Eastern Carolina Aviation Heritage Foundation BOD Meeting
DESCRIPTION:
URL:https://havelockevents.com/event/eastern-carolina-aviation-heritage-foundation-bod-meeting/
LOCATION:Havelock Tourist & Event Center\, 201 Tourist Center Drive\, Havelock\, NC\, 28532\, United States
END:VEVENT
BEGIN:VEVENT
DTSTART;TZID=UTC:20180811T083000
DTEND;TZID=UTC:20180811T170000
DTSTAMP:20260418T220527
CREATED:20180802T002906Z
LAST-MODIFIED:20180802T002906Z
UID:704-1533976200-1534006800@havelockevents.com
SUMMARY:INSURANCE SEMINAR
DESCRIPTION:
URL:https://havelockevents.com/event/insurance-seminar/
LOCATION:Havelock Tourist & Event Center\, 201 Tourist Center Drive\, Havelock\, NC\, 28532\, United States
END:VEVENT
BEGIN:VEVENT
DTSTART;TZID=UTC:20180816T113000
DTEND;TZID=UTC:20180816T130000
DTSTAMP:20260418T220527
CREATED:20180808T203802Z
LAST-MODIFIED:20180808T203802Z
UID:706-1534419000-1534424400@havelockevents.com
SUMMARY:Chamber Lunch & Learn
DESCRIPTION:
URL:https://havelockevents.com/event/chamber-lunch-learn/
LOCATION:Conference Room
END:VEVENT
BEGIN:VEVENT
DTSTART;TZID=UTC:20180816T190000
DTEND;TZID=UTC:20180816T190000
DTSTAMP:20260418T220527
CREATED:20180802T002201Z
LAST-MODIFIED:20180802T002201Z
UID:698-1534446000-1534446000@havelockevents.com
SUMMARY:Free THURSDAY NIGHT LIVE CONCERT SERIES  (PUBLIC EVENT)
DESCRIPTION:Performance by Julian Winds and Others – Combination quintet and flute duet
URL:https://havelockevents.com/event/free-thursday-night-live-concert-series-public-event-2/
END:VEVENT
BEGIN:VEVENT
DTSTART;VALUE=DATE:20180818
DTEND;VALUE=DATE:20180819
DTSTAMP:20260418T220527
CREATED:20180808T203940Z
LAST-MODIFIED:20180808T203940Z
UID:708-1534550400-1534636799@havelockevents.com
SUMMARY:Wedding
DESCRIPTION:
URL:https://havelockevents.com/event/wedding-2/
LOCATION:1/2 Hall
END:VEVENT
BEGIN:VEVENT
DTSTART;VALUE=DATE:20180818
DTEND;VALUE=DATE:20180819
DTSTAMP:20260418T220527
CREATED:20180808T204038Z
LAST-MODIFIED:20180808T204038Z
UID:710-1534550400-1534636799@havelockevents.com
SUMMARY:HHS Reunion
DESCRIPTION:
URL:https://havelockevents.com/event/hhs-reunion/
LOCATION:1/2 Hall
END:VEVENT
BEGIN:VEVENT
DTSTART;TZID=UTC:20180822T073000
DTEND;TZID=UTC:20180822T090000
DTSTAMP:20260418T220527
CREATED:20180808T204300Z
LAST-MODIFIED:20180808T204300Z
UID:712-1534923000-1534928400@havelockevents.com
SUMMARY:Chamber BOD Meeting
DESCRIPTION:
URL:https://havelockevents.com/event/chamber-bod-meeting-4/
LOCATION:Conference Room
END:VEVENT
BEGIN:VEVENT
DTSTART;TZID=UTC:20180823T190000
DTEND;TZID=UTC:20180823T210000
DTSTAMP:20260418T220527
CREATED:20180802T001329Z
LAST-MODIFIED:20180814T003611Z
UID:689-1535050800-1535058000@havelockevents.com
SUMMARY:FREE THURSDAY NIGHT LIVE CONCERT SERIES  (PUBLIC EVENT)
DESCRIPTION:Performer: Jason Addams the Mad Fiddler
URL:https://havelockevents.com/event/free-thursday-night-live-concert-series-public-event/
LOCATION:Havelock Tourist & Event Center\, 201 Tourist Center Drive\, Havelock\, NC\, 28532\, United States
END:VEVENT
BEGIN:VEVENT
DTSTART;TZID=UTC:20180830T190000
DTEND;TZID=UTC:20180830T210000
DTSTAMP:20260418T220527
CREATED:20180802T002412Z
LAST-MODIFIED:20180802T002412Z
UID:700-1535655600-1535662800@havelockevents.com
SUMMARY:Free  THURSDAY NIGHT LIVE CONCERT SERIES  (PUBLIC EVENT)
DESCRIPTION:Performance by The Ensemble
URL:https://havelockevents.com/event/free-thursday-night-live-concert-series-public-event-3/
LOCATION:Havelock Tourist & Event Center\, 201 Tourist Center Drive\, Havelock\, NC\, 28532\, United States
END:VEVENT
BEGIN:VEVENT
DTSTART;VALUE=DATE:20180831
DTEND;VALUE=DATE:20180902
DTSTAMP:20260418T220527
CREATED:20180808T204419Z
LAST-MODIFIED:20180808T204501Z
UID:714-1535673600-1535846399@havelockevents.com
SUMMARY:Wedding & Reception
DESCRIPTION:
URL:https://havelockevents.com/event/wedding-reception-5/
LOCATION:1/2 Hall
END:VEVENT
END:VCALENDAR