BEGIN:VCALENDAR
VERSION:2.0
PRODID:-//Havelock Tourist &amp; Event Center - ECPv6.15.20//NONSGML v1.0//EN
CALSCALE:GREGORIAN
METHOD:PUBLISH
X-ORIGINAL-URL:https://havelockevents.com
X-WR-CALDESC:Events for Havelock Tourist &amp; Event Center
REFRESH-INTERVAL;VALUE=DURATION:PT1H
X-Robots-Tag:noindex
X-PUBLISHED-TTL:PT1H
BEGIN:VTIMEZONE
TZID:UTC
BEGIN:STANDARD
TZOFFSETFROM:+0000
TZOFFSETTO:+0000
TZNAME:UTC
DTSTART:20170101T000000
END:STANDARD
END:VTIMEZONE
BEGIN:VEVENT
DTSTART;VALUE=DATE:20180831
DTEND;VALUE=DATE:20180902
DTSTAMP:20260418T232331
CREATED:20180808T204419Z
LAST-MODIFIED:20180808T204501Z
UID:714-1535673600-1535846399@havelockevents.com
SUMMARY:Wedding & Reception
DESCRIPTION:
URL:https://havelockevents.com/event/wedding-reception-5/
LOCATION:1/2 Hall
END:VEVENT
BEGIN:VEVENT
DTSTART;VALUE=DATE:20180901
DTEND;VALUE=DATE:20180902
DTSTAMP:20260418T232331
CREATED:20180808T204559Z
LAST-MODIFIED:20180808T204559Z
UID:716-1535760000-1535846399@havelockevents.com
SUMMARY:Wedding Reception
DESCRIPTION:
URL:https://havelockevents.com/event/wedding-reception-6/
LOCATION:1/2 Hall
END:VEVENT
BEGIN:VEVENT
DTSTART;TZID=UTC:20180904T153000
DTEND;TZID=UTC:20180904T170000
DTSTAMP:20260418T232331
CREATED:20180808T204805Z
LAST-MODIFIED:20180808T204805Z
UID:718-1536075000-1536080400@havelockevents.com
SUMMARY:ECAHF Development Committee Meeting
DESCRIPTION:
URL:https://havelockevents.com/event/ecahf-development-committee-meeting-3/
LOCATION:Conference Room
END:VEVENT
BEGIN:VEVENT
DTSTART;VALUE=DATE:20180906
DTEND;VALUE=DATE:20180907
DTSTAMP:20260418T232331
CREATED:20180808T204948Z
LAST-MODIFIED:20180808T204948Z
UID:720-1536192000-1536278399@havelockevents.com
SUMMARY:Coastal Community Action
DESCRIPTION:
URL:https://havelockevents.com/event/coastal-community-action-6/
LOCATION:1/2 Hall
END:VEVENT
BEGIN:VEVENT
DTSTART;VALUE=DATE:20180907
DTEND;VALUE=DATE:20180908
DTSTAMP:20260418T232331
CREATED:20180808T205223Z
LAST-MODIFIED:20180808T205223Z
UID:723-1536278400-1536364799@havelockevents.com
SUMMARY:Coastal Community Action
DESCRIPTION:
URL:https://havelockevents.com/event/coastal-community-action-7/
LOCATION:Ballroom
END:VEVENT
END:VCALENDAR