BEGIN:VCALENDAR
VERSION:2.0
PRODID:-//Havelock Tourist &amp; Event Center - ECPv6.15.20//NONSGML v1.0//EN
CALSCALE:GREGORIAN
METHOD:PUBLISH
X-ORIGINAL-URL:https://havelockevents.com
X-WR-CALDESC:Events for Havelock Tourist &amp; Event Center
REFRESH-INTERVAL;VALUE=DURATION:PT1H
X-Robots-Tag:noindex
X-PUBLISHED-TTL:PT1H
BEGIN:VTIMEZONE
TZID:UTC
BEGIN:STANDARD
TZOFFSETFROM:+0000
TZOFFSETTO:+0000
TZNAME:UTC
DTSTART:20170101T000000
END:STANDARD
END:VTIMEZONE
BEGIN:VEVENT
DTSTART;TZID=UTC:20181031T080000
DTEND;TZID=UTC:20181201T200000
DTSTAMP:20260418T232036
CREATED:20181030T234506Z
LAST-MODIFIED:20181030T234506Z
UID:735-1540972800-1543694400@havelockevents.com
SUMMARY:CLOSED FOR REPAIRS
DESCRIPTION:DUE TO DAMAGE FROM HURRICANE FLORENCE\, WE WILL BE CLOSED UNITL FURTHER NOTICE.
URL:https://havelockevents.com/event/closed-for-repairs/
LOCATION:Havelock Tourist & Event Center\, 201 Tourist Center Drive\, Havelock\, NC\, 28532\, United States
END:VEVENT
END:VCALENDAR