BEGIN:VCALENDAR
VERSION:2.0
PRODID:-//Havelock Tourist &amp; Event Center - ECPv6.15.20//NONSGML v1.0//EN
CALSCALE:GREGORIAN
METHOD:PUBLISH
X-WR-CALNAME:Havelock Tourist &amp; Event Center
X-ORIGINAL-URL:https://havelockevents.com
X-WR-CALDESC:Events for Havelock Tourist &amp; Event Center
REFRESH-INTERVAL;VALUE=DURATION:PT1H
X-Robots-Tag:noindex
X-PUBLISHED-TTL:PT1H
BEGIN:VTIMEZONE
TZID:America/New_York
BEGIN:DAYLIGHT
TZOFFSETFROM:-0500
TZOFFSETTO:-0400
TZNAME:EDT
DTSTART:20180311T070000
END:DAYLIGHT
BEGIN:STANDARD
TZOFFSETFROM:-0400
TZOFFSETTO:-0500
TZNAME:EST
DTSTART:20181104T060000
END:STANDARD
BEGIN:DAYLIGHT
TZOFFSETFROM:-0500
TZOFFSETTO:-0400
TZNAME:EDT
DTSTART:20190310T070000
END:DAYLIGHT
BEGIN:STANDARD
TZOFFSETFROM:-0400
TZOFFSETTO:-0500
TZNAME:EST
DTSTART:20191103T060000
END:STANDARD
BEGIN:DAYLIGHT
TZOFFSETFROM:-0500
TZOFFSETTO:-0400
TZNAME:EDT
DTSTART:20200308T070000
END:DAYLIGHT
BEGIN:STANDARD
TZOFFSETFROM:-0400
TZOFFSETTO:-0500
TZNAME:EST
DTSTART:20201101T060000
END:STANDARD
END:VTIMEZONE
BEGIN:VEVENT
DTSTART;TZID=America/New_York:20190514T170000
DTEND;TZID=America/New_York:20190514T230000
DTSTAMP:20260418T223400
CREATED:20190514T124050Z
LAST-MODIFIED:20190515T121405Z
UID:750-1557853200-1557874800@havelockevents.com
SUMMARY:Salute to the Vets
DESCRIPTION:Call the Havelock Chamber of Events for more information.  (252) 447-1101
URL:https://havelockevents.com/event/salute-to-the-vets/
LOCATION:Havelock Tourist & Event Center\, 201 Tourist Center Drive\, Havelock\, NC\, 28532\, United States
END:VEVENT
BEGIN:VEVENT
DTSTART;TZID=America/New_York:20190515T190000
DTEND;TZID=America/New_York:20190515T220000
DTSTAMP:20260418T223400
CREATED:20190515T121525Z
LAST-MODIFIED:20190515T121525Z
UID:824-1557946800-1557957600@havelockevents.com
SUMMARY:Private Event
DESCRIPTION:Training Seminar –  Hall B
URL:https://havelockevents.com/event/private-event-14/
LOCATION:1/4 of Hall\, 201 Tourist Center Dr\, Havelock\, NC\, 28557\, United States
END:VEVENT
BEGIN:VEVENT
DTSTART;TZID=America/New_York:20190517T080000
DTEND;TZID=America/New_York:20190517T160000
DTSTAMP:20260418T223400
CREATED:20190514T132713Z
LAST-MODIFIED:20190514T132713Z
UID:765-1558080000-1558108800@havelockevents.com
SUMMARY:Private Meeting
DESCRIPTION:Breakout Room – Conference
URL:https://havelockevents.com/event/private-meeting/
END:VEVENT
BEGIN:VEVENT
DTSTART;TZID=America/New_York:20190517T100000
DTEND;TZID=America/New_York:20190517T100000
DTSTAMP:20260418T223400
CREATED:20190514T131809Z
LAST-MODIFIED:20190514T132409Z
UID:756-1558087200-1558087200@havelockevents.com
SUMMARY:A-6 Intruder Tribute Dedication Ceremony
DESCRIPTION:The A-6 Intruder Association has designed and constructed an A-6 Intruder Monument in honor and memory of all that served with this squadron. There will be a dedication ceremony on Thursday\, May 17 at 10:00 A.M. at the Havelock Tourist & Event Center.  \nBe sure to stay afterwards and join VMA(aw) 225 Reunion as they will conduct a memorial service at 2:30 pm outside near the monument. All are invited and welcome to attend.  \nThe mighty A-6 Intruders once formed the very backbone of both Navy and Marine Corps attack aviation for more than 30 years. Between 1963 and 1997\, there were 17 Navy squadrons and 7 Marine squadrons of A-6s in existence.  Today\, having been phased out in favor of newer aircraft\, there are none in active service anywhere. \nAlthough all Marine Intruder Squadrons stood up at MCAS Cherry Point\, eventually Marine Aviation spread the six tactical squadrons between the east and west coasts\, at MCAS Cherry Point and MCAS El Toro. \nThis two-engine aircraft was manned by a two-person crew consisting of the Pilot and Bombardier-Navigator. It had a flight range of 1\,010 miles\, flew up to a speed of 644 mph\, and could climb 7\,620 feet per minute with 9\,300 lbs of thrust. Its maximum weight was 60\,400 lbs.
URL:https://havelockevents.com/event/a-6-intruder-tribute-dedication-ceremony/
END:VEVENT
BEGIN:VEVENT
DTSTART;TZID=America/New_York:20190517T143000
DTEND;TZID=America/New_York:20190517T143000
DTSTAMP:20260418T223400
CREATED:20190514T132031Z
LAST-MODIFIED:20190514T132031Z
UID:760-1558103400-1558103400@havelockevents.com
SUMMARY:VMA (aw) 225 Memorial Service
DESCRIPTION:VMA (aw) 225 Reunion will conduct a memorial service at 2:30 pm outside near the A-6 Intruder monument. All are invited and welcome to attend.  \nThe mighty A-6 Intruders once formed the very backbone of both Navy and Marine Corps attack aviation for more than 30 years. Between 1963 and 1997\, there were 17 Navy squadrons and 7 Marine squadrons of A-6s in existence.  Today\, having been phased out in favor of newer aircraft\, there are none in active service anywhere. \nAlthough all Marine Intruder Squadrons stood up at MCAS Cherry Point\, eventually Marine Aviation spread the six tactical squadrons between the east and west coasts\, at MCAS Cherry Point and MCAS El Toro. \nThis two-engine aircraft was manned by a two-person crew consisting of the Pilot and Bombardier-Navigator. It had a flight range of 1\,010 miles\, flew up to a speed of 644 mph\, and could climb 7\,620 feet per minute with 9\,300 lbs of thrust. Its maximum weight was 60\,400 lbs.
URL:https://havelockevents.com/event/vma-aw-225-memorial-service/
END:VEVENT
BEGIN:VEVENT
DTSTART;TZID=America/New_York:20190521T170000
DTEND;TZID=America/New_York:20190521T200000
DTSTAMP:20260418T223400
CREATED:20190514T132949Z
LAST-MODIFIED:20190514T132949Z
UID:767-1558458000-1558468800@havelockevents.com
SUMMARY:Private Event
DESCRIPTION:Customer Appreciation – Area B
URL:https://havelockevents.com/event/private-event/
END:VEVENT
BEGIN:VEVENT
DTSTART;TZID=America/New_York:20190523T173000
DTEND;TZID=America/New_York:20190523T230000
DTSTAMP:20260418T223400
CREATED:20190514T133156Z
LAST-MODIFIED:20190514T133156Z
UID:769-1558632600-1558652400@havelockevents.com
SUMMARY:Private Event
DESCRIPTION:Service Awards Ceremony – Main Hall A & B
URL:https://havelockevents.com/event/private-event-2/
END:VEVENT
BEGIN:VEVENT
DTSTART;TZID=America/New_York:20190525T160000
DTEND;TZID=America/New_York:20190525T233000
DTSTAMP:20260418T223400
CREATED:20190514T133405Z
LAST-MODIFIED:20190514T134127Z
UID:771-1558800000-1558827000@havelockevents.com
SUMMARY:Wedding Reception
DESCRIPTION:Private Event – Area A
URL:https://havelockevents.com/event/wedding-reception-7/
END:VEVENT
BEGIN:VEVENT
DTSTART;TZID=America/New_York:20190527T090000
DTEND;TZID=America/New_York:20190527T100000
DTSTAMP:20260418T223400
CREATED:20190514T133504Z
LAST-MODIFIED:20190514T134023Z
UID:773-1558947600-1558951200@havelockevents.com
SUMMARY:Memorial Day Service
DESCRIPTION:The Knights of Columbus will be hosting a Memorial Day Service.  All are welcome to attend!
URL:https://havelockevents.com/event/memorial-day-service-2/
END:VEVENT
BEGIN:VEVENT
DTSTART;TZID=America/New_York:20190530T100000
DTEND;TZID=America/New_York:20190530T140000
DTSTAMP:20260418T223400
CREATED:20190514T134900Z
LAST-MODIFIED:20190514T134900Z
UID:777-1559210400-1559224800@havelockevents.com
SUMMARY:Private meeting
DESCRIPTION:Private Meeting – Area B
URL:https://havelockevents.com/event/private-meeting-2/
END:VEVENT
BEGIN:VEVENT
DTSTART;TZID=America/New_York:20190530T100000
DTEND;TZID=America/New_York:20190530T140000
DTSTAMP:20260418T223400
CREATED:20190529T132315Z
LAST-MODIFIED:20190529T132315Z
UID:833-1559210400-1559224800@havelockevents.com
SUMMARY:Private Meeting
DESCRIPTION:Private Meeting \nNASA NC Space Grant \n1/4 Hall Area B
URL:https://havelockevents.com/event/private-meeting-6/
LOCATION:1/4 of Hall\, 201 Tourist Center Dr\, Havelock\, NC\, 28557\, United States
END:VEVENT
BEGIN:VEVENT
DTSTART;TZID=America/New_York:20190530T100000
DTEND;TZID=America/New_York:20190530T170000
DTSTAMP:20260418T223400
CREATED:20190514T125455Z
LAST-MODIFIED:20190514T153704Z
UID:752-1559210400-1559235600@havelockevents.com
SUMMARY:Life Line Screening
DESCRIPTION:Take a step towards staying Healthy & Active!  Do more for your cardiovascular health by scheduling your appointment today!  Pre-registration is required.  To register for your appointment and to receive a $10 discount please call 1 (888) 653-6450 or visit their website below.
URL:https://havelockevents.com/event/life-line-screening-3/
LOCATION:Ballroom
END:VEVENT
BEGIN:VEVENT
DTSTART;TZID=America/New_York:20190531T073000
DTEND;TZID=America/New_York:20190531T113000
DTSTAMP:20260418T223400
CREATED:20190514T142216Z
LAST-MODIFIED:20190514T142216Z
UID:779-1559287800-1559302200@havelockevents.com
SUMMARY:Havelock High School
DESCRIPTION:Havelock High School Senior Breakfast
URL:https://havelockevents.com/event/havelock-high-school/
END:VEVENT
END:VCALENDAR