BEGIN:VCALENDAR
VERSION:2.0
PRODID:-//Havelock Tourist &amp; Event Center - ECPv6.15.20//NONSGML v1.0//EN
CALSCALE:GREGORIAN
METHOD:PUBLISH
X-WR-CALNAME:Havelock Tourist &amp; Event Center
X-ORIGINAL-URL:https://havelockevents.com
X-WR-CALDESC:Events for Havelock Tourist &amp; Event Center
REFRESH-INTERVAL;VALUE=DURATION:PT1H
X-Robots-Tag:noindex
X-PUBLISHED-TTL:PT1H
BEGIN:VTIMEZONE
TZID:America/New_York
BEGIN:DAYLIGHT
TZOFFSETFROM:-0500
TZOFFSETTO:-0400
TZNAME:EDT
DTSTART:20180311T070000
END:DAYLIGHT
BEGIN:STANDARD
TZOFFSETFROM:-0400
TZOFFSETTO:-0500
TZNAME:EST
DTSTART:20181104T060000
END:STANDARD
BEGIN:DAYLIGHT
TZOFFSETFROM:-0500
TZOFFSETTO:-0400
TZNAME:EDT
DTSTART:20190310T070000
END:DAYLIGHT
BEGIN:STANDARD
TZOFFSETFROM:-0400
TZOFFSETTO:-0500
TZNAME:EST
DTSTART:20191103T060000
END:STANDARD
BEGIN:DAYLIGHT
TZOFFSETFROM:-0500
TZOFFSETTO:-0400
TZNAME:EDT
DTSTART:20200308T070000
END:DAYLIGHT
BEGIN:STANDARD
TZOFFSETFROM:-0400
TZOFFSETTO:-0500
TZNAME:EST
DTSTART:20201101T060000
END:STANDARD
END:VTIMEZONE
BEGIN:VEVENT
DTSTART;TZID=America/New_York:20190604T153000
DTEND;TZID=America/New_York:20190604T170000
DTSTAMP:20260418T223335
CREATED:20190514T142459Z
LAST-MODIFIED:20190514T142459Z
UID:781-1559662200-1559667600@havelockevents.com
SUMMARY:Private Meeting
DESCRIPTION:Conference Room
URL:https://havelockevents.com/event/private-meeting-3/
END:VEVENT
BEGIN:VEVENT
DTSTART;TZID=America/New_York:20190606T173000
DTEND;TZID=America/New_York:20190606T230000
DTSTAMP:20260418T223335
CREATED:20190514T143600Z
LAST-MODIFIED:20190514T144628Z
UID:785-1559842200-1559862000@havelockevents.com
SUMMARY:Havelock High School
DESCRIPTION:Havelock High School\,  Athletic Booster Club Senior Banquet
URL:https://havelockevents.com/event/havelock-high-school-2/
END:VEVENT
BEGIN:VEVENT
DTSTART;TZID=America/New_York:20190608T190000
DTEND;TZID=America/New_York:20190608T233000
DTSTAMP:20260418T223335
CREATED:20190514T145536Z
LAST-MODIFIED:20190514T145536Z
UID:788-1560020400-1560036600@havelockevents.com
SUMMARY:Private Event
DESCRIPTION:Birthday Party –  Area B
URL:https://havelockevents.com/event/private-event-3/
END:VEVENT
BEGIN:VEVENT
DTSTART;TZID=America/New_York:20190610T073000
DTEND;TZID=America/New_York:20190610T170000
DTSTAMP:20260418T223335
CREATED:20190514T145856Z
LAST-MODIFIED:20190514T145856Z
UID:790-1560151800-1560186000@havelockevents.com
SUMMARY:Event Center Unavailable
DESCRIPTION:City of Havelock
URL:https://havelockevents.com/event/event-center-unavailable/
END:VEVENT
BEGIN:VEVENT
DTSTART;TZID=America/New_York:20190611T073000
DTEND;TZID=America/New_York:20190612T170000
DTSTAMP:20260418T223335
CREATED:20190514T150105Z
LAST-MODIFIED:20190514T150105Z
UID:792-1560238200-1560358800@havelockevents.com
SUMMARY:Private Event
DESCRIPTION:Seminar – Main Hall
URL:https://havelockevents.com/event/private-event-4/
END:VEVENT
BEGIN:VEVENT
DTSTART;TZID=America/New_York:20190614T083000
DTEND;TZID=America/New_York:20190614T100000
DTSTAMP:20260418T223335
CREATED:20190514T150307Z
LAST-MODIFIED:20190612T194718Z
UID:796-1560501000-1560506400@havelockevents.com
SUMMARY:ECAHF BOD Meeting
DESCRIPTION:ECAHF BOD Meeting \nConference Room
URL:https://havelockevents.com/event/private-meeting-4/
LOCATION:Conference Room
END:VEVENT
BEGIN:VEVENT
DTSTART;TZID=America/New_York:20190614T180000
DTEND;TZID=America/New_York:20190614T230000
DTSTAMP:20260418T223335
CREATED:20190514T150455Z
LAST-MODIFIED:20190514T150455Z
UID:798-1560535200-1560553200@havelockevents.com
SUMMARY:Private Event
DESCRIPTION:Birthday and Graduation party – Area A
URL:https://havelockevents.com/event/private-event-5/
END:VEVENT
BEGIN:VEVENT
DTSTART;TZID=America/New_York:20190615T180000
DTEND;TZID=America/New_York:20190615T233000
DTSTAMP:20260418T223335
CREATED:20190514T150857Z
LAST-MODIFIED:20190514T150857Z
UID:800-1560621600-1560641400@havelockevents.com
SUMMARY:Private Event
DESCRIPTION:Anniversary Party – Main Hall
URL:https://havelockevents.com/event/private-event-6/
END:VEVENT
BEGIN:VEVENT
DTSTART;TZID=America/New_York:20190618T120000
DTEND;TZID=America/New_York:20190618T170000
DTSTAMP:20260418T223335
CREATED:20190514T151445Z
LAST-MODIFIED:20190514T151445Z
UID:802-1560859200-1560877200@havelockevents.com
SUMMARY:Private Event
DESCRIPTION:Partners in Education Luncheon – Main Hall and Conference Room
URL:https://havelockevents.com/event/private-event-7/
END:VEVENT
BEGIN:VEVENT
DTSTART;TZID=America/New_York:20190619T080000
DTEND;TZID=America/New_York:20190619T150000
DTSTAMP:20260418T223335
CREATED:20190514T151514Z
LAST-MODIFIED:20190514T151514Z
UID:804-1560931200-1560956400@havelockevents.com
SUMMARY:Private Event
DESCRIPTION:Partners in Education Luncheon – Main Hall and Conference Room
URL:https://havelockevents.com/event/private-event-8/
END:VEVENT
BEGIN:VEVENT
DTSTART;TZID=America/New_York:20190620T090000
DTEND;TZID=America/New_York:20190620T120000
DTSTAMP:20260418T223335
CREATED:20190514T151709Z
LAST-MODIFIED:20190514T151709Z
UID:806-1561021200-1561032000@havelockevents.com
SUMMARY:Private Meeting
DESCRIPTION:Area B and Conference Room
URL:https://havelockevents.com/event/private-meeting-5/
END:VEVENT
BEGIN:VEVENT
DTSTART;TZID=America/New_York:20190620T170000
DTEND;TZID=America/New_York:20190620T230000
DTSTAMP:20260418T223335
CREATED:20190612T175649Z
LAST-MODIFIED:20190612T175649Z
UID:883-1561050000-1561071600@havelockevents.com
SUMMARY:Private Event
DESCRIPTION:Private Banquet \nArea A
URL:https://havelockevents.com/event/private-event-27/
LOCATION:1/2 Hall
END:VEVENT
BEGIN:VEVENT
DTSTART;TZID=America/New_York:20190621T170000
DTEND;TZID=America/New_York:20190621T170000
DTSTAMP:20260418T223335
CREATED:20190514T152129Z
LAST-MODIFIED:20190529T131732Z
UID:808-1561136400-1561136400@havelockevents.com
SUMMARY:9th Annual Family Fly-In and Movie Night
DESCRIPTION:9th Annual Family Fly-In and Movie Night \nFriday\, June 21\, 2019 \nThe Eastern Carolina Aviation Heritage Foundation (ECAHF) in partnership with the City of Havelock will hold its 9th Annual “Fly-In” Movie and Family Night starting at 5:00 p.m. on Friday\, June 21\, 2019 at the Havelock Tourist and Event Center (201 Tourist Center Dr.). \nThis event will allow families in the community and surrounding areas an opportunity to enjoy a FREE family night and learn how STEM (Science\, Technology\, Engineering\, & Mathematics) education relates to aviation and the local area.  Activities include fun\, interactive\, and educational STEM demonstrations/booths\, free giveaways\, a photo opportunity with Marine Corps flight gear and concluding with a showing of a family movie* on a giant screen\, and so much more! \nECAHF’s mission is to celebrate the heritage of Marine aviation in Coastal Carolina as a lasting tribute to the evolving communities\, both military and civilian\, and extend that heritage\, culture and knowledge to generations of Americans through experiences that entertain and educate.  The event will feature interactive activities and exhibits for all ages related to STEM: weather with a meteorologist onsite\, aerodynamics\, engineering\, flight physiology\, as well as others! \nECAHF is an organization under the guidance of the City of Havelock. This free event is one of our prime opportunities to honor the men and women of our armed forces\, while promoting STEM education opportunities for young learners.
URL:https://havelockevents.com/event/9th-annual-family-fly-in-and-movie-night/
END:VEVENT
BEGIN:VEVENT
DTSTART;TZID=America/New_York:20190621T170000
DTEND;TZID=America/New_York:20190621T210000
DTSTAMP:20260418T223335
CREATED:20190612T183136Z
LAST-MODIFIED:20190612T183136Z
UID:903-1561136400-1561150800@havelockevents.com
SUMMARY:9th Annual Fly-In Movie and Family Night
DESCRIPTION:
URL:https://havelockevents.com/event/9th-annual-fly-in-movie-and-family-night/
LOCATION:Havelock Tourist & Event Center\, 201 Tourist Center Drive\, Havelock\, NC\, 28532\, United States
END:VEVENT
BEGIN:VEVENT
DTSTART;TZID=America/New_York:20190622T130000
DTEND;TZID=America/New_York:20190622T170000
DTSTAMP:20260418T223335
CREATED:20190514T152442Z
LAST-MODIFIED:20190514T152442Z
UID:810-1561208400-1561222800@havelockevents.com
SUMMARY:Private Event
DESCRIPTION:Anniversary Celebration – Area B
URL:https://havelockevents.com/event/private-event-9/
LOCATION:1/2 Hall
END:VEVENT
BEGIN:VEVENT
DTSTART;TZID=America/New_York:20190622T170000
DTEND;TZID=America/New_York:20190622T230000
DTSTAMP:20260418T223335
CREATED:20190514T152740Z
LAST-MODIFIED:20190514T152740Z
UID:812-1561222800-1561244400@havelockevents.com
SUMMARY:Private Event
DESCRIPTION:Graduation Party – Area A
URL:https://havelockevents.com/event/private-event-10/
LOCATION:1/2 Hall
END:VEVENT
BEGIN:VEVENT
DTSTART;TZID=America/New_York:20190628T073000
DTEND;TZID=America/New_York:20190628T170000
DTSTAMP:20260418T223335
CREATED:20190514T152944Z
LAST-MODIFIED:20190514T152944Z
UID:814-1561707000-1561741200@havelockevents.com
SUMMARY:Private Event
DESCRIPTION:Seminar – Conference Room
URL:https://havelockevents.com/event/private-event-11/
LOCATION:Conference Room
END:VEVENT
BEGIN:VEVENT
DTSTART;TZID=America/New_York:20190629T150000
DTEND;TZID=America/New_York:20190629T230000
DTSTAMP:20260418T223335
CREATED:20190514T153130Z
LAST-MODIFIED:20190514T153130Z
UID:816-1561820400-1561849200@havelockevents.com
SUMMARY:Private Event
DESCRIPTION:Family Reunion – Area A
URL:https://havelockevents.com/event/private-event-12/
LOCATION:1/2 Hall
END:VEVENT
BEGIN:VEVENT
DTSTART;TZID=America/New_York:20190629T173000
DTEND;TZID=America/New_York:20190629T230000
DTSTAMP:20260418T223335
CREATED:20190529T132837Z
LAST-MODIFIED:20190529T132837Z
UID:837-1561829400-1561849200@havelockevents.com
SUMMARY:Private Event
DESCRIPTION:Training Seminar \nArea B
URL:https://havelockevents.com/event/private-event-15/
END:VEVENT
END:VCALENDAR