BEGIN:VCALENDAR
VERSION:2.0
PRODID:-//Havelock Tourist &amp; Event Center - ECPv6.15.20//NONSGML v1.0//EN
CALSCALE:GREGORIAN
METHOD:PUBLISH
X-WR-CALNAME:Havelock Tourist &amp; Event Center
X-ORIGINAL-URL:https://havelockevents.com
X-WR-CALDESC:Events for Havelock Tourist &amp; Event Center
REFRESH-INTERVAL;VALUE=DURATION:PT1H
X-Robots-Tag:noindex
X-PUBLISHED-TTL:PT1H
BEGIN:VTIMEZONE
TZID:America/New_York
BEGIN:DAYLIGHT
TZOFFSETFROM:-0500
TZOFFSETTO:-0400
TZNAME:EDT
DTSTART:20180311T070000
END:DAYLIGHT
BEGIN:STANDARD
TZOFFSETFROM:-0400
TZOFFSETTO:-0500
TZNAME:EST
DTSTART:20181104T060000
END:STANDARD
BEGIN:DAYLIGHT
TZOFFSETFROM:-0500
TZOFFSETTO:-0400
TZNAME:EDT
DTSTART:20190310T070000
END:DAYLIGHT
BEGIN:STANDARD
TZOFFSETFROM:-0400
TZOFFSETTO:-0500
TZNAME:EST
DTSTART:20191103T060000
END:STANDARD
BEGIN:DAYLIGHT
TZOFFSETFROM:-0500
TZOFFSETTO:-0400
TZNAME:EDT
DTSTART:20200308T070000
END:DAYLIGHT
BEGIN:STANDARD
TZOFFSETFROM:-0400
TZOFFSETTO:-0500
TZNAME:EST
DTSTART:20201101T060000
END:STANDARD
END:VTIMEZONE
BEGIN:VEVENT
DTSTART;TZID=America/New_York:20190702T153000
DTEND;TZID=America/New_York:20190702T170000
DTSTAMP:20260418T223348
CREATED:20190514T154837Z
LAST-MODIFIED:20190514T154837Z
UID:822-1562081400-1562086800@havelockevents.com
SUMMARY:Private Event
DESCRIPTION:Private Meeting – Conference Room
URL:https://havelockevents.com/event/private-event-13/
LOCATION:Conference Room
END:VEVENT
BEGIN:VEVENT
DTSTART;TZID=America/New_York:20190703T113000
DTEND;TZID=America/New_York:20190703T130000
DTSTAMP:20260418T223348
CREATED:20190612T195757Z
LAST-MODIFIED:20190612T195839Z
UID:967-1562153400-1562158800@havelockevents.com
SUMMARY:Retirement Luncheon
DESCRIPTION:Retirement Luncheon \nArea B
URL:https://havelockevents.com/event/retirement-luncheon/
LOCATION:1/2 Hall
END:VEVENT
BEGIN:VEVENT
DTSTART;TZID=America/New_York:20190709T063000
DTEND;TZID=America/New_York:20190709T193000
DTSTAMP:20260418T223348
CREATED:20190529T134939Z
LAST-MODIFIED:20190612T193235Z
UID:843-1562653800-1562700600@havelockevents.com
SUMMARY:2nd Primary Republican
DESCRIPTION:Second Primary Election for Congressional District 3.  This election is to fill the vacancy of the seat previously held by Walter B. Jones\, Jr. \nThe July 9\, 2019 2nd Primary Election is a Republican 2nd primary\, therefore the only eligible registered voters to vote in this election are registered Republicans and registered Unaffiliated voters.  Unaffiliated registered voters who participated (VOTED) in the Republican primary in April may only vote the Republican ballot in the second primary.  However\, if an unaffiliated registered voter did not participate in the April primary\, the unaffiliated voter may participate in the second primary.  The following registered voters are not eligible to vote in the July 9\, 2019 2nd Primary: Democrat\, Libertarian\, Green\, Constitution and Unaffiliated Voters who voted Democrat or Libertarian in the April 30 Primary. Refs: NCGS 163A-989; 8 NCAC 10B.0103 \nVoting will take place in the Conference Room
URL:https://havelockevents.com/event/republican-primary-runoff/
LOCATION:Conference Room
END:VEVENT
BEGIN:VEVENT
DTSTART;TZID=America/New_York:20190712T083000
DTEND;TZID=America/New_York:20190712T100000
DTSTAMP:20260418T223348
CREATED:20190529T135038Z
LAST-MODIFIED:20190612T194813Z
UID:845-1562920200-1562925600@havelockevents.com
SUMMARY:ECAHF BOD Meeting
DESCRIPTION:ECAHF BOD Meeting \nConference Room
URL:https://havelockevents.com/event/private-meeting-7/
LOCATION:Conference Room
END:VEVENT
BEGIN:VEVENT
DTSTART;TZID=America/New_York:20190713T120000
DTEND;TZID=America/New_York:20190713T200000
DTSTAMP:20260418T223348
CREATED:20190529T135132Z
LAST-MODIFIED:20190529T135132Z
UID:847-1563019200-1563048000@havelockevents.com
SUMMARY:Private Event
DESCRIPTION:Birthday Party \nArea A
URL:https://havelockevents.com/event/private-event-17/
END:VEVENT
BEGIN:VEVENT
DTSTART;TZID=America/New_York:20190713T150000
DTEND;TZID=America/New_York:20190713T230000
DTSTAMP:20260418T223348
CREATED:20190529T135828Z
LAST-MODIFIED:20190529T135828Z
UID:849-1563030000-1563058800@havelockevents.com
SUMMARY:Private Event
DESCRIPTION:Banquet \nArea B
URL:https://havelockevents.com/event/private-event-18/
END:VEVENT
BEGIN:VEVENT
DTSTART;TZID=America/New_York:20190715T073000
DTEND;TZID=America/New_York:20190719T170000
DTSTAMP:20260418T223348
CREATED:20190529T140313Z
LAST-MODIFIED:20190529T140313Z
UID:851-1563175800-1563555600@havelockevents.com
SUMMARY:Private Event
DESCRIPTION:ECAHF Engineering Camp \nMain Hall A & B \nConference Room
URL:https://havelockevents.com/event/private-event-19/
END:VEVENT
BEGIN:VEVENT
DTSTART;TZID=America/New_York:20190719T173000
DTEND;TZID=America/New_York:20190719T230000
DTSTAMP:20260418T223348
CREATED:20190529T140800Z
LAST-MODIFIED:20190529T140800Z
UID:854-1563557400-1563577200@havelockevents.com
SUMMARY:Private Event
DESCRIPTION:Family Reunion \nArea A
URL:https://havelockevents.com/event/private-event-20/
END:VEVENT
BEGIN:VEVENT
DTSTART;TZID=America/New_York:20190720T143000
DTEND;TZID=America/New_York:20190720T233000
DTSTAMP:20260418T223348
CREATED:20190612T180035Z
LAST-MODIFIED:20190612T180035Z
UID:885-1563633000-1563665400@havelockevents.com
SUMMARY:Private Event
DESCRIPTION:Birthday Party \nArea B
URL:https://havelockevents.com/event/private-event-28/
END:VEVENT
BEGIN:VEVENT
DTSTART;TZID=America/New_York:20190720T173000
DTEND;TZID=America/New_York:20190720T230000
DTSTAMP:20260418T223348
CREATED:20190529T140837Z
LAST-MODIFIED:20190529T140837Z
UID:856-1563643800-1563663600@havelockevents.com
SUMMARY:Private Event
DESCRIPTION:Family Reunion \nArea A
URL:https://havelockevents.com/event/private-event-21/
END:VEVENT
BEGIN:VEVENT
DTSTART;TZID=America/New_York:20190727T153000
DTEND;TZID=America/New_York:20190727T230000
DTSTAMP:20260418T223348
CREATED:20190529T141129Z
LAST-MODIFIED:20190529T141129Z
UID:859-1564241400-1564268400@havelockevents.com
SUMMARY:Private Event
DESCRIPTION:Birthday Party \nArea A
URL:https://havelockevents.com/event/private-event-22/
END:VEVENT
BEGIN:VEVENT
DTSTART;TZID=America/New_York:20190727T160000
DTEND;TZID=America/New_York:20190727T230000
DTSTAMP:20260418T223348
CREATED:20190529T141218Z
LAST-MODIFIED:20190529T141218Z
UID:861-1564243200-1564268400@havelockevents.com
SUMMARY:Private Event
DESCRIPTION:Family Reunion \nArea B
URL:https://havelockevents.com/event/private-event-23/
END:VEVENT
END:VCALENDAR