BEGIN:VCALENDAR
VERSION:2.0
PRODID:-//Havelock Tourist &amp; Event Center - ECPv6.15.20//NONSGML v1.0//EN
CALSCALE:GREGORIAN
METHOD:PUBLISH
X-ORIGINAL-URL:https://havelockevents.com
X-WR-CALDESC:Events for Havelock Tourist &amp; Event Center
REFRESH-INTERVAL;VALUE=DURATION:PT1H
X-Robots-Tag:noindex
X-PUBLISHED-TTL:PT1H
BEGIN:VTIMEZONE
TZID:America/New_York
BEGIN:DAYLIGHT
TZOFFSETFROM:-0500
TZOFFSETTO:-0400
TZNAME:EDT
DTSTART:20180311T070000
END:DAYLIGHT
BEGIN:STANDARD
TZOFFSETFROM:-0400
TZOFFSETTO:-0500
TZNAME:EST
DTSTART:20181104T060000
END:STANDARD
BEGIN:DAYLIGHT
TZOFFSETFROM:-0500
TZOFFSETTO:-0400
TZNAME:EDT
DTSTART:20190310T070000
END:DAYLIGHT
BEGIN:STANDARD
TZOFFSETFROM:-0400
TZOFFSETTO:-0500
TZNAME:EST
DTSTART:20191103T060000
END:STANDARD
BEGIN:DAYLIGHT
TZOFFSETFROM:-0500
TZOFFSETTO:-0400
TZNAME:EDT
DTSTART:20200308T070000
END:DAYLIGHT
BEGIN:STANDARD
TZOFFSETFROM:-0400
TZOFFSETTO:-0500
TZNAME:EST
DTSTART:20201101T060000
END:STANDARD
END:VTIMEZONE
BEGIN:VEVENT
DTSTART;TZID=America/New_York:20190806T080000
DTEND;TZID=America/New_York:20190806T170000
DTSTAMP:20260418T233230
CREATED:20190801T135455Z
LAST-MODIFIED:20190801T135455Z
UID:980-1565078400-1565110800@havelockevents.com
SUMMARY:Corporate Meeting
DESCRIPTION:Corporate Meeting \nArea B
URL:https://havelockevents.com/event/corporate-meeting-2/
LOCATION:1/2 Hall
END:VEVENT
BEGIN:VEVENT
DTSTART;TZID=America/New_York:20190806T153000
DTEND;TZID=America/New_York:20190806T170000
DTSTAMP:20260418T233230
CREATED:20190612T194944Z
LAST-MODIFIED:20190612T194944Z
UID:959-1565105400-1565110800@havelockevents.com
SUMMARY:Private Meeting
DESCRIPTION:Private Meeting \nConference Room
URL:https://havelockevents.com/event/private-meeting-15/
LOCATION:Conference Room
END:VEVENT
BEGIN:VEVENT
DTSTART;TZID=America/New_York:20190807T070000
DTEND;TZID=America/New_York:20190808T170000
DTSTAMP:20260418T233230
CREATED:20190801T135810Z
LAST-MODIFIED:20190801T135810Z
UID:984-1565161200-1565283600@havelockevents.com
SUMMARY:Corporate Meeting
DESCRIPTION:Corporate Meeting \nArea A
URL:https://havelockevents.com/event/corporate-meeting-4/
END:VEVENT
BEGIN:VEVENT
DTSTART;TZID=America/New_York:20190807T073000
DTEND;TZID=America/New_York:20190807T170000
DTSTAMP:20260418T233230
CREATED:20190612T195047Z
LAST-MODIFIED:20190612T195047Z
UID:961-1565163000-1565197200@havelockevents.com
SUMMARY:Private Meeting
DESCRIPTION:Private meeting \nArea B
URL:https://havelockevents.com/event/private-meeting-16/
LOCATION:1/2 Hall
END:VEVENT
BEGIN:VEVENT
DTSTART;TZID=America/New_York:20190809T083000
DTEND;TZID=America/New_York:20190809T100000
DTSTAMP:20260418T233230
CREATED:20190612T195227Z
LAST-MODIFIED:20190612T195227Z
UID:963-1565339400-1565344800@havelockevents.com
SUMMARY:ECAHF BOD Meeting
DESCRIPTION:ECAHF BOD Meeting \nConference Room
URL:https://havelockevents.com/event/ecahf-bod-meeting-4/
LOCATION:Conference Room
END:VEVENT
BEGIN:VEVENT
DTSTART;TZID=America/New_York:20190810T143000
DTEND;TZID=America/New_York:20190810T230000
DTSTAMP:20260418T233230
CREATED:20190612T173818Z
LAST-MODIFIED:20190612T173818Z
UID:868-1565447400-1565478000@havelockevents.com
SUMMARY:Private Event
DESCRIPTION:Wedding Reception \nArea A and Conference Room
URL:https://havelockevents.com/event/private-event-24/
LOCATION:1/2 Hall
END:VEVENT
BEGIN:VEVENT
DTSTART;TZID=America/New_York:20190811T150000
DTEND;TZID=America/New_York:20190811T200000
DTSTAMP:20260418T233230
CREATED:20190612T173928Z
LAST-MODIFIED:20190612T173928Z
UID:870-1565535600-1565553600@havelockevents.com
SUMMARY:Private Event
DESCRIPTION:Anniversary Party \nArea A
URL:https://havelockevents.com/event/private-event-25/
LOCATION:1/2 Hall
END:VEVENT
BEGIN:VEVENT
DTSTART;TZID=America/New_York:20190813T160000
DTEND;TZID=America/New_York:20190813T220000
DTSTAMP:20260418T233230
CREATED:20190612T174807Z
LAST-MODIFIED:20190612T174807Z
UID:874-1565712000-1565733600@havelockevents.com
SUMMARY:Private Event
DESCRIPTION:Private evening social \nArea B
URL:https://havelockevents.com/event/private-event-26/
LOCATION:1/2 Hall
END:VEVENT
BEGIN:VEVENT
DTSTART;VALUE=DATE:20190814
DTEND;VALUE=DATE:20190815
DTSTAMP:20260418T233230
CREATED:20190612T174645Z
LAST-MODIFIED:20190612T174645Z
UID:872-1565740800-1565827199@havelockevents.com
SUMMARY:Veterans Hiring Event
DESCRIPTION:The NC Department of Commerce and NC4ME is hosting a hiring event in Havelock!  Preregistration deadline for candidates is July 30.
URL:https://havelockevents.com/event/nc4me-veterans-hiring-event/
LOCATION:Ballroom
END:VEVENT
BEGIN:VEVENT
DTSTART;TZID=America/New_York:20190819T080000
DTEND;TZID=America/New_York:20190823T170000
DTSTAMP:20260418T233230
CREATED:20190801T135154Z
LAST-MODIFIED:20190801T135219Z
UID:978-1566201600-1566579600@havelockevents.com
SUMMARY:Corporate Meeting
DESCRIPTION:Corporate Meeting \nArea B
URL:https://havelockevents.com/event/corporate-meeting/
LOCATION:1/2 Hall
END:VEVENT
BEGIN:VEVENT
DTSTART;TZID=America/New_York:20190828T080000
DTEND;TZID=America/New_York:20190830T170000
DTSTAMP:20260418T233230
CREATED:20190801T135547Z
LAST-MODIFIED:20190801T135547Z
UID:982-1566979200-1567184400@havelockevents.com
SUMMARY:Corporate Meeting
DESCRIPTION:Corporate Meeting \nArea B
URL:https://havelockevents.com/event/corporate-meeting-3/
END:VEVENT
BEGIN:VEVENT
DTSTART;TZID=America/New_York:20190831T180000
DTEND;TZID=America/New_York:20190831T235900
DTSTAMP:20260418T233230
CREATED:20190827T145442Z
LAST-MODIFIED:20190827T145442Z
UID:1023-1567274400-1567295940@havelockevents.com
SUMMARY:Private Event
DESCRIPTION:Private Birthday Party \nArea B
URL:https://havelockevents.com/event/private-event-44/
LOCATION:1/2 Hall
END:VEVENT
END:VCALENDAR