BEGIN:VCALENDAR
VERSION:2.0
PRODID:-//Havelock Tourist &amp; Event Center - ECPv6.15.20//NONSGML v1.0//EN
CALSCALE:GREGORIAN
METHOD:PUBLISH
X-ORIGINAL-URL:https://havelockevents.com
X-WR-CALDESC:Events for Havelock Tourist &amp; Event Center
REFRESH-INTERVAL;VALUE=DURATION:PT1H
X-Robots-Tag:noindex
X-PUBLISHED-TTL:PT1H
BEGIN:VTIMEZONE
TZID:America/New_York
BEGIN:DAYLIGHT
TZOFFSETFROM:-0500
TZOFFSETTO:-0400
TZNAME:EDT
DTSTART:20180311T070000
END:DAYLIGHT
BEGIN:STANDARD
TZOFFSETFROM:-0400
TZOFFSETTO:-0500
TZNAME:EST
DTSTART:20181104T060000
END:STANDARD
BEGIN:DAYLIGHT
TZOFFSETFROM:-0500
TZOFFSETTO:-0400
TZNAME:EDT
DTSTART:20190310T070000
END:DAYLIGHT
BEGIN:STANDARD
TZOFFSETFROM:-0400
TZOFFSETTO:-0500
TZNAME:EST
DTSTART:20191103T060000
END:STANDARD
BEGIN:DAYLIGHT
TZOFFSETFROM:-0500
TZOFFSETTO:-0400
TZNAME:EDT
DTSTART:20200308T070000
END:DAYLIGHT
BEGIN:STANDARD
TZOFFSETFROM:-0400
TZOFFSETTO:-0500
TZNAME:EST
DTSTART:20201101T060000
END:STANDARD
END:VTIMEZONE
BEGIN:VEVENT
DTSTART;TZID=America/New_York:20190903T153000
DTEND;TZID=America/New_York:20190903T170000
DTSTAMP:20260418T233242
CREATED:20190612T180353Z
LAST-MODIFIED:20190612T180353Z
UID:892-1567524600-1567530000@havelockevents.com
SUMMARY:Private Meeting
DESCRIPTION:Private Meeting \nConference Room
URL:https://havelockevents.com/event/private-meeting-8/
LOCATION:Conference Room
END:VEVENT
BEGIN:VEVENT
DTSTART;TZID=America/New_York:20190904T073000
DTEND;TZID=America/New_York:20190904T170000
DTSTAMP:20260418T233242
CREATED:20190827T145609Z
LAST-MODIFIED:20190827T145609Z
UID:1025-1567582200-1567616400@havelockevents.com
SUMMARY:Corporate Training
DESCRIPTION:CCA Training \nArea A
URL:https://havelockevents.com/event/corporate-training/
LOCATION:1/2 Hall
END:VEVENT
BEGIN:VEVENT
DTSTART;TZID=America/New_York:20190906T073000
DTEND;TZID=America/New_York:20190906T163000
DTSTAMP:20260418T233242
CREATED:20190827T145742Z
LAST-MODIFIED:20190827T145742Z
UID:1027-1567755000-1567787400@havelockevents.com
SUMMARY:Corporate Conference
DESCRIPTION:Corporate Conference \nArea A & B
URL:https://havelockevents.com/event/corporate-conference/
LOCATION:Ballroom
END:VEVENT
BEGIN:VEVENT
DTSTART;TZID=America/New_York:20190909T073000
DTEND;TZID=America/New_York:20190909T170000
DTSTAMP:20260418T233242
CREATED:20190612T180513Z
LAST-MODIFIED:20190612T180513Z
UID:894-1568014200-1568048400@havelockevents.com
SUMMARY:Private meeting
DESCRIPTION:Private Meeting \nConference Room
URL:https://havelockevents.com/event/private-meeting-9/
END:VEVENT
BEGIN:VEVENT
DTSTART;TZID=America/New_York:20190910T063000
DTEND;TZID=America/New_York:20190910T193000
DTSTAMP:20260418T233242
CREATED:20190612T181251Z
LAST-MODIFIED:20190612T192759Z
UID:896-1568097000-1568143800@havelockevents.com
SUMMARY:General Election
DESCRIPTION:General election to fill the vacancy of the seat previously held by Walter B. Jones\, Jr. \nVoting will take place in the Conference Room
URL:https://havelockevents.com/event/general-election/
END:VEVENT
BEGIN:VEVENT
DTSTART;TZID=America/New_York:20190911T073000
DTEND;TZID=America/New_York:20190911T100000
DTSTAMP:20260418T233242
CREATED:20190827T151136Z
LAST-MODIFIED:20190827T151136Z
UID:1030-1568187000-1568196000@havelockevents.com
SUMMARY:Corporate Meeting
DESCRIPTION:TDA Meeting \nConference Room
URL:https://havelockevents.com/event/corporate-meeting-5/
LOCATION:Conference Room
END:VEVENT
BEGIN:VEVENT
DTSTART;TZID=America/New_York:20190912T150000
DTEND;TZID=America/New_York:20190912T170000
DTSTAMP:20260418T233242
CREATED:20190827T151218Z
LAST-MODIFIED:20190827T151218Z
UID:1032-1568300400-1568307600@havelockevents.com
SUMMARY:Corporate Meeting
DESCRIPTION:ACT Meeting \nConference Room
URL:https://havelockevents.com/event/corporate-meeting-6/
LOCATION:Conference Room
END:VEVENT
BEGIN:VEVENT
DTSTART;TZID=America/New_York:20190913T073000
DTEND;TZID=America/New_York:20190913T170000
DTSTAMP:20260418T233242
CREATED:20190612T181928Z
LAST-MODIFIED:20190612T181928Z
UID:898-1568359800-1568394000@havelockevents.com
SUMMARY:Private Event
DESCRIPTION:Private Event \nAreas A & B
URL:https://havelockevents.com/event/private-event-31/
END:VEVENT
BEGIN:VEVENT
DTSTART;TZID=America/New_York:20190913T083000
DTEND;TZID=America/New_York:20190913T100000
DTSTAMP:20260418T233242
CREATED:20190612T195431Z
LAST-MODIFIED:20190612T195431Z
UID:965-1568363400-1568368800@havelockevents.com
SUMMARY:ECAHF BOD Meeting
DESCRIPTION:ECAHF BOD Meeting \nConference Room
URL:https://havelockevents.com/event/ecahf-bod-meeting-5/
LOCATION:Conference Room
END:VEVENT
BEGIN:VEVENT
DTSTART;TZID=America/New_York:20190914T073000
DTEND;TZID=America/New_York:20190914T170000
DTSTAMP:20260418T233242
CREATED:20190612T182006Z
LAST-MODIFIED:20190612T182006Z
UID:900-1568446200-1568480400@havelockevents.com
SUMMARY:Zumbathon
DESCRIPTION:Zumbathon \nAreas A & B
URL:https://havelockevents.com/event/zumbathon/
END:VEVENT
BEGIN:VEVENT
DTSTART;TZID=America/New_York:20190916T170000
DTEND;TZID=America/New_York:20190916T230000
DTSTAMP:20260418T233242
CREATED:20190801T143000Z
LAST-MODIFIED:20190801T143000Z
UID:994-1568653200-1568674800@havelockevents.com
SUMMARY:Private Event
DESCRIPTION:Private Event \nArea A&B
URL:https://havelockevents.com/event/private-event-43/
END:VEVENT
BEGIN:VEVENT
DTSTART;TZID=America/New_York:20190917T170000
DTEND;TZID=America/New_York:20190917T210000
DTSTAMP:20260418T233242
CREATED:20190612T182816Z
LAST-MODIFIED:20190612T182816Z
UID:902-1568739600-1568754000@havelockevents.com
SUMMARY:ECAHF Fall Partnership & Member Appreciation
DESCRIPTION:Mark Your Calendars for September 17\, 2019!\nFall Partnership & Membership Appreciation Night \nMembers and Partners will have an opportunity to experience various summer camp activities and taste specialty items from Eastern NC. \nThe Eastern Carolina Aviation Heritage Foundation celebrates the evolution of aviation in Coastal Carolina and the essence of the American spirit that has grown from the symbiotic partnership of the military and civilian communities that have shaped it. \nCoastal North Carolina is the cradle of aviation worldwide. Starting at the roots of manned flight\nat Kitty Hawk\, through the evolution of Marine Corps aviation\, the relationship between the military and coastal Carolina communities has created a protector of freedom\, as well as\, thriving social\nand economic growth. \nThe Eastern Carolina Aviation Heritage Foundation offers an opportunity to experience the heritage\, culture\, and sense of community and patriotism that grows from shared experiences that bond people of different backgrounds and histories. Interactive experiences and immersive environments of aircraft\, aircraft related equipment\, and the irreplaceable human elements that make possible air support for the ground warrior showcase the lessons of the past and make Marine aviation history come alive. \nMore details coming soon!
URL:https://havelockevents.com/event/ecahf-fall-partnership-member-appreciation/
LOCATION:Ballroom
END:VEVENT
BEGIN:VEVENT
DTSTART;TZID=America/New_York:20190919T133000
DTEND;TZID=America/New_York:20190919T153000
DTSTAMP:20260418T233242
CREATED:20190827T151404Z
LAST-MODIFIED:20190827T151404Z
UID:1034-1568899800-1568907000@havelockevents.com
SUMMARY:Hwy 70 Corridor Meeting
DESCRIPTION:Highway 70 Corridor Meeting \nArea B
URL:https://havelockevents.com/event/hwy-70-corridor-meeting/
LOCATION:1/2 Hall
END:VEVENT
BEGIN:VEVENT
DTSTART;TZID=America/New_York:20190924T173000
DTEND;TZID=America/New_York:20190924T190000
DTSTAMP:20260418T233242
CREATED:20190827T151510Z
LAST-MODIFIED:20190827T151510Z
UID:1036-1569346200-1569351600@havelockevents.com
SUMMARY:Corporate Meeting
DESCRIPTION:TEC Staff Meeting \nConference Room
URL:https://havelockevents.com/event/corporate-meeting-7/
LOCATION:Conference Room
END:VEVENT
BEGIN:VEVENT
DTSTART;TZID=America/New_York:20190925T073000
DTEND;TZID=America/New_York:20190925T103000
DTSTAMP:20260418T233242
CREATED:20190827T151640Z
LAST-MODIFIED:20190827T151640Z
UID:1038-1569396600-1569407400@havelockevents.com
SUMMARY:Corporate Meeting
DESCRIPTION:Corporate Meeting \nConference Room
URL:https://havelockevents.com/event/corporate-meeting-8/
LOCATION:Conference Room
END:VEVENT
BEGIN:VEVENT
DTSTART;TZID=America/New_York:20190926T113000
DTEND;TZID=America/New_York:20190926T140000
DTSTAMP:20260418T233242
CREATED:20190827T151750Z
LAST-MODIFIED:20190827T151750Z
UID:1040-1569497400-1569506400@havelockevents.com
SUMMARY:Corporate Event
DESCRIPTION:Corporate Event \nConference Room
URL:https://havelockevents.com/event/corporate-event/
LOCATION:Conference Room
END:VEVENT
END:VCALENDAR