BEGIN:VCALENDAR
VERSION:2.0
PRODID:-//Havelock Tourist &amp; Event Center - ECPv6.15.20//NONSGML v1.0//EN
CALSCALE:GREGORIAN
METHOD:PUBLISH
X-WR-CALNAME:Havelock Tourist &amp; Event Center
X-ORIGINAL-URL:https://havelockevents.com
X-WR-CALDESC:Events for Havelock Tourist &amp; Event Center
REFRESH-INTERVAL;VALUE=DURATION:PT1H
X-Robots-Tag:noindex
X-PUBLISHED-TTL:PT1H
BEGIN:VTIMEZONE
TZID:America/New_York
BEGIN:DAYLIGHT
TZOFFSETFROM:-0500
TZOFFSETTO:-0400
TZNAME:EDT
DTSTART:20180311T070000
END:DAYLIGHT
BEGIN:STANDARD
TZOFFSETFROM:-0400
TZOFFSETTO:-0500
TZNAME:EST
DTSTART:20181104T060000
END:STANDARD
BEGIN:DAYLIGHT
TZOFFSETFROM:-0500
TZOFFSETTO:-0400
TZNAME:EDT
DTSTART:20190310T070000
END:DAYLIGHT
BEGIN:STANDARD
TZOFFSETFROM:-0400
TZOFFSETTO:-0500
TZNAME:EST
DTSTART:20191103T060000
END:STANDARD
BEGIN:DAYLIGHT
TZOFFSETFROM:-0500
TZOFFSETTO:-0400
TZNAME:EDT
DTSTART:20200308T070000
END:DAYLIGHT
BEGIN:STANDARD
TZOFFSETFROM:-0400
TZOFFSETTO:-0500
TZNAME:EST
DTSTART:20201101T060000
END:STANDARD
END:VTIMEZONE
BEGIN:VEVENT
DTSTART;TZID=America/New_York:20191001T153000
DTEND;TZID=America/New_York:20191001T170000
DTSTAMP:20260418T220630
CREATED:20190612T183015Z
LAST-MODIFIED:20190612T200011Z
UID:905-1569943800-1569949200@havelockevents.com
SUMMARY:Private Meeting
DESCRIPTION:Private Meeting \nConference Room
URL:https://havelockevents.com/event/privatemeeting/
LOCATION:Conference Room
END:VEVENT
BEGIN:VEVENT
DTSTART;TZID=America/New_York:20191002T123000
DTEND;TZID=America/New_York:20191002T180000
DTSTAMP:20260418T220630
CREATED:20190612T183131Z
LAST-MODIFIED:20190612T183131Z
UID:908-1570019400-1570039200@havelockevents.com
SUMMARY:Private Meeting
DESCRIPTION:Private meeting \nAreas A & B
URL:https://havelockevents.com/event/private-meeting-10/
END:VEVENT
BEGIN:VEVENT
DTSTART;TZID=America/New_York:20191011T083000
DTEND;TZID=America/New_York:20191011T100000
DTSTAMP:20260418T220630
CREATED:20190612T185110Z
LAST-MODIFIED:20190612T185110Z
UID:914-1570782600-1570788000@havelockevents.com
SUMMARY:Private Meeting
DESCRIPTION:ECAHF BOD Meeting \nConference Room
URL:https://havelockevents.com/event/private-meeting-11/
LOCATION:Conference Room
END:VEVENT
BEGIN:VEVENT
DTSTART;TZID=America/New_York:20191012T133000
DTEND;TZID=America/New_York:20191012T233000
DTSTAMP:20260418T220630
CREATED:20190612T185226Z
LAST-MODIFIED:20190612T185226Z
UID:916-1570887000-1570923000@havelockevents.com
SUMMARY:Private Event
DESCRIPTION:Wedding Reception \nArea A
URL:https://havelockevents.com/event/private-event-34/
END:VEVENT
BEGIN:VEVENT
DTSTART;TZID=America/New_York:20191018T073000
DTEND;TZID=America/New_York:20191018T170000
DTSTAMP:20260418T220630
CREATED:20190612T185303Z
LAST-MODIFIED:20190612T185303Z
UID:918-1571383800-1571418000@havelockevents.com
SUMMARY:Private Seminar
DESCRIPTION:Private Seminar \nConference Room
URL:https://havelockevents.com/event/private-seminar/
END:VEVENT
BEGIN:VEVENT
DTSTART;TZID=America/New_York:20191019T190000
DTEND;TZID=America/New_York:20191019T230000
DTSTAMP:20260418T220630
CREATED:20190612T190637Z
LAST-MODIFIED:20190612T190637Z
UID:920-1571511600-1571526000@havelockevents.com
SUMMARY:Veterans Ball
DESCRIPTION:Craven County Veterans Ball \nFor tickets or more information\, contact: Veterans Challenge Director\, Debby Young Guthrie at veteranschallenge@gmail.com (subject: Ball)\, call or text (252) 268-4785 or (252) 933-3540 or through their FaceBook page. \nThe mission of Veterans Challenge is to advocate and promote the general welfare and prosperity of U.S. military veterans by providing training\, assistance and referrals for vets and immediate family members. This endeavor is inclusive of mental health assistance for PTSD (post-traumatic stress disorder)\, TBI (traumatic brain injury)\, marital and family counseling\, substance abuse\, DWI assessments\, veteran incarcerations and recidivism\, medical referral\, and suicide prevention. It also includes pension and disability-filing\, foreclosure prevention\, employment\, housing opportunities\, dependent scholarship\, access to benefits\, business ownership\, education\, athletic\, and talent referrals\, and community enhancement.
URL:https://havelockevents.com/event/veteransball/
END:VEVENT
BEGIN:VEVENT
DTSTART;TZID=America/New_York:20191021T170000
DTEND;TZID=America/New_York:20191021T235900
DTSTAMP:20260418T220630
CREATED:20191021T150411Z
LAST-MODIFIED:20191021T150411Z
UID:1109-1571677200-1571702340@havelockevents.com
SUMMARY:Private Event
DESCRIPTION:Private Event \nMain Hall \n 
URL:https://havelockevents.com/event/private-event-52/
LOCATION:Ballroom
END:VEVENT
BEGIN:VEVENT
DTSTART;VALUE=DATE:20191023
DTEND;VALUE=DATE:20191025
DTSTAMP:20260418T220630
CREATED:20190828T145500Z
LAST-MODIFIED:20190828T145500Z
UID:1100-1571788800-1571961599@havelockevents.com
SUMMARY:Corporate Meeting
DESCRIPTION:Corporate Meeting \nArea A
URL:https://havelockevents.com/event/corporate-meeting-17/
LOCATION:1/2 Hall
END:VEVENT
BEGIN:VEVENT
DTSTART;TZID=America/New_York:20191023T073000
DTEND;TZID=America/New_York:20191023T100000
DTSTAMP:20260418T220630
CREATED:20190827T152635Z
LAST-MODIFIED:20190827T152635Z
UID:1044-1571815800-1571824800@havelockevents.com
SUMMARY:Corporate Meeting
DESCRIPTION:Corporate Meeting \nConference Room
URL:https://havelockevents.com/event/corporate-meeting-9/
LOCATION:Conference Room
END:VEVENT
BEGIN:VEVENT
DTSTART;TZID=America/New_York:20191025T170000
DTEND;TZID=America/New_York:20191025T235900
DTSTAMP:20260418T220630
CREATED:20190612T190905Z
LAST-MODIFIED:20190612T190905Z
UID:922-1572022800-1572047940@havelockevents.com
SUMMARY:Private Event
DESCRIPTION:Private Banquet \nAreas A & B
URL:https://havelockevents.com/event/private-event-35/
LOCATION:Ballroom
END:VEVENT
BEGIN:VEVENT
DTSTART;TZID=America/New_York:20191026T170000
DTEND;TZID=America/New_York:20191026T235900
DTSTAMP:20260418T220630
CREATED:20190612T190954Z
LAST-MODIFIED:20190612T190954Z
UID:924-1572109200-1572134340@havelockevents.com
SUMMARY:Private Event
DESCRIPTION:Private Banquet \nAreas A & B
URL:https://havelockevents.com/event/private-event-36/
END:VEVENT
BEGIN:VEVENT
DTSTART;TZID=America/New_York:20191031T113000
DTEND;TZID=America/New_York:20191031T140000
DTSTAMP:20260418T220630
CREATED:20190827T152501Z
LAST-MODIFIED:20190827T152501Z
UID:1042-1572521400-1572530400@havelockevents.com
SUMMARY:Private Event
DESCRIPTION:Private Event \nArea B
URL:https://havelockevents.com/event/private-event-16/
LOCATION:1/2 Hall
END:VEVENT
END:VCALENDAR