BEGIN:VCALENDAR
VERSION:2.0
PRODID:-//Havelock Tourist &amp; Event Center - ECPv6.15.20//NONSGML v1.0//EN
CALSCALE:GREGORIAN
METHOD:PUBLISH
X-WR-CALNAME:Havelock Tourist &amp; Event Center
X-ORIGINAL-URL:https://havelockevents.com
X-WR-CALDESC:Events for Havelock Tourist &amp; Event Center
REFRESH-INTERVAL;VALUE=DURATION:PT1H
X-Robots-Tag:noindex
X-PUBLISHED-TTL:PT1H
BEGIN:VTIMEZONE
TZID:America/New_York
BEGIN:DAYLIGHT
TZOFFSETFROM:-0500
TZOFFSETTO:-0400
TZNAME:EDT
DTSTART:20180311T070000
END:DAYLIGHT
BEGIN:STANDARD
TZOFFSETFROM:-0400
TZOFFSETTO:-0500
TZNAME:EST
DTSTART:20181104T060000
END:STANDARD
BEGIN:DAYLIGHT
TZOFFSETFROM:-0500
TZOFFSETTO:-0400
TZNAME:EDT
DTSTART:20190310T070000
END:DAYLIGHT
BEGIN:STANDARD
TZOFFSETFROM:-0400
TZOFFSETTO:-0500
TZNAME:EST
DTSTART:20191103T060000
END:STANDARD
BEGIN:DAYLIGHT
TZOFFSETFROM:-0500
TZOFFSETTO:-0400
TZNAME:EDT
DTSTART:20200308T070000
END:DAYLIGHT
BEGIN:STANDARD
TZOFFSETFROM:-0400
TZOFFSETTO:-0500
TZNAME:EST
DTSTART:20201101T060000
END:STANDARD
END:VTIMEZONE
BEGIN:VEVENT
DTSTART;TZID=America/New_York:20191203T153000
DTEND;TZID=America/New_York:20191203T170000
DTSTAMP:20260418T223322
CREATED:20190612T193852Z
LAST-MODIFIED:20190612T193852Z
UID:946-1575387000-1575392400@havelockevents.com
SUMMARY:Private Meeting
DESCRIPTION:Private Meeting \nConference Room
URL:https://havelockevents.com/event/private-meeting-14/
LOCATION:Conference Room
END:VEVENT
BEGIN:VEVENT
DTSTART;TZID=America/New_York:20191207T153000
DTEND;TZID=America/New_York:20191207T233000
DTSTAMP:20260418T223322
CREATED:20191021T145854Z
LAST-MODIFIED:20191021T145854Z
UID:1105-1575732600-1575761400@havelockevents.com
SUMMARY:Private Event
DESCRIPTION:Birthday Party \nArea A
URL:https://havelockevents.com/event/private-event-50/
LOCATION:1/2 Hall
END:VEVENT
BEGIN:VEVENT
DTSTART;TZID=America/New_York:20191207T180000
DTEND;TZID=America/New_York:20191207T235900
DTSTAMP:20260418T223322
CREATED:20190612T193953Z
LAST-MODIFIED:20190612T193953Z
UID:948-1575741600-1575763140@havelockevents.com
SUMMARY:Private Event
DESCRIPTION:Private Christmas Party \nArea B
URL:https://havelockevents.com/event/private-event-40/
LOCATION:1/2 Hall
END:VEVENT
BEGIN:VEVENT
DTSTART;TZID=America/New_York:20191209T073000
DTEND;TZID=America/New_York:20191209T170000
DTSTAMP:20260418T223322
CREATED:20191021T150111Z
LAST-MODIFIED:20191021T150111Z
UID:1107-1575876600-1575910800@havelockevents.com
SUMMARY:Private Event
DESCRIPTION:Christmas and Retirement Party \nArea B
URL:https://havelockevents.com/event/private-event-51/
END:VEVENT
BEGIN:VEVENT
DTSTART;TZID=America/New_York:20191212T150000
DTEND;TZID=America/New_York:20191212T170000
DTSTAMP:20260418T223322
CREATED:20190827T153102Z
LAST-MODIFIED:20190827T153102Z
UID:1051-1576162800-1576170000@havelockevents.com
SUMMARY:Corporate Meeting
DESCRIPTION:ACT Meeting \nConference Room
URL:https://havelockevents.com/event/corporate-meeting-11/
END:VEVENT
BEGIN:VEVENT
DTSTART;TZID=America/New_York:20191213T083000
DTEND;TZID=America/New_York:20191213T100000
DTSTAMP:20260418T223322
CREATED:20190612T194100Z
LAST-MODIFIED:20190612T194100Z
UID:950-1576225800-1576231200@havelockevents.com
SUMMARY:ECAHF BOD Meeting
DESCRIPTION:ECAHF BOD Meeting \nConference Room \n 
URL:https://havelockevents.com/event/ecahf-bod-meeting-3/
END:VEVENT
BEGIN:VEVENT
DTSTART;TZID=America/New_York:20191214T140000
DTEND;TZID=America/New_York:20191214T210000
DTSTAMP:20260418T223322
CREATED:20190612T194145Z
LAST-MODIFIED:20190612T194145Z
UID:952-1576332000-1576357200@havelockevents.com
SUMMARY:Private Event
DESCRIPTION:Private Event \nArea B
URL:https://havelockevents.com/event/private-event-41/
END:VEVENT
BEGIN:VEVENT
DTSTART;VALUE=DATE:20191217
DTEND;VALUE=DATE:20191218
DTSTAMP:20260418T223322
CREATED:20190827T153212Z
LAST-MODIFIED:20190827T153212Z
UID:1053-1576540800-1576627199@havelockevents.com
SUMMARY:Corporate Meeting
DESCRIPTION:Corporate Meeting \nArea B
URL:https://havelockevents.com/event/corporate-meeting-12/
LOCATION:1/4 of Hall\, 201 Tourist Center Dr\, Havelock\, NC\, 28557\, United States
END:VEVENT
BEGIN:VEVENT
DTSTART;VALUE=DATE:20191218
DTEND;VALUE=DATE:20191219
DTSTAMP:20260418T223322
CREATED:20190827T153308Z
LAST-MODIFIED:20190827T153308Z
UID:1055-1576627200-1576713599@havelockevents.com
SUMMARY:Corporate Meeting
DESCRIPTION:Corporate Meeting \nArea B
URL:https://havelockevents.com/event/corporate-meeting-13/
LOCATION:1/4 of Hall\, 201 Tourist Center Dr\, Havelock\, NC\, 28557\, United States
END:VEVENT
BEGIN:VEVENT
DTSTART;VALUE=DATE:20191219
DTEND;VALUE=DATE:20191220
DTSTAMP:20260418T223322
CREATED:20190827T153349Z
LAST-MODIFIED:20190827T153349Z
UID:1057-1576713600-1576799999@havelockevents.com
SUMMARY:Corporate Meeting
DESCRIPTION:Corporate Meeting \nArea B
URL:https://havelockevents.com/event/corporate-meeting-14/
LOCATION:1/4 of Hall\, 201 Tourist Center Dr\, Havelock\, NC\, 28557\, United States
END:VEVENT
BEGIN:VEVENT
DTSTART;TZID=America/New_York:20191220T080000
DTEND;TZID=America/New_York:20191220T170000
DTSTAMP:20260418T223322
CREATED:20190801T150022Z
LAST-MODIFIED:20190801T150022Z
UID:1002-1576828800-1576861200@havelockevents.com
SUMMARY:Private Event
DESCRIPTION:Private Event \nArea A & B
URL:https://havelockevents.com/event/private-event-33/
END:VEVENT
BEGIN:VEVENT
DTSTART;TZID=America/New_York:20191223T073000
DTEND;TZID=America/New_York:20191223T170000
DTSTAMP:20260418T223322
CREATED:20190827T153516Z
LAST-MODIFIED:20190827T153516Z
UID:1059-1577086200-1577120400@havelockevents.com
SUMMARY:Private Event
DESCRIPTION:Private Event \nArea A & B
URL:https://havelockevents.com/event/private-event-30/
LOCATION:Ballroom
END:VEVENT
BEGIN:VEVENT
DTSTART;TZID=America/New_York:20191228T160000
DTEND;TZID=America/New_York:20191228T235900
DTSTAMP:20260418T223322
CREATED:20190612T194315Z
LAST-MODIFIED:20190612T194315Z
UID:954-1577548800-1577577540@havelockevents.com
SUMMARY:Private Event
DESCRIPTION:Family Reunion \nArea A
URL:https://havelockevents.com/event/private-event-42/
LOCATION:1/2 Hall
END:VEVENT
END:VCALENDAR