BEGIN:VCALENDAR
VERSION:2.0
PRODID:-//Havelock Tourist &amp; Event Center - ECPv6.15.20//NONSGML v1.0//EN
CALSCALE:GREGORIAN
METHOD:PUBLISH
X-WR-CALNAME:Havelock Tourist &amp; Event Center
X-ORIGINAL-URL:https://havelockevents.com
X-WR-CALDESC:Events for Havelock Tourist &amp; Event Center
REFRESH-INTERVAL;VALUE=DURATION:PT1H
X-Robots-Tag:noindex
X-PUBLISHED-TTL:PT1H
BEGIN:VTIMEZONE
TZID:America/New_York
BEGIN:DAYLIGHT
TZOFFSETFROM:-0500
TZOFFSETTO:-0400
TZNAME:EDT
DTSTART:20190310T070000
END:DAYLIGHT
BEGIN:STANDARD
TZOFFSETFROM:-0400
TZOFFSETTO:-0500
TZNAME:EST
DTSTART:20191103T060000
END:STANDARD
BEGIN:DAYLIGHT
TZOFFSETFROM:-0500
TZOFFSETTO:-0400
TZNAME:EDT
DTSTART:20200308T070000
END:DAYLIGHT
BEGIN:STANDARD
TZOFFSETFROM:-0400
TZOFFSETTO:-0500
TZNAME:EST
DTSTART:20201101T060000
END:STANDARD
BEGIN:DAYLIGHT
TZOFFSETFROM:-0500
TZOFFSETTO:-0400
TZNAME:EDT
DTSTART:20210314T070000
END:DAYLIGHT
BEGIN:STANDARD
TZOFFSETFROM:-0400
TZOFFSETTO:-0500
TZNAME:EST
DTSTART:20211107T060000
END:STANDARD
END:VTIMEZONE
BEGIN:VEVENT
DTSTART;VALUE=DATE:20200702
DTEND;VALUE=DATE:20201017
DTSTAMP:20260418T224125
CREATED:20200812T204450Z
LAST-MODIFIED:20200812T204450Z
UID:1623-1593648000-1602892799@havelockevents.com
SUMMARY:All Events Cancelled Due to COVID-19
DESCRIPTION:All Events Cancelled Due to COVID-19
URL:https://havelockevents.com/event/all-events-cancelled-due-to-covid-19-3/
END:VEVENT
BEGIN:VEVENT
DTSTART;TZID=America/New_York:20200901T153000
DTEND;TZID=America/New_York:20200901T170000
DTSTAMP:20260418T224125
CREATED:20200320T195829Z
LAST-MODIFIED:20200320T195829Z
UID:1392-1598974200-1598979600@havelockevents.com
SUMMARY:Meeting
DESCRIPTION:ECAHF Dev Com Meeting
URL:https://havelockevents.com/event/meeting-17/
LOCATION:Conference Room
END:VEVENT
BEGIN:VEVENT
DTSTART;TZID=America/New_York:20200906T100000
DTEND;TZID=America/New_York:20200906T120000
DTSTAMP:20260418T224125
CREATED:20200323T131845Z
LAST-MODIFIED:20200323T131845Z
UID:1416-1599386400-1599393600@havelockevents.com
SUMMARY:One Harbor Church
DESCRIPTION:Sundays at 10:00 am
URL:https://havelockevents.com/event/one-harbor-church-16/
LOCATION:Havelock Tourist & Event Center\, 201 Tourist Center Drive\, Havelock\, NC\, 28532\, United States
END:VEVENT
BEGIN:VEVENT
DTSTART;TZID=America/New_York:20200911T083000
DTEND;TZID=America/New_York:20200911T100000
DTSTAMP:20260418T224125
CREATED:20200323T142625Z
LAST-MODIFIED:20200323T142625Z
UID:1466-1599813000-1599818400@havelockevents.com
SUMMARY:Meeting
DESCRIPTION:ECAHF BOD Meeting
URL:https://havelockevents.com/event/meeting-20/
LOCATION:Conference Room
END:VEVENT
BEGIN:VEVENT
DTSTART;TZID=America/New_York:20200913T100000
DTEND;TZID=America/New_York:20200913T120000
DTSTAMP:20260418T224125
CREATED:20200323T131958Z
LAST-MODIFIED:20200323T131958Z
UID:1418-1599991200-1599998400@havelockevents.com
SUMMARY:One Harbor Church
DESCRIPTION:Sundays at 10:00 am
URL:https://havelockevents.com/event/one-harbor-church-29/
LOCATION:Havelock Tourist & Event Center\, 201 Tourist Center Drive\, Havelock\, NC\, 28532\, United States
END:VEVENT
BEGIN:VEVENT
DTSTART;VALUE=DATE:20200917
DTEND;VALUE=DATE:20200918
DTSTAMP:20260418T224125
CREATED:20200320T130844Z
LAST-MODIFIED:20200320T130844Z
UID:1335-1600300800-1600387199@havelockevents.com
SUMMARY:Private Event
DESCRIPTION:Private Event \nThursday\, September 17\, 2020 \n3:00 pm to 11:00 pm \nArea A & B
URL:https://havelockevents.com/event/private-event-80/
LOCATION:Ballroom
END:VEVENT
BEGIN:VEVENT
DTSTART;TZID=America/New_York:20200920T100000
DTEND;TZID=America/New_York:20200920T120000
DTSTAMP:20260418T224125
CREATED:20200323T132046Z
LAST-MODIFIED:20200323T132046Z
UID:1420-1600596000-1600603200@havelockevents.com
SUMMARY:One Harbor Church
DESCRIPTION:Sundays at 10:00 am
URL:https://havelockevents.com/event/one-harbor-church-30/
LOCATION:Havelock Tourist & Event Center\, 201 Tourist Center Drive\, Havelock\, NC\, 28532\, United States
END:VEVENT
BEGIN:VEVENT
DTSTART;TZID=America/New_York:20200923T073000
DTEND;TZID=America/New_York:20200923T100000
DTSTAMP:20260418T224125
CREATED:20200320T200810Z
LAST-MODIFIED:20200320T200810Z
UID:1396-1600846200-1600855200@havelockevents.com
SUMMARY:Meeting
DESCRIPTION:Chamber of Commerce BOD Meeting
URL:https://havelockevents.com/event/meeting-19/
LOCATION:Conference Room
END:VEVENT
BEGIN:VEVENT
DTSTART;TZID=America/New_York:20200923T073000
DTEND;TZID=America/New_York:20200923T100000
DTSTAMP:20260418T224125
CREATED:20200323T142810Z
LAST-MODIFIED:20200323T142810Z
UID:1468-1600846200-1600855200@havelockevents.com
SUMMARY:Meeting
DESCRIPTION:Chamber of Commerce BOD Meeting
URL:https://havelockevents.com/event/meeting-21/
LOCATION:Conference Room
END:VEVENT
BEGIN:VEVENT
DTSTART;VALUE=DATE:20200925
DTEND;VALUE=DATE:20200927
DTSTAMP:20260418T224125
CREATED:20200320T131413Z
LAST-MODIFIED:20200709T135030Z
UID:1337-1600992000-1601164799@havelockevents.com
SUMMARY:Event cancelled due to COVID-19
DESCRIPTION:Private Event \nFriday\, September 25\, 2020 8:00 pm to 1:00 am \nSaturday\, September 26\, 2020 5:00 pm to 1:00 am \nArea A
URL:https://havelockevents.com/event/private-event-81/
LOCATION:1/2 Hall
END:VEVENT
BEGIN:VEVENT
DTSTART;TZID=America/New_York:20200927T100000
DTEND;TZID=America/New_York:20200927T120000
DTSTAMP:20260418T224125
CREATED:20200323T132141Z
LAST-MODIFIED:20200323T132141Z
UID:1422-1601200800-1601208000@havelockevents.com
SUMMARY:One Harbor Church
DESCRIPTION:Sundays at 10:00 am
URL:https://havelockevents.com/event/one-harbor-church-31/
LOCATION:Havelock Tourist & Event Center\, 201 Tourist Center Drive\, Havelock\, NC\, 28532\, United States
END:VEVENT
END:VCALENDAR