BEGIN:VCALENDAR
VERSION:2.0
PRODID:-//Havelock Tourist &amp; Event Center - ECPv6.15.20//NONSGML v1.0//EN
CALSCALE:GREGORIAN
METHOD:PUBLISH
X-ORIGINAL-URL:https://havelockevents.com
X-WR-CALDESC:Events for Havelock Tourist &amp; Event Center
REFRESH-INTERVAL;VALUE=DURATION:PT1H
X-Robots-Tag:noindex
X-PUBLISHED-TTL:PT1H
BEGIN:VTIMEZONE
TZID:America/New_York
BEGIN:DAYLIGHT
TZOFFSETFROM:-0500
TZOFFSETTO:-0400
TZNAME:EDT
DTSTART:20190310T070000
END:DAYLIGHT
BEGIN:STANDARD
TZOFFSETFROM:-0400
TZOFFSETTO:-0500
TZNAME:EST
DTSTART:20191103T060000
END:STANDARD
BEGIN:DAYLIGHT
TZOFFSETFROM:-0500
TZOFFSETTO:-0400
TZNAME:EDT
DTSTART:20200308T070000
END:DAYLIGHT
BEGIN:STANDARD
TZOFFSETFROM:-0400
TZOFFSETTO:-0500
TZNAME:EST
DTSTART:20201101T060000
END:STANDARD
BEGIN:DAYLIGHT
TZOFFSETFROM:-0500
TZOFFSETTO:-0400
TZNAME:EDT
DTSTART:20210314T070000
END:DAYLIGHT
BEGIN:STANDARD
TZOFFSETFROM:-0400
TZOFFSETTO:-0500
TZNAME:EST
DTSTART:20211107T060000
END:STANDARD
END:VTIMEZONE
BEGIN:VEVENT
DTSTART;VALUE=DATE:20200702
DTEND;VALUE=DATE:20201017
DTSTAMP:20260418T232948
CREATED:20200812T204450Z
LAST-MODIFIED:20200812T204450Z
UID:1623-1593648000-1602892799@havelockevents.com
SUMMARY:All Events Cancelled Due to COVID-19
DESCRIPTION:All Events Cancelled Due to COVID-19
URL:https://havelockevents.com/event/all-events-cancelled-due-to-covid-19-3/
END:VEVENT
BEGIN:VEVENT
DTSTART;TZID=America/New_York:20201004T100000
DTEND;TZID=America/New_York:20201004T120000
DTSTAMP:20260418T232948
CREATED:20200323T132250Z
LAST-MODIFIED:20200323T132250Z
UID:1424-1601805600-1601812800@havelockevents.com
SUMMARY:One Harbor Church
DESCRIPTION:Sundays at 10:00 am
URL:https://havelockevents.com/event/one-harbor-church-32/
LOCATION:Havelock Tourist & Event Center\, 201 Tourist Center Drive\, Havelock\, NC\, 28532\, United States
END:VEVENT
BEGIN:VEVENT
DTSTART;TZID=America/New_York:20201006T153000
DTEND;TZID=America/New_York:20201006T170000
DTSTAMP:20260418T232948
CREATED:20200323T142923Z
LAST-MODIFIED:20200323T142923Z
UID:1470-1601998200-1602003600@havelockevents.com
SUMMARY:Meeting
DESCRIPTION:ECAHF Dev Com Meeting
URL:https://havelockevents.com/event/meeting-22/
LOCATION:Conference Room
END:VEVENT
BEGIN:VEVENT
DTSTART;TZID=America/New_York:20201009T083000
DTEND;TZID=America/New_York:20201009T103000
DTSTAMP:20260418T232948
CREATED:20200323T143016Z
LAST-MODIFIED:20200323T143016Z
UID:1472-1602232200-1602239400@havelockevents.com
SUMMARY:Meeting
DESCRIPTION:ECAHF BOD Meeting
URL:https://havelockevents.com/event/meeting-23/
LOCATION:Conference Room
END:VEVENT
BEGIN:VEVENT
DTSTART;TZID=America/New_York:20201011T100000
DTEND;TZID=America/New_York:20201011T120000
DTSTAMP:20260418T232948
CREATED:20200323T132346Z
LAST-MODIFIED:20200323T132346Z
UID:1426-1602410400-1602417600@havelockevents.com
SUMMARY:One Harbor Church
DESCRIPTION:Sundays at 10:00 am
URL:https://havelockevents.com/event/one-harbor-church-33/
LOCATION:Havelock Tourist & Event Center\, 201 Tourist Center Drive\, Havelock\, NC\, 28532\, United States
END:VEVENT
BEGIN:VEVENT
DTSTART;TZID=America/New_York:20201017T190000
DTEND;TZID=America/New_York:20201017T230000
DTSTAMP:20260418T232948
CREATED:20200714T183435Z
LAST-MODIFIED:20200812T203035Z
UID:1598-1602961200-1602975600@havelockevents.com
SUMMARY:Superior Curves Fashion Show
DESCRIPTION:Superior Curves Fashion Show 2020 \nArea A
URL:https://havelockevents.com/event/superior-curves-fashion-show/
LOCATION:1/2 Hall
END:VEVENT
BEGIN:VEVENT
DTSTART;TZID=America/New_York:20201018T100000
DTEND;TZID=America/New_York:20201018T120000
DTSTAMP:20260418T232948
CREATED:20200323T132434Z
LAST-MODIFIED:20200323T132434Z
UID:1428-1603015200-1603022400@havelockevents.com
SUMMARY:One Harbor Church
DESCRIPTION:Sundays at 10:00 am
URL:https://havelockevents.com/event/one-harbor-church-34/
LOCATION:Havelock Tourist & Event Center\, 201 Tourist Center Drive\, Havelock\, NC\, 28532\, United States
END:VEVENT
BEGIN:VEVENT
DTSTART;VALUE=DATE:20201023
DTEND;VALUE=DATE:20201025
DTSTAMP:20260418T232948
CREATED:20200320T131954Z
LAST-MODIFIED:20200320T131954Z
UID:1341-1603411200-1603583999@havelockevents.com
SUMMARY:Private Event
DESCRIPTION:Private Event \nFriday and Saturday\, October 23 and 24\, 2020 \n5:00 pm to 1:00 am \nArea A & B
URL:https://havelockevents.com/event/private-event-83/
END:VEVENT
BEGIN:VEVENT
DTSTART;TZID=America/New_York:20201025T100000
DTEND;TZID=America/New_York:20201025T120000
DTSTAMP:20260418T232948
CREATED:20200323T132526Z
LAST-MODIFIED:20200323T132526Z
UID:1430-1603620000-1603627200@havelockevents.com
SUMMARY:One Harbor Church
DESCRIPTION:Sundays at 10:00 am
URL:https://havelockevents.com/event/one-harbor-church-35/
LOCATION:Havelock Tourist & Event Center\, 201 Tourist Center Drive\, Havelock\, NC\, 28532\, United States
END:VEVENT
BEGIN:VEVENT
DTSTART;TZID=America/New_York:20201028T073000
DTEND;TZID=America/New_York:20201028T100000
DTSTAMP:20260418T232948
CREATED:20200323T143119Z
LAST-MODIFIED:20200323T143119Z
UID:1474-1603870200-1603879200@havelockevents.com
SUMMARY:Meeting
DESCRIPTION:Chamber of Commerce BOD Meeting
URL:https://havelockevents.com/event/meeting-24/
LOCATION:Conference Room
END:VEVENT
END:VCALENDAR