BEGIN:VCALENDAR
VERSION:2.0
PRODID:-//Havelock Tourist &amp; Event Center - ECPv6.15.20//NONSGML v1.0//EN
CALSCALE:GREGORIAN
METHOD:PUBLISH
X-ORIGINAL-URL:https://havelockevents.com
X-WR-CALDESC:Events for Havelock Tourist &amp; Event Center
REFRESH-INTERVAL;VALUE=DURATION:PT1H
X-Robots-Tag:noindex
X-PUBLISHED-TTL:PT1H
BEGIN:VTIMEZONE
TZID:America/New_York
BEGIN:DAYLIGHT
TZOFFSETFROM:-0500
TZOFFSETTO:-0400
TZNAME:EDT
DTSTART:20200308T070000
END:DAYLIGHT
BEGIN:STANDARD
TZOFFSETFROM:-0400
TZOFFSETTO:-0500
TZNAME:EST
DTSTART:20201101T060000
END:STANDARD
BEGIN:DAYLIGHT
TZOFFSETFROM:-0500
TZOFFSETTO:-0400
TZNAME:EDT
DTSTART:20210314T070000
END:DAYLIGHT
BEGIN:STANDARD
TZOFFSETFROM:-0400
TZOFFSETTO:-0500
TZNAME:EST
DTSTART:20211107T060000
END:STANDARD
BEGIN:DAYLIGHT
TZOFFSETFROM:-0500
TZOFFSETTO:-0400
TZNAME:EDT
DTSTART:20220313T070000
END:DAYLIGHT
BEGIN:STANDARD
TZOFFSETFROM:-0400
TZOFFSETTO:-0500
TZNAME:EST
DTSTART:20221106T060000
END:STANDARD
END:VTIMEZONE
BEGIN:VEVENT
DTSTART;TZID=America/New_York:20211102T153000
DTEND;TZID=America/New_York:20211102T170000
DTSTAMP:20260418T233709
CREATED:20210917T200045Z
LAST-MODIFIED:20210917T200045Z
UID:1872-1635867000-1635872400@havelockevents.com
SUMMARY:ECAHF Development Meeting
DESCRIPTION:
URL:https://havelockevents.com/event/ecahf-development-meeting-4/
END:VEVENT
BEGIN:VEVENT
DTSTART;TZID=America/New_York:20211112T083000
DTEND;TZID=America/New_York:20211112T103000
DTSTAMP:20260418T233709
CREATED:20210917T200902Z
LAST-MODIFIED:20210917T200902Z
UID:1874-1636705800-1636713000@havelockevents.com
SUMMARY:ECAHF Board of Directors Meeting
DESCRIPTION:
URL:https://havelockevents.com/event/ecahf-board-of-directors-meeting-9/
END:VEVENT
BEGIN:VEVENT
DTSTART;TZID=America/New_York:20211116T080000
DTEND;TZID=America/New_York:20211116T170000
DTSTAMP:20260418T233709
CREATED:20210917T201648Z
LAST-MODIFIED:20210917T201648Z
UID:1882-1637049600-1637082000@havelockevents.com
SUMMARY:Private Event
DESCRIPTION:
URL:https://havelockevents.com/event/private-event-96/
END:VEVENT
BEGIN:VEVENT
DTSTART;TZID=America/New_York:20211117T080000
DTEND;TZID=America/New_York:20211117T170000
DTSTAMP:20260418T233709
CREATED:20210917T201707Z
LAST-MODIFIED:20210917T201707Z
UID:1884-1637136000-1637168400@havelockevents.com
SUMMARY:Private Event
DESCRIPTION:
URL:https://havelockevents.com/event/private-event-97/
END:VEVENT
BEGIN:VEVENT
DTSTART;TZID=America/New_York:20211118T150000
DTEND;TZID=America/New_York:20211118T170000
DTSTAMP:20260418T233709
CREATED:20210917T201620Z
LAST-MODIFIED:20210917T201620Z
UID:1880-1637247600-1637254800@havelockevents.com
SUMMARY:ACT Meeting
DESCRIPTION:
URL:https://havelockevents.com/event/act-meeting-3/
END:VEVENT
BEGIN:VEVENT
DTSTART;TZID=America/New_York:20211120T180000
DTEND;TZID=America/New_York:20211120T233000
DTSTAMP:20260418T233709
CREATED:20210917T200944Z
LAST-MODIFIED:20211117T192055Z
UID:1876-1637431200-1637451000@havelockevents.com
SUMMARY:Cancelled  FRC East Marine Corps Ball
DESCRIPTION:Event Cancelled
URL:https://havelockevents.com/event/frc-east-marine-corps-ball/
END:VEVENT
BEGIN:VEVENT
DTSTART;TZID=America/New_York:20211124T073000
DTEND;TZID=America/New_York:20211124T093000
DTSTAMP:20260418T233709
CREATED:20210917T201031Z
LAST-MODIFIED:20210917T201548Z
UID:1878-1637739000-1637746200@havelockevents.com
SUMMARY:Havelock Chamber of Commerce Meeting
DESCRIPTION:
URL:https://havelockevents.com/event/havelock-chamber-of-commerce-meeting-2/
END:VEVENT
END:VCALENDAR