BEGIN:VCALENDAR
VERSION:2.0
PRODID:-//Havelock Tourist &amp; Event Center - ECPv6.15.20//NONSGML v1.0//EN
CALSCALE:GREGORIAN
METHOD:PUBLISH
X-ORIGINAL-URL:https://havelockevents.com
X-WR-CALDESC:Events for Havelock Tourist &amp; Event Center
REFRESH-INTERVAL;VALUE=DURATION:PT1H
X-Robots-Tag:noindex
X-PUBLISHED-TTL:PT1H
BEGIN:VTIMEZONE
TZID:America/New_York
BEGIN:DAYLIGHT
TZOFFSETFROM:-0500
TZOFFSETTO:-0400
TZNAME:EDT
DTSTART:20210314T070000
END:DAYLIGHT
BEGIN:STANDARD
TZOFFSETFROM:-0400
TZOFFSETTO:-0500
TZNAME:EST
DTSTART:20211107T060000
END:STANDARD
BEGIN:DAYLIGHT
TZOFFSETFROM:-0500
TZOFFSETTO:-0400
TZNAME:EDT
DTSTART:20220313T070000
END:DAYLIGHT
BEGIN:STANDARD
TZOFFSETFROM:-0400
TZOFFSETTO:-0500
TZNAME:EST
DTSTART:20221106T060000
END:STANDARD
BEGIN:DAYLIGHT
TZOFFSETFROM:-0500
TZOFFSETTO:-0400
TZNAME:EDT
DTSTART:20230312T070000
END:DAYLIGHT
BEGIN:STANDARD
TZOFFSETFROM:-0400
TZOFFSETTO:-0500
TZNAME:EST
DTSTART:20231105T060000
END:STANDARD
END:VTIMEZONE
BEGIN:VEVENT
DTSTART;TZID=America/New_York:20220101T080000
DTEND;TZID=America/New_York:20220101T170000
DTSTAMP:20260418T234042
CREATED:20211221T211501Z
LAST-MODIFIED:20211221T211501Z
UID:1917-1641024000-1641056400@havelockevents.com
SUMMARY:CLOSED
DESCRIPTION:
URL:https://havelockevents.com/event/closed-6/
END:VEVENT
BEGIN:VEVENT
DTSTART;TZID=America/New_York:20220105T173000
DTEND;TZID=America/New_York:20220105T200000
DTSTAMP:20260418T234042
CREATED:20211221T211632Z
LAST-MODIFIED:20211221T211632Z
UID:1919-1641403800-1641412800@havelockevents.com
SUMMARY:HOA Meeting
DESCRIPTION:
URL:https://havelockevents.com/event/hoa-meeting/
END:VEVENT
BEGIN:VEVENT
DTSTART;TZID=America/New_York:20220108T183000
DTEND;TZID=America/New_York:20220108T183000
DTSTAMP:20260418T234042
CREATED:20211221T211732Z
LAST-MODIFIED:20211221T211732Z
UID:1921-1641666600-1641666600@havelockevents.com
SUMMARY:Private Party
DESCRIPTION:
URL:https://havelockevents.com/event/private-party-3/
END:VEVENT
BEGIN:VEVENT
DTSTART;TZID=America/New_York:20220112T190000
DTEND;TZID=America/New_York:20220112T210000
DTSTAMP:20260418T234042
CREATED:20211221T212033Z
LAST-MODIFIED:20211221T212033Z
UID:1923-1642014000-1642021200@havelockevents.com
SUMMARY:Craven County Fireman Association Meeting
DESCRIPTION:
URL:https://havelockevents.com/event/craven-county-fireman-association-meeting/
END:VEVENT
BEGIN:VEVENT
DTSTART;TZID=America/New_York:20220113T150000
DTEND;TZID=America/New_York:20220113T170000
DTSTAMP:20260418T234042
CREATED:20211221T212128Z
LAST-MODIFIED:20211221T212128Z
UID:1925-1642086000-1642093200@havelockevents.com
SUMMARY:Allies for Cherry Point's Tomorrow (ACT) Meeting
DESCRIPTION:
URL:https://havelockevents.com/event/allies-for-cherry-points-tomorrow-act-meeting/
END:VEVENT
BEGIN:VEVENT
DTSTART;TZID=America/New_York:20220114T083000
DTEND;TZID=America/New_York:20220114T103000
DTSTAMP:20260418T234042
CREATED:20220107T140405Z
LAST-MODIFIED:20220107T140405Z
UID:1990-1642149000-1642156200@havelockevents.com
SUMMARY:Eastern Carolina Aviation Heritage Foundation Meeting
DESCRIPTION:
URL:https://havelockevents.com/event/eastern-carolina-aviation-heritage-foundation-meeting/
END:VEVENT
BEGIN:VEVENT
DTSTART;TZID=America/New_York:20220114T113000
DTEND;TZID=America/New_York:20220114T130000
DTSTAMP:20260418T234042
CREATED:20211221T212231Z
LAST-MODIFIED:20220118T204811Z
UID:1927-1642159800-1642165200@havelockevents.com
SUMMARY:Lt. Fahnestock Retirement Luncheon Postponed
DESCRIPTION:
URL:https://havelockevents.com/event/lt-fahnestock-retirement-luncheon/
END:VEVENT
BEGIN:VEVENT
DTSTART;TZID=America/New_York:20220115T190000
DTEND;TZID=America/New_York:20220115T230000
DTSTAMP:20260418T234042
CREATED:20211221T212350Z
LAST-MODIFIED:20211221T212350Z
UID:1929-1642273200-1642287600@havelockevents.com
SUMMARY:Private Retirement Party
DESCRIPTION:
URL:https://havelockevents.com/event/private-retirement-party/
END:VEVENT
BEGIN:VEVENT
DTSTART;TZID=America/New_York:20220120T083000
DTEND;TZID=America/New_York:20220120T170000
DTSTAMP:20260418T234042
CREATED:20211221T212431Z
LAST-MODIFIED:20211221T212431Z
UID:1931-1642667400-1642698000@havelockevents.com
SUMMARY:Community Partnership Workshop #2
DESCRIPTION:
URL:https://havelockevents.com/event/community-partnership-workshop-2/
END:VEVENT
BEGIN:VEVENT
DTSTART;TZID=America/New_York:20220121T073000
DTEND;TZID=America/New_York:20220121T170000
DTSTAMP:20260418T234042
CREATED:20220107T140255Z
LAST-MODIFIED:20220107T140255Z
UID:1987-1642750200-1642784400@havelockevents.com
SUMMARY:Keith Educational Seminar
DESCRIPTION:
URL:https://havelockevents.com/event/keith-educational-seminar-3/
END:VEVENT
BEGIN:VEVENT
DTSTART;TZID=America/New_York:20220122T190000
DTEND;TZID=America/New_York:20220122T220000
DTSTAMP:20260418T234042
CREATED:20220118T204510Z
LAST-MODIFIED:20220118T204510Z
UID:2033-1642878000-1642888800@havelockevents.com
SUMMARY:Silent Edge Machete Awards
DESCRIPTION:
URL:https://havelockevents.com/event/silent-edge-machete-awards/
END:VEVENT
BEGIN:VEVENT
DTSTART;TZID=America/New_York:20220124T080000
DTEND;TZID=America/New_York:20220127T170000
DTSTAMP:20260418T234042
CREATED:20220118T204600Z
LAST-MODIFIED:20220118T204600Z
UID:2035-1643011200-1643302800@havelockevents.com
SUMMARY:Contractor Meeting
DESCRIPTION:
URL:https://havelockevents.com/event/contractor-meeting-4/
END:VEVENT
BEGIN:VEVENT
DTSTART;TZID=America/New_York:20220127T160000
DTEND;TZID=America/New_York:20220127T170000
DTSTAMP:20260418T234042
CREATED:20211221T212503Z
LAST-MODIFIED:20220107T140122Z
UID:1933-1643299200-1643302800@havelockevents.com
SUMMARY:Havelock Chamber of Commerce Meeting
DESCRIPTION:
URL:https://havelockevents.com/event/keith-seminars-3/
END:VEVENT
END:VCALENDAR