BEGIN:VCALENDAR
VERSION:2.0
PRODID:-//Havelock Tourist &amp; Event Center - ECPv6.15.20//NONSGML v1.0//EN
CALSCALE:GREGORIAN
METHOD:PUBLISH
X-ORIGINAL-URL:https://havelockevents.com
X-WR-CALDESC:Events for Havelock Tourist &amp; Event Center
REFRESH-INTERVAL;VALUE=DURATION:PT1H
X-Robots-Tag:noindex
X-PUBLISHED-TTL:PT1H
BEGIN:VTIMEZONE
TZID:America/New_York
BEGIN:DAYLIGHT
TZOFFSETFROM:-0500
TZOFFSETTO:-0400
TZNAME:EDT
DTSTART:20210314T070000
END:DAYLIGHT
BEGIN:STANDARD
TZOFFSETFROM:-0400
TZOFFSETTO:-0500
TZNAME:EST
DTSTART:20211107T060000
END:STANDARD
BEGIN:DAYLIGHT
TZOFFSETFROM:-0500
TZOFFSETTO:-0400
TZNAME:EDT
DTSTART:20220313T070000
END:DAYLIGHT
BEGIN:STANDARD
TZOFFSETFROM:-0400
TZOFFSETTO:-0500
TZNAME:EST
DTSTART:20221106T060000
END:STANDARD
BEGIN:DAYLIGHT
TZOFFSETFROM:-0500
TZOFFSETTO:-0400
TZNAME:EDT
DTSTART:20230312T070000
END:DAYLIGHT
BEGIN:STANDARD
TZOFFSETFROM:-0400
TZOFFSETTO:-0500
TZNAME:EST
DTSTART:20231105T060000
END:STANDARD
END:VTIMEZONE
BEGIN:VEVENT
DTSTART;TZID=America/New_York:20220201T153000
DTEND;TZID=America/New_York:20220201T170000
DTSTAMP:20260418T233939
CREATED:20220107T140621Z
LAST-MODIFIED:20220107T140621Z
UID:1994-1643729400-1643734800@havelockevents.com
SUMMARY:ECAHF Development Committee Meeting
DESCRIPTION:
URL:https://havelockevents.com/event/ecahf-development-committee-meeting-8/
END:VEVENT
BEGIN:VEVENT
DTSTART;TZID=America/New_York:20220211T083000
DTEND;TZID=America/New_York:20220211T103000
DTSTAMP:20260418T233939
CREATED:20220107T140842Z
LAST-MODIFIED:20220107T140902Z
UID:1996-1644568200-1644575400@havelockevents.com
SUMMARY:Eastern Carolina Aviation Heritage Foundation Meeting
DESCRIPTION:
URL:https://havelockevents.com/event/east-carolina-aviation-heritage-foundation-meeting/
END:VEVENT
BEGIN:VEVENT
DTSTART;TZID=America/New_York:20220219T170000
DTEND;TZID=America/New_York:20220219T230000
DTSTAMP:20260418T233939
CREATED:20220107T142211Z
LAST-MODIFIED:20220118T204118Z
UID:2000-1645290000-1645311600@havelockevents.com
SUMMARY:Godette School Reunion POSTPONED until May 28\, 2022
DESCRIPTION:Event postponed until May 28\, 2022.
URL:https://havelockevents.com/event/godette-school-reunion/
END:VEVENT
BEGIN:VEVENT
DTSTART;TZID=America/New_York:20220225T173000
DTEND;TZID=America/New_York:20220225T220000
DTSTAMP:20260418T233939
CREATED:20220107T142630Z
LAST-MODIFIED:20220107T142630Z
UID:2005-1645810200-1645826400@havelockevents.com
SUMMARY:Eastern Carolina Aviation Heritage Foundation Gala
DESCRIPTION:
URL:https://havelockevents.com/event/eastern-carolina-aviation-heritage-foundation-gala-2/
END:VEVENT
BEGIN:VEVENT
DTSTART;TZID=America/New_York:20220226T170000
DTEND;TZID=America/New_York:20220227T000000
DTSTAMP:20260418T233939
CREATED:20220107T142800Z
LAST-MODIFIED:20220107T142800Z
UID:2009-1645894800-1645920000@havelockevents.com
SUMMARY:Private Event
DESCRIPTION:
URL:https://havelockevents.com/event/private-event-98/
END:VEVENT
END:VCALENDAR