BEGIN:VCALENDAR
VERSION:2.0
PRODID:-//Havelock Tourist &amp; Event Center - ECPv6.15.20//NONSGML v1.0//EN
CALSCALE:GREGORIAN
METHOD:PUBLISH
X-WR-CALNAME:Havelock Tourist &amp; Event Center
X-ORIGINAL-URL:https://havelockevents.com
X-WR-CALDESC:Events for Havelock Tourist &amp; Event Center
REFRESH-INTERVAL;VALUE=DURATION:PT1H
X-Robots-Tag:noindex
X-PUBLISHED-TTL:PT1H
BEGIN:VTIMEZONE
TZID:America/New_York
BEGIN:DAYLIGHT
TZOFFSETFROM:-0500
TZOFFSETTO:-0400
TZNAME:EDT
DTSTART:20210314T070000
END:DAYLIGHT
BEGIN:STANDARD
TZOFFSETFROM:-0400
TZOFFSETTO:-0500
TZNAME:EST
DTSTART:20211107T060000
END:STANDARD
BEGIN:DAYLIGHT
TZOFFSETFROM:-0500
TZOFFSETTO:-0400
TZNAME:EDT
DTSTART:20220313T070000
END:DAYLIGHT
BEGIN:STANDARD
TZOFFSETFROM:-0400
TZOFFSETTO:-0500
TZNAME:EST
DTSTART:20221106T060000
END:STANDARD
BEGIN:DAYLIGHT
TZOFFSETFROM:-0500
TZOFFSETTO:-0400
TZNAME:EDT
DTSTART:20230312T070000
END:DAYLIGHT
BEGIN:STANDARD
TZOFFSETFROM:-0400
TZOFFSETTO:-0500
TZNAME:EST
DTSTART:20231105T060000
END:STANDARD
END:VTIMEZONE
BEGIN:VEVENT
DTSTART;TZID=America/New_York:20220301T153000
DTEND;TZID=America/New_York:20220301T170000
DTSTAMP:20260418T230357
CREATED:20220107T142909Z
LAST-MODIFIED:20220107T142909Z
UID:2011-1646148600-1646154000@havelockevents.com
SUMMARY:ECAHF Development Committee Meeting
DESCRIPTION:
URL:https://havelockevents.com/event/ecahf-development-committee-meeting-9/
END:VEVENT
BEGIN:VEVENT
DTSTART;TZID=America/New_York:20220311T083000
DTEND;TZID=America/New_York:20220311T103000
DTSTAMP:20260418T230357
CREATED:20220107T143130Z
LAST-MODIFIED:20220107T143130Z
UID:2017-1646987400-1646994600@havelockevents.com
SUMMARY:Eastern Carolina Aviation Heritage Foundation Meeting
DESCRIPTION:
URL:https://havelockevents.com/event/eastern-carolina-aviation-heritage-foundation-meeting-2/
END:VEVENT
BEGIN:VEVENT
DTSTART;TZID=America/New_York:20220317T120000
DTEND;TZID=America/New_York:20220317T180000
DTSTAMP:20260418T230357
CREATED:20220107T143035Z
LAST-MODIFIED:20220316T144715Z
UID:2015-1647518400-1647540000@havelockevents.com
SUMMARY:City of Havelock Planning Retreat
DESCRIPTION:
URL:https://havelockevents.com/event/city-of-havelock-planning-retreat-2/
END:VEVENT
BEGIN:VEVENT
DTSTART;TZID=America/New_York:20220318T120000
DTEND;TZID=America/New_York:20220318T160000
DTSTAMP:20260418T230357
CREATED:20220107T142955Z
LAST-MODIFIED:20220316T145000Z
UID:2013-1647604800-1647619200@havelockevents.com
SUMMARY:City of Havelock Planning Retreat
DESCRIPTION:
URL:https://havelockevents.com/event/city-of-havelock-planning-retreat/
END:VEVENT
BEGIN:VEVENT
DTSTART;TZID=America/New_York:20220319T150000
DTEND;TZID=America/New_York:20220319T200000
DTSTAMP:20260418T230357
CREATED:20220107T143442Z
LAST-MODIFIED:20220316T143333Z
UID:2019-1647702000-1647720000@havelockevents.com
SUMMARY:Chamber of Commerce "Artisans Affair"
DESCRIPTION:Call the Havelock Chamber of Commerce for more information 252-447-1101 \nor visit www.havelockchamber.org \n 
URL:https://havelockevents.com/event/chamber-of-commerce-artisans-affair/
END:VEVENT
BEGIN:VEVENT
DTSTART;TZID=America/New_York:20220322T070000
DTEND;TZID=America/New_York:20220322T170000
DTSTAMP:20260418T230357
CREATED:20220107T143518Z
LAST-MODIFIED:20220107T143518Z
UID:2021-1647932400-1647968400@havelockevents.com
SUMMARY:Contractor Meeting
DESCRIPTION:
URL:https://havelockevents.com/event/contractor-meeting-3/
END:VEVENT
BEGIN:VEVENT
DTSTART;TZID=America/New_York:20220324T160000
DTEND;TZID=America/New_York:20220324T170000
DTSTAMP:20260418T230357
CREATED:20220107T143600Z
LAST-MODIFIED:20220107T143600Z
UID:2023-1648137600-1648141200@havelockevents.com
SUMMARY:Havelock Chamber of Commerce Meeting
DESCRIPTION:
URL:https://havelockevents.com/event/havelock-chamber-of-commerce-meeting-3/
END:VEVENT
BEGIN:VEVENT
DTSTART;TZID=America/New_York:20220326T170000
DTEND;TZID=America/New_York:20220327T000000
DTSTAMP:20260418T230357
CREATED:20220107T143659Z
LAST-MODIFIED:20220107T143721Z
UID:2025-1648314000-1648339200@havelockevents.com
SUMMARY:Private Birthday Celebration
DESCRIPTION:
URL:https://havelockevents.com/event/private-birthday-celebration/
END:VEVENT
END:VCALENDAR