BEGIN:VCALENDAR
VERSION:2.0
PRODID:-//Havelock Tourist &amp; Event Center - ECPv6.15.20//NONSGML v1.0//EN
CALSCALE:GREGORIAN
METHOD:PUBLISH
X-ORIGINAL-URL:https://havelockevents.com
X-WR-CALDESC:Events for Havelock Tourist &amp; Event Center
REFRESH-INTERVAL;VALUE=DURATION:PT1H
X-Robots-Tag:noindex
X-PUBLISHED-TTL:PT1H
BEGIN:VTIMEZONE
TZID:America/New_York
BEGIN:DAYLIGHT
TZOFFSETFROM:-0500
TZOFFSETTO:-0400
TZNAME:EDT
DTSTART:20210314T070000
END:DAYLIGHT
BEGIN:STANDARD
TZOFFSETFROM:-0400
TZOFFSETTO:-0500
TZNAME:EST
DTSTART:20211107T060000
END:STANDARD
BEGIN:DAYLIGHT
TZOFFSETFROM:-0500
TZOFFSETTO:-0400
TZNAME:EDT
DTSTART:20220313T070000
END:DAYLIGHT
BEGIN:STANDARD
TZOFFSETFROM:-0400
TZOFFSETTO:-0500
TZNAME:EST
DTSTART:20221106T060000
END:STANDARD
BEGIN:DAYLIGHT
TZOFFSETFROM:-0500
TZOFFSETTO:-0400
TZNAME:EDT
DTSTART:20230312T070000
END:DAYLIGHT
BEGIN:STANDARD
TZOFFSETFROM:-0400
TZOFFSETTO:-0500
TZNAME:EST
DTSTART:20231105T060000
END:STANDARD
END:VTIMEZONE
BEGIN:VEVENT
DTSTART;TZID=America/New_York:20220503T153000
DTEND;TZID=America/New_York:20220503T170000
DTSTAMP:20260418T233952
CREATED:20220316T165704Z
LAST-MODIFIED:20220316T165704Z
UID:2074-1651591800-1651597200@havelockevents.com
SUMMARY:ECAHF Development Committee Meeting
DESCRIPTION:
URL:https://havelockevents.com/event/ecahf-development-committee-meeting-10/
END:VEVENT
BEGIN:VEVENT
DTSTART;TZID=America/New_York:20220506T013000
DTEND;TZID=America/New_York:20220506T170000
DTSTAMP:20260418T233952
CREATED:20220316T175846Z
LAST-MODIFIED:20220316T175846Z
UID:2076-1651800600-1651856400@havelockevents.com
SUMMARY:NC State University Engineering Graduation
DESCRIPTION:
URL:https://havelockevents.com/event/nc-state-university-engineering-graduation/
END:VEVENT
BEGIN:VEVENT
DTSTART;TZID=America/New_York:20220509T140000
DTEND;TZID=America/New_York:20220509T170000
DTSTAMP:20260418T233952
CREATED:20220316T180001Z
LAST-MODIFIED:20220316T180001Z
UID:2078-1652104800-1652115600@havelockevents.com
SUMMARY:COH Budget Workshop
DESCRIPTION:
URL:https://havelockevents.com/event/coh-budget-workshop/
END:VEVENT
BEGIN:VEVENT
DTSTART;TZID=America/New_York:20220510T180000
DTEND;TZID=America/New_York:20220510T210000
DTSTAMP:20260418T233952
CREATED:20220316T180353Z
LAST-MODIFIED:20220316T180925Z
UID:2080-1652205600-1652216400@havelockevents.com
SUMMARY:Salute to the Vets
DESCRIPTION:For more information contact \nHavelock Chamber of Commerce \n252-447-1101
URL:https://havelockevents.com/event/salute-to-the-vets-3/
END:VEVENT
BEGIN:VEVENT
DTSTART;TZID=America/New_York:20220513T083000
DTEND;TZID=America/New_York:20220513T103000
DTSTAMP:20260418T233952
CREATED:20220316T181241Z
LAST-MODIFIED:20220316T181241Z
UID:2085-1652430600-1652437800@havelockevents.com
SUMMARY:ECAHF Board of Directors Meeting
DESCRIPTION:
URL:https://havelockevents.com/event/ecahf-board-of-directors-meeting-10/
END:VEVENT
BEGIN:VEVENT
DTSTART;TZID=America/New_York:20220513T173000
DTEND;TZID=America/New_York:20220513T210000
DTSTAMP:20260418T233952
CREATED:20220316T181000Z
LAST-MODIFIED:20220316T181149Z
UID:2082-1652463000-1652475600@havelockevents.com
SUMMARY:Early College East Graduation
DESCRIPTION:
URL:https://havelockevents.com/event/coh-budget-workshop-2/
END:VEVENT
BEGIN:VEVENT
DTSTART;TZID=America/New_York:20220514T170000
DTEND;TZID=America/New_York:20220514T220000
DTSTAMP:20260418T233952
CREATED:20220316T181550Z
LAST-MODIFIED:20220316T181550Z
UID:2087-1652547600-1652565600@havelockevents.com
SUMMARY:Beauty for Ashes - Lion & the Sparrow
DESCRIPTION:Beauty for Ashes “The Lion & the Sparrow” Testimonial Song & Dance Concert for Domestic Violence Saturday\, May 14\, 2022 Doors Open @ 5:00 PM Show Starts @ 5:30 PM \nCatered by The Flame Restaurant \nFor more information contact Stella @ 252-646-5953
URL:https://havelockevents.com/event/beauty-for-ashes-lion-the-sparrow/
END:VEVENT
BEGIN:VEVENT
DTSTART;TZID=America/New_York:20220517T063000
DTEND;TZID=America/New_York:20220517T193000
DTSTAMP:20260418T233952
CREATED:20220316T181809Z
LAST-MODIFIED:20220316T181936Z
UID:2089-1652769000-1652815800@havelockevents.com
SUMMARY:Primary Election
DESCRIPTION:Havelock Precinct Polling Location
URL:https://havelockevents.com/event/primary-election-2/
END:VEVENT
BEGIN:VEVENT
DTSTART;TZID=America/New_York:20220528T170000
DTEND;TZID=America/New_York:20220528T230000
DTSTAMP:20260418T233952
CREATED:20220118T204332Z
LAST-MODIFIED:20220118T204332Z
UID:2031-1653757200-1653778800@havelockevents.com
SUMMARY:Godette School Reunion
DESCRIPTION:
URL:https://havelockevents.com/event/godette-school-reunion-2/
END:VEVENT
END:VCALENDAR