BEGIN:VCALENDAR
VERSION:2.0
PRODID:-//Havelock Tourist &amp; Event Center - ECPv6.15.20//NONSGML v1.0//EN
CALSCALE:GREGORIAN
METHOD:PUBLISH
X-WR-CALNAME:Havelock Tourist &amp; Event Center
X-ORIGINAL-URL:https://havelockevents.com
X-WR-CALDESC:Events for Havelock Tourist &amp; Event Center
REFRESH-INTERVAL;VALUE=DURATION:PT1H
X-Robots-Tag:noindex
X-PUBLISHED-TTL:PT1H
BEGIN:VTIMEZONE
TZID:America/New_York
BEGIN:DAYLIGHT
TZOFFSETFROM:-0500
TZOFFSETTO:-0400
TZNAME:EDT
DTSTART:20210314T070000
END:DAYLIGHT
BEGIN:STANDARD
TZOFFSETFROM:-0400
TZOFFSETTO:-0500
TZNAME:EST
DTSTART:20211107T060000
END:STANDARD
BEGIN:DAYLIGHT
TZOFFSETFROM:-0500
TZOFFSETTO:-0400
TZNAME:EDT
DTSTART:20220313T070000
END:DAYLIGHT
BEGIN:STANDARD
TZOFFSETFROM:-0400
TZOFFSETTO:-0500
TZNAME:EST
DTSTART:20221106T060000
END:STANDARD
BEGIN:DAYLIGHT
TZOFFSETFROM:-0500
TZOFFSETTO:-0400
TZNAME:EDT
DTSTART:20230312T070000
END:DAYLIGHT
BEGIN:STANDARD
TZOFFSETFROM:-0400
TZOFFSETTO:-0500
TZNAME:EST
DTSTART:20231105T060000
END:STANDARD
END:VTIMEZONE
BEGIN:VEVENT
DTSTART;TZID=America/New_York:20220602T173000
DTEND;TZID=America/New_York:20220602T220000
DTSTAMP:20260418T224254
CREATED:20220614T122559Z
LAST-MODIFIED:20220614T122559Z
UID:2105-1654191000-1654207200@havelockevents.com
SUMMARY:Havelock High School Senior Athletic Banquet
DESCRIPTION:
URL:https://havelockevents.com/event/havelock-high-school-senior-athletic-banquet-2/
END:VEVENT
BEGIN:VEVENT
DTSTART;TZID=America/New_York:20220607T153000
DTEND;TZID=America/New_York:20220607T170000
DTSTAMP:20260418T224254
CREATED:20220614T122718Z
LAST-MODIFIED:20220614T122718Z
UID:2107-1654615800-1654621200@havelockevents.com
SUMMARY:ECAHF Development Committee Meeting
DESCRIPTION:
URL:https://havelockevents.com/event/ecahf-development-committee-meeting-11/
END:VEVENT
BEGIN:VEVENT
DTSTART;TZID=America/New_York:20220608T080000
DTEND;TZID=America/New_York:20220608T170000
DTSTAMP:20260418T224254
CREATED:20220614T122834Z
LAST-MODIFIED:20220614T122834Z
UID:2109-1654675200-1654707600@havelockevents.com
SUMMARY:ClarkNexsen Meeting
DESCRIPTION:
URL:https://havelockevents.com/event/clarknexsen-meeting/
END:VEVENT
BEGIN:VEVENT
DTSTART;TZID=America/New_York:20220609T150000
DTEND;TZID=America/New_York:20220609T170000
DTSTAMP:20260418T224254
CREATED:20220614T122933Z
LAST-MODIFIED:20220614T122933Z
UID:2111-1654786800-1654794000@havelockevents.com
SUMMARY:ACT Executive Steering Group Meeting
DESCRIPTION:
URL:https://havelockevents.com/event/act-executive-steering-group-meeting/
END:VEVENT
BEGIN:VEVENT
DTSTART;TZID=America/New_York:20220610T083000
DTEND;TZID=America/New_York:20220610T223000
DTSTAMP:20260418T224254
CREATED:20220614T123002Z
LAST-MODIFIED:20220614T123002Z
UID:2113-1654849800-1654900200@havelockevents.com
SUMMARY:ECAHF Board of Directors Meeting
DESCRIPTION:
URL:https://havelockevents.com/event/ecahf-board-of-directors-meeting-11/
END:VEVENT
BEGIN:VEVENT
DTSTART;TZID=America/New_York:20220611T140000
DTEND;TZID=America/New_York:20220611T180000
DTSTAMP:20260418T224254
CREATED:20220614T123204Z
LAST-MODIFIED:20220614T123204Z
UID:2115-1654956000-1654970400@havelockevents.com
SUMMARY:Baby Shower (Private Party)
DESCRIPTION:
URL:https://havelockevents.com/event/baby-shower-private-party/
END:VEVENT
BEGIN:VEVENT
DTSTART;TZID=America/New_York:20220611T160000
DTEND;TZID=America/New_York:20220611T230000
DTSTAMP:20260418T224254
CREATED:20220614T123658Z
LAST-MODIFIED:20220614T123658Z
UID:2117-1654963200-1654988400@havelockevents.com
SUMMARY:Graduation Party (Private Event)
DESCRIPTION:
URL:https://havelockevents.com/event/graduation-party-private-event/
END:VEVENT
BEGIN:VEVENT
DTSTART;TZID=America/New_York:20220613T080000
DTEND;TZID=America/New_York:20220617T170000
DTSTAMP:20260418T224254
CREATED:20220614T125738Z
LAST-MODIFIED:20220614T125738Z
UID:2145-1655107200-1655485200@havelockevents.com
SUMMARY:Walsh Group Meeting
DESCRIPTION:
URL:https://havelockevents.com/event/walsh-group-meeting-2/
END:VEVENT
BEGIN:VEVENT
DTSTART;TZID=America/New_York:20220615T110000
DTEND;TZID=America/New_York:20220615T150000
DTSTAMP:20260418T224254
CREATED:20220614T123805Z
LAST-MODIFIED:20220614T124036Z
UID:2119-1655290800-1655305200@havelockevents.com
SUMMARY:Defense Alliance Meeting
DESCRIPTION:
URL:https://havelockevents.com/event/walsh-group-meeting/
END:VEVENT
BEGIN:VEVENT
DTSTART;TZID=America/New_York:20220618T180000
DTEND;TZID=America/New_York:20220618T220000
DTSTAMP:20260418T224254
CREATED:20220614T124126Z
LAST-MODIFIED:20220614T124126Z
UID:2123-1655575200-1655589600@havelockevents.com
SUMMARY:Private Event
DESCRIPTION:
URL:https://havelockevents.com/event/private-event-99/
END:VEVENT
BEGIN:VEVENT
DTSTART;TZID=America/New_York:20220620T110000
DTEND;TZID=America/New_York:20220620T140000
DTSTAMP:20260418T224254
CREATED:20220614T124240Z
LAST-MODIFIED:20220614T124240Z
UID:2125-1655722800-1655733600@havelockevents.com
SUMMARY:Lt Fahnestock Retirement Luncheon
DESCRIPTION:
URL:https://havelockevents.com/event/lt-fahnestock-retirement-luncheon-2/
END:VEVENT
BEGIN:VEVENT
DTSTART;TZID=America/New_York:20220623T160000
DTEND;TZID=America/New_York:20220623T170000
DTSTAMP:20260418T224254
CREATED:20220614T124342Z
LAST-MODIFIED:20220614T124342Z
UID:2127-1656000000-1656003600@havelockevents.com
SUMMARY:Havelock Chamber of Commerce BOD Meeting
DESCRIPTION:
URL:https://havelockevents.com/event/havelock-chamber-of-commerce-bod-meeting/
END:VEVENT
END:VCALENDAR