BEGIN:VCALENDAR
VERSION:2.0
PRODID:-//Havelock Tourist &amp; Event Center - ECPv6.15.20//NONSGML v1.0//EN
CALSCALE:GREGORIAN
METHOD:PUBLISH
X-ORIGINAL-URL:https://havelockevents.com
X-WR-CALDESC:Events for Havelock Tourist &amp; Event Center
REFRESH-INTERVAL;VALUE=DURATION:PT1H
X-Robots-Tag:noindex
X-PUBLISHED-TTL:PT1H
BEGIN:VTIMEZONE
TZID:America/New_York
BEGIN:DAYLIGHT
TZOFFSETFROM:-0500
TZOFFSETTO:-0400
TZNAME:EDT
DTSTART:20210314T070000
END:DAYLIGHT
BEGIN:STANDARD
TZOFFSETFROM:-0400
TZOFFSETTO:-0500
TZNAME:EST
DTSTART:20211107T060000
END:STANDARD
BEGIN:DAYLIGHT
TZOFFSETFROM:-0500
TZOFFSETTO:-0400
TZNAME:EDT
DTSTART:20220313T070000
END:DAYLIGHT
BEGIN:STANDARD
TZOFFSETFROM:-0400
TZOFFSETTO:-0500
TZNAME:EST
DTSTART:20221106T060000
END:STANDARD
BEGIN:DAYLIGHT
TZOFFSETFROM:-0500
TZOFFSETTO:-0400
TZNAME:EDT
DTSTART:20230312T070000
END:DAYLIGHT
BEGIN:STANDARD
TZOFFSETFROM:-0400
TZOFFSETTO:-0500
TZNAME:EST
DTSTART:20231105T060000
END:STANDARD
END:VTIMEZONE
BEGIN:VEVENT
DTSTART;TZID=America/New_York:20220702T140000
DTEND;TZID=America/New_York:20220702T170000
DTSTAMP:20260418T234004
CREATED:20220614T124516Z
LAST-MODIFIED:20220614T124516Z
UID:2129-1656770400-1656781200@havelockevents.com
SUMMARY:Private Party
DESCRIPTION:
URL:https://havelockevents.com/event/private-party-4/
END:VEVENT
BEGIN:VEVENT
DTSTART;TZID=America/New_York:20220705T153000
DTEND;TZID=America/New_York:20220705T170000
DTSTAMP:20260418T234004
CREATED:20220614T124549Z
LAST-MODIFIED:20220614T124549Z
UID:2131-1657035000-1657040400@havelockevents.com
SUMMARY:ECAHF Development Committee Meeting
DESCRIPTION:
URL:https://havelockevents.com/event/ecahf-development-committee-meeting-12/
END:VEVENT
BEGIN:VEVENT
DTSTART;TZID=America/New_York:20220708T083000
DTEND;TZID=America/New_York:20220708T103000
DTSTAMP:20260418T234004
CREATED:20220614T124744Z
LAST-MODIFIED:20220614T124744Z
UID:2133-1657269000-1657276200@havelockevents.com
SUMMARY:ECAHF Board of Directors Meeting
DESCRIPTION:
URL:https://havelockevents.com/event/ecahf-board-of-directors-meeting-12/
END:VEVENT
BEGIN:VEVENT
DTSTART;TZID=America/New_York:20220709T100000
DTEND;TZID=America/New_York:20220709T160000
DTSTAMP:20260418T234004
CREATED:20220614T125153Z
LAST-MODIFIED:20220614T125153Z
UID:2135-1657360800-1657382400@havelockevents.com
SUMMARY:DownEast Con Modelers Show and Contest
DESCRIPTION:
URL:https://havelockevents.com/event/downeast-con-modelers-show-and-contest/
END:VEVENT
BEGIN:VEVENT
DTSTART;TZID=America/New_York:20220714T113000
DTEND;TZID=America/New_York:20220714T153000
DTSTAMP:20260418T234004
CREATED:20220614T125345Z
LAST-MODIFIED:20220614T125345Z
UID:2139-1657798200-1657812600@havelockevents.com
SUMMARY:Contractor Meeting
DESCRIPTION:
URL:https://havelockevents.com/event/contractor-meeting-5/
END:VEVENT
BEGIN:VEVENT
DTSTART;TZID=America/New_York:20220714T150000
DTEND;TZID=America/New_York:20220714T170000
DTSTAMP:20260418T234004
CREATED:20220614T125249Z
LAST-MODIFIED:20220614T125249Z
UID:2137-1657810800-1657818000@havelockevents.com
SUMMARY:ACT Meeting
DESCRIPTION:
URL:https://havelockevents.com/event/act-meeting-4/
END:VEVENT
BEGIN:VEVENT
DTSTART;TZID=America/New_York:20220722T153000
DTEND;TZID=America/New_York:20220722T233000
DTSTAMP:20260418T234004
CREATED:20220614T125545Z
LAST-MODIFIED:20220614T125545Z
UID:2141-1658503800-1658532600@havelockevents.com
SUMMARY:Frazier Family Reuion
DESCRIPTION:
URL:https://havelockevents.com/event/frazier-family-reuion/
END:VEVENT
BEGIN:VEVENT
DTSTART;TZID=America/New_York:20220723T153000
DTEND;TZID=America/New_York:20220723T233000
DTSTAMP:20260418T234004
CREATED:20220614T133446Z
LAST-MODIFIED:20220614T133446Z
UID:2165-1658590200-1658619000@havelockevents.com
SUMMARY:Frazier Family Reunion
DESCRIPTION:
URL:https://havelockevents.com/event/frazier-family-reunion/
END:VEVENT
BEGIN:VEVENT
DTSTART;TZID=America/New_York:20220725T083000
DTEND;TZID=America/New_York:20220729T120000
DTSTAMP:20260418T234004
CREATED:20220614T125700Z
LAST-MODIFIED:20220614T125700Z
UID:2143-1658737800-1659096000@havelockevents.com
SUMMARY:ECAHF Summer Engineering Camp
DESCRIPTION:
URL:https://havelockevents.com/event/ecahf-summer-engineering-camp/
END:VEVENT
BEGIN:VEVENT
DTSTART;TZID=America/New_York:20220728T160000
DTEND;TZID=America/New_York:20220728T170000
DTSTAMP:20260418T234004
CREATED:20220614T125833Z
LAST-MODIFIED:20220614T125833Z
UID:2147-1659024000-1659027600@havelockevents.com
SUMMARY:Havelock Chamber of Commerce BOD Meeting
DESCRIPTION:
URL:https://havelockevents.com/event/havelock-chamber-of-commerce-bod-meeting-2/
END:VEVENT
END:VCALENDAR