BEGIN:VCALENDAR
VERSION:2.0
PRODID:-//Havelock Tourist &amp; Event Center - ECPv6.15.20//NONSGML v1.0//EN
CALSCALE:GREGORIAN
METHOD:PUBLISH
X-ORIGINAL-URL:https://havelockevents.com
X-WR-CALDESC:Events for Havelock Tourist &amp; Event Center
REFRESH-INTERVAL;VALUE=DURATION:PT1H
X-Robots-Tag:noindex
X-PUBLISHED-TTL:PT1H
BEGIN:VTIMEZONE
TZID:America/New_York
BEGIN:DAYLIGHT
TZOFFSETFROM:-0500
TZOFFSETTO:-0400
TZNAME:EDT
DTSTART:20210314T070000
END:DAYLIGHT
BEGIN:STANDARD
TZOFFSETFROM:-0400
TZOFFSETTO:-0500
TZNAME:EST
DTSTART:20211107T060000
END:STANDARD
BEGIN:DAYLIGHT
TZOFFSETFROM:-0500
TZOFFSETTO:-0400
TZNAME:EDT
DTSTART:20220313T070000
END:DAYLIGHT
BEGIN:STANDARD
TZOFFSETFROM:-0400
TZOFFSETTO:-0500
TZNAME:EST
DTSTART:20221106T060000
END:STANDARD
BEGIN:DAYLIGHT
TZOFFSETFROM:-0500
TZOFFSETTO:-0400
TZNAME:EDT
DTSTART:20230312T070000
END:DAYLIGHT
BEGIN:STANDARD
TZOFFSETFROM:-0400
TZOFFSETTO:-0500
TZNAME:EST
DTSTART:20231105T060000
END:STANDARD
END:VTIMEZONE
BEGIN:VEVENT
DTSTART;TZID=America/New_York:20220802T153000
DTEND;TZID=America/New_York:20220802T170000
DTSTAMP:20260418T234055
CREATED:20220614T133130Z
LAST-MODIFIED:20220614T133130Z
UID:2161-1659454200-1659459600@havelockevents.com
SUMMARY:ECAHF Development Committee Meeting
DESCRIPTION:
URL:https://havelockevents.com/event/ecahf-development-committee-meeting-13/
END:VEVENT
BEGIN:VEVENT
DTSTART;TZID=America/New_York:20220806T100000
DTEND;TZID=America/New_York:20220806T170000
DTSTAMP:20260418T234055
CREATED:20220614T130627Z
LAST-MODIFIED:20220614T130627Z
UID:2149-1659780000-1659805200@havelockevents.com
SUMMARY:Kickboxing Tournament
DESCRIPTION:
URL:https://havelockevents.com/event/kickboxing-tournament/
END:VEVENT
BEGIN:VEVENT
DTSTART;TZID=America/New_York:20220806T160000
DTEND;TZID=America/New_York:20220806T233000
DTSTAMP:20260418T234055
CREATED:20220614T130716Z
LAST-MODIFIED:20220614T130716Z
UID:2151-1659801600-1659828600@havelockevents.com
SUMMARY:Private Event
DESCRIPTION:
URL:https://havelockevents.com/event/private-event-100/
END:VEVENT
BEGIN:VEVENT
DTSTART;TZID=America/New_York:20220811T150000
DTEND;TZID=America/New_York:20220811T170000
DTSTAMP:20260418T234055
CREATED:20220614T130807Z
LAST-MODIFIED:20220614T130807Z
UID:2153-1660230000-1660237200@havelockevents.com
SUMMARY:ACT Executive Steering Group Meeting
DESCRIPTION:
URL:https://havelockevents.com/event/act-executive-steering-group-meeting-2/
END:VEVENT
BEGIN:VEVENT
DTSTART;TZID=America/New_York:20220812T083000
DTEND;TZID=America/New_York:20220812T103000
DTSTAMP:20260418T234055
CREATED:20220614T130853Z
LAST-MODIFIED:20220614T130853Z
UID:2155-1660293000-1660300200@havelockevents.com
SUMMARY:ECAHF Board of Directors Meeting
DESCRIPTION:
URL:https://havelockevents.com/event/ecahf-board-of-directors-meeting-13/
END:VEVENT
BEGIN:VEVENT
DTSTART;TZID=America/New_York:20220812T170000
DTEND;TZID=America/New_York:20220812T210000
DTSTAMP:20260418T234055
CREATED:20220614T133025Z
LAST-MODIFIED:20220614T133025Z
UID:2157-1660323600-1660338000@havelockevents.com
SUMMARY:FREE Family STEM and Movie Night
DESCRIPTION:Eastern Carolina Aviation Heritage Foundation is sponsoring a free Family STEM and Movie Night. The fun begins at 5:00pm at the Havelock Tourist & Event Center. Families explore the various STEM stations which may include meteorology\, an aircraft simulator\, robots\, drones\, and much much more. School supplies will be distributed while supplies last along with door prizes and giveaways. The movie “Cloudy With a Chance of Meatballs!” will begin at approximately 7pm inside on the big screen. Concession food will be available.
URL:https://havelockevents.com/event/free-family-stem-and-movie-night/
END:VEVENT
BEGIN:VEVENT
DTSTART;TZID=America/New_York:20220818T080000
DTEND;TZID=America/New_York:20220818T170000
DTSTAMP:20260418T234055
CREATED:20220805T124108Z
LAST-MODIFIED:20220805T124108Z
UID:2171-1660809600-1660842000@havelockevents.com
SUMMARY:Coastal Community Action
DESCRIPTION:
URL:https://havelockevents.com/event/coastal-community-action-8/
END:VEVENT
BEGIN:VEVENT
DTSTART;TZID=America/New_York:20220822T080000
DTEND;TZID=America/New_York:20220822T170000
DTSTAMP:20260418T234055
CREATED:20220805T124903Z
LAST-MODIFIED:20220805T124903Z
UID:2173-1661155200-1661187600@havelockevents.com
SUMMARY:Craven County School Nutrition
DESCRIPTION:
URL:https://havelockevents.com/event/craven-county-school-nutrition/
END:VEVENT
BEGIN:VEVENT
DTSTART;TZID=America/New_York:20220824T080000
DTEND;TZID=America/New_York:20220824T170000
DTSTAMP:20260418T234055
CREATED:20220805T124949Z
LAST-MODIFIED:20220805T124949Z
UID:2175-1661328000-1661360400@havelockevents.com
SUMMARY:Dollar General Managers Meeting
DESCRIPTION:
URL:https://havelockevents.com/event/dollar-general-managers-meeting/
END:VEVENT
BEGIN:VEVENT
DTSTART;TZID=America/New_York:20220825T160000
DTEND;TZID=America/New_York:20220825T170000
DTSTAMP:20260418T234055
CREATED:20220805T125034Z
LAST-MODIFIED:20220805T125034Z
UID:2177-1661443200-1661446800@havelockevents.com
SUMMARY:Havelock Chamber of Commerce BOD Meeting
DESCRIPTION:
URL:https://havelockevents.com/event/havelock-chamber-of-commerce-bod-meeting-3/
END:VEVENT
BEGIN:VEVENT
DTSTART;TZID=America/New_York:20220827T170000
DTEND;TZID=America/New_York:20220827T210000
DTSTAMP:20260418T234055
CREATED:20220805T125236Z
LAST-MODIFIED:20220805T125236Z
UID:2179-1661619600-1661634000@havelockevents.com
SUMMARY:Private Event
DESCRIPTION:
URL:https://havelockevents.com/event/private-event-101/
END:VEVENT
END:VCALENDAR