BEGIN:VCALENDAR
VERSION:2.0
PRODID:-//Havelock Tourist &amp; Event Center - ECPv6.15.20//NONSGML v1.0//EN
CALSCALE:GREGORIAN
METHOD:PUBLISH
X-WR-CALNAME:Havelock Tourist &amp; Event Center
X-ORIGINAL-URL:https://havelockevents.com
X-WR-CALDESC:Events for Havelock Tourist &amp; Event Center
REFRESH-INTERVAL;VALUE=DURATION:PT1H
X-Robots-Tag:noindex
X-PUBLISHED-TTL:PT1H
BEGIN:VTIMEZONE
TZID:America/New_York
BEGIN:DAYLIGHT
TZOFFSETFROM:-0500
TZOFFSETTO:-0400
TZNAME:EDT
DTSTART:20210314T070000
END:DAYLIGHT
BEGIN:STANDARD
TZOFFSETFROM:-0400
TZOFFSETTO:-0500
TZNAME:EST
DTSTART:20211107T060000
END:STANDARD
BEGIN:DAYLIGHT
TZOFFSETFROM:-0500
TZOFFSETTO:-0400
TZNAME:EDT
DTSTART:20220313T070000
END:DAYLIGHT
BEGIN:STANDARD
TZOFFSETFROM:-0400
TZOFFSETTO:-0500
TZNAME:EST
DTSTART:20221106T060000
END:STANDARD
BEGIN:DAYLIGHT
TZOFFSETFROM:-0500
TZOFFSETTO:-0400
TZNAME:EDT
DTSTART:20230312T070000
END:DAYLIGHT
BEGIN:STANDARD
TZOFFSETFROM:-0400
TZOFFSETTO:-0500
TZNAME:EST
DTSTART:20231105T060000
END:STANDARD
END:VTIMEZONE
BEGIN:VEVENT
DTSTART;TZID=America/New_York:20221101T153000
DTEND;TZID=America/New_York:20221101T170000
DTSTAMP:20260418T225154
CREATED:20220927T183734Z
LAST-MODIFIED:20220927T183734Z
UID:2256-1667316600-1667322000@havelockevents.com
SUMMARY:ECAHF Development Meeting
DESCRIPTION:
URL:https://havelockevents.com/event/ecahf-development-meeting-5/
END:VEVENT
BEGIN:VEVENT
DTSTART;TZID=America/New_York:20221102T080000
DTEND;TZID=America/New_York:20221102T170000
DTSTAMP:20260418T225154
CREATED:20220927T183856Z
LAST-MODIFIED:20220927T183856Z
UID:2258-1667376000-1667408400@havelockevents.com
SUMMARY:CPR Mobile
DESCRIPTION:
URL:https://havelockevents.com/event/cpr-mobile/
END:VEVENT
BEGIN:VEVENT
DTSTART;TZID=America/New_York:20221104T083000
DTEND;TZID=America/New_York:20221104T223000
DTSTAMP:20260418T225154
CREATED:20220927T184442Z
LAST-MODIFIED:20221102T181213Z
UID:2264-1667550600-1667601000@havelockevents.com
SUMMARY:ECAHF Board of Directors Meeting
DESCRIPTION:
URL:https://havelockevents.com/event/ecahf-board-of-directors-meeting-14/
END:VEVENT
BEGIN:VEVENT
DTSTART;TZID=America/New_York:20221105T173000
DTEND;TZID=America/New_York:20221105T230000
DTSTAMP:20260418T225154
CREATED:20220927T183948Z
LAST-MODIFIED:20220927T183948Z
UID:2260-1667669400-1667689200@havelockevents.com
SUMMARY:Private Event
DESCRIPTION:
URL:https://havelockevents.com/event/private-event-103/
END:VEVENT
BEGIN:VEVENT
DTSTART;TZID=America/New_York:20221108T063000
DTEND;TZID=America/New_York:20221108T193000
DTSTAMP:20260418T225154
CREATED:20220927T184406Z
LAST-MODIFIED:20220927T184406Z
UID:2262-1667889000-1667935800@havelockevents.com
SUMMARY:Election Day Havelock Polling Location
DESCRIPTION:
URL:https://havelockevents.com/event/election-day-havelock-polling-location/
END:VEVENT
BEGIN:VEVENT
DTSTART;VALUE=DATE:20221111
DTEND;VALUE=DATE:20221112
DTSTAMP:20260418T225154
CREATED:20221102T181246Z
LAST-MODIFIED:20221102T181246Z
UID:2312-1668124800-1668211199@havelockevents.com
SUMMARY:TEC CLOSED
DESCRIPTION:
URL:https://havelockevents.com/event/tec-closed-2/
END:VEVENT
BEGIN:VEVENT
DTSTART;TZID=America/New_York:20221112T130000
DTEND;TZID=America/New_York:20221112T170000
DTSTAMP:20260418T225154
CREATED:20220927T184531Z
LAST-MODIFIED:20220927T184531Z
UID:2266-1668258000-1668272400@havelockevents.com
SUMMARY:Private Event
DESCRIPTION:
URL:https://havelockevents.com/event/private-event-104/
END:VEVENT
BEGIN:VEVENT
DTSTART;TZID=America/New_York:20221112T180000
DTEND;TZID=America/New_York:20221112T233000
DTSTAMP:20260418T225154
CREATED:20220927T184611Z
LAST-MODIFIED:20220927T184611Z
UID:2268-1668276000-1668295800@havelockevents.com
SUMMARY:Private Event
DESCRIPTION:
URL:https://havelockevents.com/event/private-event-105/
END:VEVENT
BEGIN:VEVENT
DTSTART;TZID=America/New_York:20221117T160000
DTEND;TZID=America/New_York:20221117T170000
DTSTAMP:20260418T225154
CREATED:20220927T184653Z
LAST-MODIFIED:20220927T184653Z
UID:2270-1668700800-1668704400@havelockevents.com
SUMMARY:Havelock Chamber of Commerce BOD Meeting
DESCRIPTION:
URL:https://havelockevents.com/event/havelock-chamber-of-commerce-bod-meeting-6/
END:VEVENT
BEGIN:VEVENT
DTSTART;TZID=America/New_York:20221118T180000
DTEND;TZID=America/New_York:20221118T233000
DTSTAMP:20260418T225154
CREATED:20220927T184746Z
LAST-MODIFIED:20220927T184746Z
UID:2272-1668794400-1668814200@havelockevents.com
SUMMARY:Private Event
DESCRIPTION:
URL:https://havelockevents.com/event/private-event-106/
END:VEVENT
BEGIN:VEVENT
DTSTART;TZID=America/New_York:20221119T100000
DTEND;TZID=America/New_York:20221119T170000
DTSTAMP:20260418T225154
CREATED:20220927T184824Z
LAST-MODIFIED:20221109T132706Z
UID:2274-1668852000-1668877200@havelockevents.com
SUMMARY:Comic-Con
DESCRIPTION:
URL:https://havelockevents.com/event/comic-con/
END:VEVENT
BEGIN:VEVENT
DTSTART;TZID=America/New_York:20221122T080000
DTEND;TZID=America/New_York:20221122T170000
DTSTAMP:20260418T225154
CREATED:20220927T184853Z
LAST-MODIFIED:20220927T184853Z
UID:2276-1669104000-1669136400@havelockevents.com
SUMMARY:CPR Mobile
DESCRIPTION:
URL:https://havelockevents.com/event/cpr-mobile-2/
END:VEVENT
BEGIN:VEVENT
DTSTART;VALUE=DATE:20221124
DTEND;VALUE=DATE:20221126
DTSTAMP:20260418T225154
CREATED:20220927T184939Z
LAST-MODIFIED:20220927T184939Z
UID:2278-1669248000-1669420799@havelockevents.com
SUMMARY:TEC Closed for Thanksgiving
DESCRIPTION:
URL:https://havelockevents.com/event/tec-closed-for-thanksgiving/
END:VEVENT
BEGIN:VEVENT
DTSTART;TZID=America/New_York:20221129T073000
DTEND;TZID=America/New_York:20221129T170000
DTSTAMP:20260418T225154
CREATED:20221102T181352Z
LAST-MODIFIED:20221102T181352Z
UID:2314-1669707000-1669741200@havelockevents.com
SUMMARY:PRIVATE EVENT
DESCRIPTION:
URL:https://havelockevents.com/event/private-event-114/
END:VEVENT
END:VCALENDAR