BEGIN:VCALENDAR
VERSION:2.0
PRODID:-//Havelock Tourist &amp; Event Center - ECPv6.15.20//NONSGML v1.0//EN
CALSCALE:GREGORIAN
METHOD:PUBLISH
X-WR-CALNAME:Havelock Tourist &amp; Event Center
X-ORIGINAL-URL:https://havelockevents.com
X-WR-CALDESC:Events for Havelock Tourist &amp; Event Center
REFRESH-INTERVAL;VALUE=DURATION:PT1H
X-Robots-Tag:noindex
X-PUBLISHED-TTL:PT1H
BEGIN:VTIMEZONE
TZID:America/New_York
BEGIN:DAYLIGHT
TZOFFSETFROM:-0500
TZOFFSETTO:-0400
TZNAME:EDT
DTSTART:20210314T070000
END:DAYLIGHT
BEGIN:STANDARD
TZOFFSETFROM:-0400
TZOFFSETTO:-0500
TZNAME:EST
DTSTART:20211107T060000
END:STANDARD
BEGIN:DAYLIGHT
TZOFFSETFROM:-0500
TZOFFSETTO:-0400
TZNAME:EDT
DTSTART:20220313T070000
END:DAYLIGHT
BEGIN:STANDARD
TZOFFSETFROM:-0400
TZOFFSETTO:-0500
TZNAME:EST
DTSTART:20221106T060000
END:STANDARD
BEGIN:DAYLIGHT
TZOFFSETFROM:-0500
TZOFFSETTO:-0400
TZNAME:EDT
DTSTART:20230312T070000
END:DAYLIGHT
BEGIN:STANDARD
TZOFFSETFROM:-0400
TZOFFSETTO:-0500
TZNAME:EST
DTSTART:20231105T060000
END:STANDARD
END:VTIMEZONE
BEGIN:VEVENT
DTSTART;TZID=America/New_York:20221201T123000
DTEND;TZID=America/New_York:20221201T170000
DTSTAMP:20260418T225141
CREATED:20221110T143325Z
LAST-MODIFIED:20221110T143325Z
UID:2323-1669897800-1669914000@havelockevents.com
SUMMARY:PRIVATE EVENT
DESCRIPTION:
URL:https://havelockevents.com/event/private-event-115/
END:VEVENT
BEGIN:VEVENT
DTSTART;TZID=America/New_York:20221202T180000
DTEND;TZID=America/New_York:20221202T210000
DTSTAMP:20260418T225141
CREATED:20221110T143451Z
LAST-MODIFIED:20221110T143451Z
UID:2325-1670004000-1670014800@havelockevents.com
SUMMARY:CAMP LEJEUNE LEGAL
DESCRIPTION:
URL:https://havelockevents.com/event/camp-lejeune-legal/
END:VEVENT
BEGIN:VEVENT
DTSTART;TZID=America/New_York:20221203T130000
DTEND;TZID=America/New_York:20221203T190000
DTSTAMP:20260418T225141
CREATED:20221110T143531Z
LAST-MODIFIED:20221110T143531Z
UID:2327-1670072400-1670094000@havelockevents.com
SUMMARY:PRIVATE EVENT
DESCRIPTION:
URL:https://havelockevents.com/event/private-event-116/
END:VEVENT
BEGIN:VEVENT
DTSTART;TZID=America/New_York:20221203T180000
DTEND;TZID=America/New_York:20221203T220000
DTSTAMP:20260418T225141
CREATED:20221110T143601Z
LAST-MODIFIED:20221110T143601Z
UID:2329-1670090400-1670104800@havelockevents.com
SUMMARY:PRIVATE EVENT
DESCRIPTION:
URL:https://havelockevents.com/event/private-event-117/
END:VEVENT
BEGIN:VEVENT
DTSTART;TZID=America/New_York:20221206T080000
DTEND;TZID=America/New_York:20221206T170000
DTSTAMP:20260418T225141
CREATED:20221102T174329Z
LAST-MODIFIED:20221102T174329Z
UID:2286-1670313600-1670346000@havelockevents.com
SUMMARY:Private Event
DESCRIPTION:
URL:https://havelockevents.com/event/private-event-108/
END:VEVENT
BEGIN:VEVENT
DTSTART;TZID=America/New_York:20221206T153000
DTEND;TZID=America/New_York:20221206T170000
DTSTAMP:20260418T225141
CREATED:20221101T174654Z
LAST-MODIFIED:20221102T180719Z
UID:2292-1670340600-1670346000@havelockevents.com
SUMMARY:ECAHF DEVELOPMENT MEETING
DESCRIPTION:
URL:https://havelockevents.com/event/ecahf-development-meeting-6/
END:VEVENT
BEGIN:VEVENT
DTSTART;TZID=America/New_York:20221207T080000
DTEND;TZID=America/New_York:20221207T170000
DTSTAMP:20260418T225141
CREATED:20221102T174518Z
LAST-MODIFIED:20221102T174518Z
UID:2290-1670400000-1670432400@havelockevents.com
SUMMARY:CPR MOBILE
DESCRIPTION:
URL:https://havelockevents.com/event/cpr-mobile-3/
END:VEVENT
BEGIN:VEVENT
DTSTART;TZID=America/New_York:20221209T083000
DTEND;TZID=America/New_York:20221209T223000
DTSTAMP:20260418T225141
CREATED:20221110T144628Z
LAST-MODIFIED:20221110T144628Z
UID:2333-1670574600-1670625000@havelockevents.com
SUMMARY:ECAHF Board of Directors Meeting
DESCRIPTION:
URL:https://havelockevents.com/event/ecahf-board-of-directors-meeting-15/
END:VEVENT
BEGIN:VEVENT
DTSTART;TZID=America/New_York:20221210T160000
DTEND;TZID=America/New_York:20221210T190000
DTSTAMP:20260418T225141
CREATED:20221102T175120Z
LAST-MODIFIED:20221102T175120Z
UID:2296-1670688000-1670698800@havelockevents.com
SUMMARY:PRIVATE EVENT
DESCRIPTION:
URL:https://havelockevents.com/event/private-event-110/
END:VEVENT
BEGIN:VEVENT
DTSTART;TZID=America/New_York:20221215T080000
DTEND;TZID=America/New_York:20221215T170000
DTSTAMP:20260418T225141
CREATED:20221102T175244Z
LAST-MODIFIED:20221102T175244Z
UID:2298-1671091200-1671123600@havelockevents.com
SUMMARY:PRIVATE EVENT
DESCRIPTION:
URL:https://havelockevents.com/event/private-event-111/
END:VEVENT
BEGIN:VEVENT
DTSTART;TZID=America/New_York:20221221T123000
DTEND;TZID=America/New_York:20221221T153000
DTSTAMP:20260418T225141
CREATED:20221102T175344Z
LAST-MODIFIED:20221102T175344Z
UID:2302-1671625800-1671636600@havelockevents.com
SUMMARY:PRIVATE EVENT
DESCRIPTION:
URL:https://havelockevents.com/event/private-event-113/
END:VEVENT
BEGIN:VEVENT
DTSTART;VALUE=DATE:20221223
DTEND;VALUE=DATE:20221224
DTSTAMP:20260418T225141
CREATED:20221102T175547Z
LAST-MODIFIED:20221102T175547Z
UID:2304-1671753600-1671839999@havelockevents.com
SUMMARY:TEC CLOSED FOR CHRISTMAS
DESCRIPTION:
URL:https://havelockevents.com/event/tec-closed-for-christmas/
END:VEVENT
BEGIN:VEVENT
DTSTART;VALUE=DATE:20221224
DTEND;VALUE=DATE:20221225
DTSTAMP:20260418T225141
CREATED:20221102T175614Z
LAST-MODIFIED:20221102T175614Z
UID:2306-1671840000-1671926399@havelockevents.com
SUMMARY:TEC CLOSED FOR CHRISTMAS
DESCRIPTION:
URL:https://havelockevents.com/event/tec-closed-for-christmas-2/
END:VEVENT
BEGIN:VEVENT
DTSTART;VALUE=DATE:20221226
DTEND;VALUE=DATE:20221227
DTSTAMP:20260418T225141
CREATED:20221102T175705Z
LAST-MODIFIED:20221102T175705Z
UID:2308-1672012800-1672099199@havelockevents.com
SUMMARY:TEC CLOSED FOR CHRISTMAS
DESCRIPTION:
URL:https://havelockevents.com/event/tec-closed-for-christmas-3/
END:VEVENT
END:VCALENDAR