BEGIN:VCALENDAR
VERSION:2.0
PRODID:-//Havelock Tourist &amp; Event Center - ECPv6.15.20//NONSGML v1.0//EN
CALSCALE:GREGORIAN
METHOD:PUBLISH
X-ORIGINAL-URL:https://havelockevents.com
X-WR-CALDESC:Events for Havelock Tourist &amp; Event Center
REFRESH-INTERVAL;VALUE=DURATION:PT1H
X-Robots-Tag:noindex
X-PUBLISHED-TTL:PT1H
BEGIN:VTIMEZONE
TZID:America/New_York
BEGIN:DAYLIGHT
TZOFFSETFROM:-0500
TZOFFSETTO:-0400
TZNAME:EDT
DTSTART:20220313T070000
END:DAYLIGHT
BEGIN:STANDARD
TZOFFSETFROM:-0400
TZOFFSETTO:-0500
TZNAME:EST
DTSTART:20221106T060000
END:STANDARD
BEGIN:DAYLIGHT
TZOFFSETFROM:-0500
TZOFFSETTO:-0400
TZNAME:EDT
DTSTART:20230312T070000
END:DAYLIGHT
BEGIN:STANDARD
TZOFFSETFROM:-0400
TZOFFSETTO:-0500
TZNAME:EST
DTSTART:20231105T060000
END:STANDARD
BEGIN:DAYLIGHT
TZOFFSETFROM:-0500
TZOFFSETTO:-0400
TZNAME:EDT
DTSTART:20240310T070000
END:DAYLIGHT
BEGIN:STANDARD
TZOFFSETFROM:-0400
TZOFFSETTO:-0500
TZNAME:EST
DTSTART:20241103T060000
END:STANDARD
END:VTIMEZONE
BEGIN:VEVENT
DTSTART;TZID=America/New_York:20230304T153000
DTEND;TZID=America/New_York:20230304T230000
DTSTAMP:20260418T233000
CREATED:20221128T193729Z
LAST-MODIFIED:20221128T193729Z
UID:2358-1677943800-1677970800@havelockevents.com
SUMMARY:Private Event
DESCRIPTION:
URL:https://havelockevents.com/event/private-event-119/
END:VEVENT
BEGIN:VEVENT
DTSTART;TZID=America/New_York:20230311T073000
DTEND;TZID=America/New_York:20230311T170000
DTSTAMP:20260418T233000
CREATED:20221128T193846Z
LAST-MODIFIED:20221128T193846Z
UID:2360-1678519800-1678554000@havelockevents.com
SUMMARY:Private Event
DESCRIPTION:
URL:https://havelockevents.com/event/private-event-120/
END:VEVENT
BEGIN:VEVENT
DTSTART;TZID=America/New_York:20230318T153000
DTEND;TZID=America/New_York:20230318T230000
DTSTAMP:20260418T233000
CREATED:20221128T193959Z
LAST-MODIFIED:20221128T193959Z
UID:2362-1679153400-1679180400@havelockevents.com
SUMMARY:Artisan's Affair
DESCRIPTION:
URL:https://havelockevents.com/event/artisans-affair/
END:VEVENT
BEGIN:VEVENT
DTSTART;TZID=America/New_York:20230320T163000
DTEND;TZID=America/New_York:20230320T193000
DTSTAMP:20260418T233000
CREATED:20230320T174844Z
LAST-MODIFIED:20230320T174844Z
UID:2434-1679329800-1679340600@havelockevents.com
SUMMARY:Kitty Hawk Wind Project
DESCRIPTION:
URL:https://havelockevents.com/event/kitty-hawk-wind-project/
LOCATION:Havelock Tourist & Event Center\, 201 Tourist Center Drive\, Havelock\, NC\, 28532\, United States
END:VEVENT
BEGIN:VEVENT
DTSTART;TZID=America/New_York:20230320T163000
DTEND;TZID=America/New_York:20230320T193000
DTSTAMP:20260418T233000
CREATED:20230320T175021Z
LAST-MODIFIED:20230320T175021Z
UID:2436-1679329800-1679340600@havelockevents.com
SUMMARY:Kitty Hawk Wind Project
DESCRIPTION:
URL:https://havelockevents.com/event/kitty-hawk-wind-project-2/
END:VEVENT
BEGIN:VEVENT
DTSTART;TZID=America/New_York:20230323T120000
DTEND;TZID=America/New_York:20230323T190000
DTSTAMP:20260418T233000
CREATED:20230320T175154Z
LAST-MODIFIED:20230320T175154Z
UID:2438-1679572800-1679598000@havelockevents.com
SUMMARY:Private Event
DESCRIPTION:
URL:https://havelockevents.com/event/private-event-123/
END:VEVENT
BEGIN:VEVENT
DTSTART;TZID=America/New_York:20230324T080000
DTEND;TZID=America/New_York:20230324T160000
DTSTAMP:20260418T233000
CREATED:20221128T194053Z
LAST-MODIFIED:20230320T175239Z
UID:2364-1679644800-1679673600@havelockevents.com
SUMMARY:Private Event
DESCRIPTION:
URL:https://havelockevents.com/event/private-event-121/
END:VEVENT
BEGIN:VEVENT
DTSTART;TZID=America/New_York:20230325T103000
DTEND;TZID=America/New_York:20230325T120000
DTSTAMP:20260418T233000
CREATED:20221128T194140Z
LAST-MODIFIED:20221128T194140Z
UID:2366-1679740200-1679745600@havelockevents.com
SUMMARY:Private Event
DESCRIPTION:
URL:https://havelockevents.com/event/private-event-122/
END:VEVENT
BEGIN:VEVENT
DTSTART;TZID=America/New_York:20230328T080000
DTEND;TZID=America/New_York:20230329T160000
DTSTAMP:20260418T233000
CREATED:20230320T175333Z
LAST-MODIFIED:20230320T175333Z
UID:2440-1679990400-1680105600@havelockevents.com
SUMMARY:Private Event
DESCRIPTION:
URL:https://havelockevents.com/event/private-event-124/
END:VEVENT
BEGIN:VEVENT
DTSTART;TZID=America/New_York:20230330T173000
DTEND;TZID=America/New_York:20230330T210000
DTSTAMP:20260418T233000
CREATED:20221128T194230Z
LAST-MODIFIED:20221128T194230Z
UID:2368-1680197400-1680210000@havelockevents.com
SUMMARY:Havelock Pregnancy Center Banquet
DESCRIPTION:
URL:https://havelockevents.com/event/havelock-pregnancy-center-banquet/
END:VEVENT
END:VCALENDAR