BEGIN:VCALENDAR
VERSION:2.0
PRODID:-//Havelock Tourist &amp; Event Center - ECPv6.15.20//NONSGML v1.0//EN
CALSCALE:GREGORIAN
METHOD:PUBLISH
X-ORIGINAL-URL:https://havelockevents.com
X-WR-CALDESC:Events for Havelock Tourist &amp; Event Center
REFRESH-INTERVAL;VALUE=DURATION:PT1H
X-Robots-Tag:noindex
X-PUBLISHED-TTL:PT1H
BEGIN:VTIMEZONE
TZID:America/New_York
BEGIN:DAYLIGHT
TZOFFSETFROM:-0500
TZOFFSETTO:-0400
TZNAME:EDT
DTSTART:20220313T070000
END:DAYLIGHT
BEGIN:STANDARD
TZOFFSETFROM:-0400
TZOFFSETTO:-0500
TZNAME:EST
DTSTART:20221106T060000
END:STANDARD
BEGIN:DAYLIGHT
TZOFFSETFROM:-0500
TZOFFSETTO:-0400
TZNAME:EDT
DTSTART:20230312T070000
END:DAYLIGHT
BEGIN:STANDARD
TZOFFSETFROM:-0400
TZOFFSETTO:-0500
TZNAME:EST
DTSTART:20231105T060000
END:STANDARD
BEGIN:DAYLIGHT
TZOFFSETFROM:-0500
TZOFFSETTO:-0400
TZNAME:EDT
DTSTART:20240310T070000
END:DAYLIGHT
BEGIN:STANDARD
TZOFFSETFROM:-0400
TZOFFSETTO:-0500
TZNAME:EST
DTSTART:20241103T060000
END:STANDARD
END:VTIMEZONE
BEGIN:VEVENT
DTSTART;TZID=America/New_York:20230801T153000
DTEND;TZID=America/New_York:20230801T170000
DTSTAMP:20260418T234634
CREATED:20230601T123222Z
LAST-MODIFIED:20230601T123222Z
UID:2570-1690903800-1690909200@havelockevents.com
SUMMARY:ECAHF Development Committee Meeting
DESCRIPTION:
URL:https://havelockevents.com/event/ecahf-development-committee-meeting-16/
LOCATION:Conference Room
END:VEVENT
BEGIN:VEVENT
DTSTART;TZID=America/New_York:20230802T180000
DTEND;TZID=America/New_York:20230802T200000
DTSTAMP:20260418T234634
CREATED:20230601T123300Z
LAST-MODIFIED:20230601T123300Z
UID:2572-1690999200-1691006400@havelockevents.com
SUMMARY:Private Event
DESCRIPTION:
URL:https://havelockevents.com/event/private-event-162/
LOCATION:1/2 Hall
END:VEVENT
BEGIN:VEVENT
DTSTART;TZID=America/New_York:20230811T083000
DTEND;TZID=America/New_York:20230811T103000
DTSTAMP:20260418T234634
CREATED:20230601T123344Z
LAST-MODIFIED:20230601T123344Z
UID:2574-1691742600-1691749800@havelockevents.com
SUMMARY:ECAHF Board of Directors Meeting
DESCRIPTION:
URL:https://havelockevents.com/event/ecahf-board-of-directors-meeting-17/
LOCATION:Conference Room
END:VEVENT
BEGIN:VEVENT
DTSTART;TZID=America/New_York:20230812T080000
DTEND;TZID=America/New_York:20230812T170000
DTSTAMP:20260418T234634
CREATED:20230601T123446Z
LAST-MODIFIED:20230601T123446Z
UID:2576-1691827200-1691859600@havelockevents.com
SUMMARY:Kick Boxing Tournament
DESCRIPTION:
URL:https://havelockevents.com/event/kick-boxing-tournament/
LOCATION:1/2 Hall
END:VEVENT
BEGIN:VEVENT
DTSTART;TZID=America/New_York:20230812T180000
DTEND;TZID=America/New_York:20230812T230000
DTSTAMP:20260418T234634
CREATED:20230626T200336Z
LAST-MODIFIED:20230626T200336Z
UID:2700-1691863200-1691881200@havelockevents.com
SUMMARY:Private Event
DESCRIPTION:
URL:https://havelockevents.com/event/private-event-158/
END:VEVENT
BEGIN:VEVENT
DTSTART;TZID=America/New_York:20230813T130000
DTEND;TZID=America/New_York:20230813T180000
DTSTAMP:20260418T234634
CREATED:20230706T122948Z
LAST-MODIFIED:20230706T122948Z
UID:2708-1691931600-1691949600@havelockevents.com
SUMMARY:Private Event
DESCRIPTION:
URL:https://havelockevents.com/event/private-event-171/
END:VEVENT
BEGIN:VEVENT
DTSTART;TZID=America/New_York:20230816T100000
DTEND;TZID=America/New_York:20230816T150000
DTSTAMP:20260418T234634
CREATED:20230805T160026Z
LAST-MODIFIED:20230805T160040Z
UID:2739-1692180000-1692198000@havelockevents.com
SUMMARY:Private Event
DESCRIPTION:
URL:https://havelockevents.com/event/private-event-183/
END:VEVENT
BEGIN:VEVENT
DTSTART;TZID=America/New_York:20230817T180000
DTEND;TZID=America/New_York:20230817T200000
DTSTAMP:20260418T234634
CREATED:20230805T160152Z
LAST-MODIFIED:20230805T160152Z
UID:2741-1692295200-1692302400@havelockevents.com
SUMMARY:Private Event
DESCRIPTION:
URL:https://havelockevents.com/event/private-event-184/
END:VEVENT
BEGIN:VEVENT
DTSTART;TZID=America/New_York:20230818T170000
DTEND;TZID=America/New_York:20230818T200000
DTSTAMP:20260418T234634
CREATED:20230609T143751Z
LAST-MODIFIED:20230609T143751Z
UID:2593-1692378000-1692388800@havelockevents.com
SUMMARY:12th Annual Fly-In
DESCRIPTION:The Eastern Carolina Aviation Heritage Foundation (ECAHF) will hold its 12th Annual “Fly-In” Family Night starting at 5:00 p.m. on Friday\, August 18\, 2023 at the Havelock Tourist and Event Center (201 Tourist Center Dr.). \nThis event will allow families in the community and surrounding areas an opportunity to enjoy a FREE family night and learn how STEM (Science\, Technology\, Engineering\, & Mathematics) education relates to aviation in the local area.  Activities include fun\, interactive\, and educational demonstrations/booths\, free giveaways which include school supplies\, a photo opportunity with Marine Corps flight gear and concluding with door prize drawings\, and so much more! \nECAHF’s mission is to celebrate the heritage of Marine aviation in Coastal Carolina as a lasting tribute to the evolving communities\, both military and civilian\, and extend that heritage\, culture and knowledge to generations of Americans through experiences that entertain and educate.  The event will feature interactive activities and exhibits for all ages related to STEM: meteorology\, aerodynamics\, engineering\, flight physiology\, drones\, as well as others!
URL:https://havelockevents.com/event/12th-annual-fly-in/
END:VEVENT
BEGIN:VEVENT
DTSTART;TZID=America/New_York:20230819T140000
DTEND;TZID=America/New_York:20230819T170000
DTSTAMP:20260418T234634
CREATED:20230601T123515Z
LAST-MODIFIED:20230601T123515Z
UID:2578-1692453600-1692464400@havelockevents.com
SUMMARY:Private Event
DESCRIPTION:
URL:https://havelockevents.com/event/private-event-163/
LOCATION:1/2 Hall
END:VEVENT
BEGIN:VEVENT
DTSTART;TZID=America/New_York:20230821T080000
DTEND;TZID=America/New_York:20230821T170000
DTSTAMP:20260418T234634
CREATED:20230706T121740Z
LAST-MODIFIED:20230706T122802Z
UID:2703-1692604800-1692637200@havelockevents.com
SUMMARY:Private Event
DESCRIPTION:
URL:https://havelockevents.com/event/private-event-169/
END:VEVENT
BEGIN:VEVENT
DTSTART;TZID=America/New_York:20230823T073000
DTEND;TZID=America/New_York:20230823T170000
DTSTAMP:20260418T234634
CREATED:20230805T161358Z
LAST-MODIFIED:20230805T161358Z
UID:2743-1692775800-1692810000@havelockevents.com
SUMMARY:Private Event
DESCRIPTION:
URL:https://havelockevents.com/event/private-event-185/
END:VEVENT
BEGIN:VEVENT
DTSTART;TZID=America/New_York:20230824T160000
DTEND;TZID=America/New_York:20230824T170000
DTSTAMP:20260418T234634
CREATED:20230601T123540Z
LAST-MODIFIED:20230601T123540Z
UID:2580-1692892800-1692896400@havelockevents.com
SUMMARY:Private Event
DESCRIPTION:
URL:https://havelockevents.com/event/private-event-164/
LOCATION:Conference Room
END:VEVENT
BEGIN:VEVENT
DTSTART;TZID=America/New_York:20230830T113000
DTEND;TZID=America/New_York:20230830T140000
DTSTAMP:20260418T234634
CREATED:20230601T123617Z
LAST-MODIFIED:20230601T123617Z
UID:2582-1693395000-1693404000@havelockevents.com
SUMMARY:Private Event
DESCRIPTION:
URL:https://havelockevents.com/event/private-event-165/
LOCATION:1/2 Hall
END:VEVENT
BEGIN:VEVENT
DTSTART;TZID=America/New_York:20230831T073000
DTEND;TZID=America/New_York:20230831T170000
DTSTAMP:20260418T234634
CREATED:20230706T122851Z
LAST-MODIFIED:20230706T122851Z
UID:2706-1693467000-1693501200@havelockevents.com
SUMMARY:Private Event
DESCRIPTION:
URL:https://havelockevents.com/event/private-event-170/
END:VEVENT
END:VCALENDAR