BEGIN:VCALENDAR
VERSION:2.0
PRODID:-//Havelock Tourist &amp; Event Center - ECPv6.15.20//NONSGML v1.0//EN
CALSCALE:GREGORIAN
METHOD:PUBLISH
X-WR-CALNAME:Havelock Tourist &amp; Event Center
X-ORIGINAL-URL:https://havelockevents.com
X-WR-CALDESC:Events for Havelock Tourist &amp; Event Center
REFRESH-INTERVAL;VALUE=DURATION:PT1H
X-Robots-Tag:noindex
X-PUBLISHED-TTL:PT1H
BEGIN:VTIMEZONE
TZID:America/New_York
BEGIN:DAYLIGHT
TZOFFSETFROM:-0500
TZOFFSETTO:-0400
TZNAME:EDT
DTSTART:20220313T070000
END:DAYLIGHT
BEGIN:STANDARD
TZOFFSETFROM:-0400
TZOFFSETTO:-0500
TZNAME:EST
DTSTART:20221106T060000
END:STANDARD
BEGIN:DAYLIGHT
TZOFFSETFROM:-0500
TZOFFSETTO:-0400
TZNAME:EDT
DTSTART:20230312T070000
END:DAYLIGHT
BEGIN:STANDARD
TZOFFSETFROM:-0400
TZOFFSETTO:-0500
TZNAME:EST
DTSTART:20231105T060000
END:STANDARD
BEGIN:DAYLIGHT
TZOFFSETFROM:-0500
TZOFFSETTO:-0400
TZNAME:EDT
DTSTART:20240310T070000
END:DAYLIGHT
BEGIN:STANDARD
TZOFFSETFROM:-0400
TZOFFSETTO:-0500
TZNAME:EST
DTSTART:20241103T060000
END:STANDARD
END:VTIMEZONE
BEGIN:VEVENT
DTSTART;TZID=America/New_York:20230902T160000
DTEND;TZID=America/New_York:20230902T190000
DTSTAMP:20260418T224859
CREATED:20230805T161446Z
LAST-MODIFIED:20230805T161446Z
UID:2745-1693670400-1693681200@havelockevents.com
SUMMARY:Private Event
DESCRIPTION:
URL:https://havelockevents.com/event/private-event-186/
END:VEVENT
BEGIN:VEVENT
DTSTART;VALUE=DATE:20230904
DTEND;VALUE=DATE:20230905
DTSTAMP:20260418T224859
CREATED:20230706T123117Z
LAST-MODIFIED:20230805T163310Z
UID:2712-1693785600-1693871999@havelockevents.com
SUMMARY:TEC Closed
DESCRIPTION:
URL:https://havelockevents.com/event/tec-closed-5/
END:VEVENT
BEGIN:VEVENT
DTSTART;TZID=America/New_York:20230905T153000
DTEND;TZID=America/New_York:20230905T170000
DTSTAMP:20260418T224859
CREATED:20230706T123212Z
LAST-MODIFIED:20230706T123212Z
UID:2714-1693927800-1693933200@havelockevents.com
SUMMARY:ECAHF Development Committee Meeting
DESCRIPTION:
URL:https://havelockevents.com/event/ecahf-development-committee-meeting-18/
END:VEVENT
BEGIN:VEVENT
DTSTART;TZID=America/New_York:20230908T080000
DTEND;TZID=America/New_York:20230908T150000
DTSTAMP:20260418T224859
CREATED:20230706T123323Z
LAST-MODIFIED:20230706T123323Z
UID:2718-1694160000-1694185200@havelockevents.com
SUMMARY:Private Event
DESCRIPTION:
URL:https://havelockevents.com/event/private-event-173/
END:VEVENT
BEGIN:VEVENT
DTSTART;TZID=America/New_York:20230908T083000
DTEND;TZID=America/New_York:20230908T103000
DTSTAMP:20260418T224859
CREATED:20230706T123259Z
LAST-MODIFIED:20230706T123259Z
UID:2716-1694161800-1694169000@havelockevents.com
SUMMARY:ECAHF Board of Directors Meeting
DESCRIPTION:
URL:https://havelockevents.com/event/ecahf-board-of-directors-meeting-18/
END:VEVENT
BEGIN:VEVENT
DTSTART;TZID=America/New_York:20230911T080000
DTEND;TZID=America/New_York:20230914T160000
DTSTAMP:20260418T224859
CREATED:20230812T145754Z
LAST-MODIFIED:20230822T230448Z
UID:2751-1694419200-1694707200@havelockevents.com
SUMMARY:Private Event
DESCRIPTION:
URL:https://havelockevents.com/event/private-event-172/
END:VEVENT
BEGIN:VEVENT
DTSTART;TZID=America/New_York:20230918T173000
DTEND;TZID=America/New_York:20230918T230000
DTSTAMP:20260418T224859
CREATED:20230706T123430Z
LAST-MODIFIED:20230706T123430Z
UID:2722-1695058200-1695078000@havelockevents.com
SUMMARY:Private Event
DESCRIPTION:
URL:https://havelockevents.com/event/private-event-175/
END:VEVENT
BEGIN:VEVENT
DTSTART;TZID=America/New_York:20230921T150000
DTEND;TZID=America/New_York:20230921T170000
DTSTAMP:20260418T224859
CREATED:20230822T230535Z
LAST-MODIFIED:20230822T230535Z
UID:2796-1695308400-1695315600@havelockevents.com
SUMMARY:Private Event
DESCRIPTION:
URL:https://havelockevents.com/event/private-event-174/
END:VEVENT
BEGIN:VEVENT
DTSTART;TZID=America/New_York:20230922T180000
DTEND;TZID=America/New_York:20230922T210000
DTSTAMP:20260418T224859
CREATED:20230706T123510Z
LAST-MODIFIED:20230706T123510Z
UID:2724-1695405600-1695416400@havelockevents.com
SUMMARY:Private Event
DESCRIPTION:
URL:https://havelockevents.com/event/private-event-176/
END:VEVENT
BEGIN:VEVENT
DTSTART;TZID=America/New_York:20230923T180000
DTEND;TZID=America/New_York:20230923T210000
DTSTAMP:20260418T224859
CREATED:20230706T123602Z
LAST-MODIFIED:20230706T123602Z
UID:2726-1695492000-1695502800@havelockevents.com
SUMMARY:Private Event
DESCRIPTION:
URL:https://havelockevents.com/event/private-event-177/
END:VEVENT
BEGIN:VEVENT
DTSTART;TZID=America/New_York:20230926T080000
DTEND;TZID=America/New_York:20230926T170000
DTSTAMP:20260418T224859
CREATED:20230706T123630Z
LAST-MODIFIED:20230706T123630Z
UID:2728-1695715200-1695747600@havelockevents.com
SUMMARY:Private Event
DESCRIPTION:
URL:https://havelockevents.com/event/private-event-178/
END:VEVENT
BEGIN:VEVENT
DTSTART;TZID=America/New_York:20230927T080000
DTEND;TZID=America/New_York:20230927T170000
DTSTAMP:20260418T224859
CREATED:20230706T123644Z
LAST-MODIFIED:20230706T123644Z
UID:2730-1695801600-1695834000@havelockevents.com
SUMMARY:Private Event
DESCRIPTION:
URL:https://havelockevents.com/event/private-event-179/
END:VEVENT
BEGIN:VEVENT
DTSTART;TZID=America/New_York:20230928T080000
DTEND;TZID=America/New_York:20230928T170000
DTSTAMP:20260418T224859
CREATED:20230706T123655Z
LAST-MODIFIED:20230706T123655Z
UID:2732-1695888000-1695920400@havelockevents.com
SUMMARY:Private Event
DESCRIPTION:
URL:https://havelockevents.com/event/private-event-180/
END:VEVENT
BEGIN:VEVENT
DTSTART;TZID=America/New_York:20230928T160000
DTEND;TZID=America/New_York:20230928T170000
DTSTAMP:20260418T224859
CREATED:20230706T123726Z
LAST-MODIFIED:20230706T123726Z
UID:2734-1695916800-1695920400@havelockevents.com
SUMMARY:Private Event
DESCRIPTION:
URL:https://havelockevents.com/event/private-event-181/
LOCATION:Conference Room
END:VEVENT
BEGIN:VEVENT
DTSTART;TZID=America/New_York:20230929T073000
DTEND;TZID=America/New_York:20230929T170000
DTSTAMP:20260418T224859
CREATED:20230706T123749Z
LAST-MODIFIED:20230706T123749Z
UID:2736-1695972600-1696006800@havelockevents.com
SUMMARY:Private Event
DESCRIPTION:
URL:https://havelockevents.com/event/private-event-182/
END:VEVENT
BEGIN:VEVENT
DTSTART;TZID=America/New_York:20230930T183000
DTEND;TZID=America/New_York:20230930T233000
DTSTAMP:20260418T224859
CREATED:20230812T150200Z
LAST-MODIFIED:20230812T150200Z
UID:2753-1696098600-1696116600@havelockevents.com
SUMMARY:Private Event
DESCRIPTION:
URL:https://havelockevents.com/event/private-event-187/
END:VEVENT
END:VCALENDAR