BEGIN:VCALENDAR
VERSION:2.0
PRODID:-//Havelock Tourist &amp; Event Center - ECPv6.15.20//NONSGML v1.0//EN
CALSCALE:GREGORIAN
METHOD:PUBLISH
X-ORIGINAL-URL:https://havelockevents.com
X-WR-CALDESC:Events for Havelock Tourist &amp; Event Center
REFRESH-INTERVAL;VALUE=DURATION:PT1H
X-Robots-Tag:noindex
X-PUBLISHED-TTL:PT1H
BEGIN:VTIMEZONE
TZID:America/New_York
BEGIN:DAYLIGHT
TZOFFSETFROM:-0500
TZOFFSETTO:-0400
TZNAME:EDT
DTSTART:20220313T070000
END:DAYLIGHT
BEGIN:STANDARD
TZOFFSETFROM:-0400
TZOFFSETTO:-0500
TZNAME:EST
DTSTART:20221106T060000
END:STANDARD
BEGIN:DAYLIGHT
TZOFFSETFROM:-0500
TZOFFSETTO:-0400
TZNAME:EDT
DTSTART:20230312T070000
END:DAYLIGHT
BEGIN:STANDARD
TZOFFSETFROM:-0400
TZOFFSETTO:-0500
TZNAME:EST
DTSTART:20231105T060000
END:STANDARD
BEGIN:DAYLIGHT
TZOFFSETFROM:-0500
TZOFFSETTO:-0400
TZNAME:EDT
DTSTART:20240310T070000
END:DAYLIGHT
BEGIN:STANDARD
TZOFFSETFROM:-0400
TZOFFSETTO:-0500
TZNAME:EST
DTSTART:20241103T060000
END:STANDARD
END:VTIMEZONE
BEGIN:VEVENT
DTSTART;VALUE=DATE:20231031
DTEND;VALUE=DATE:20231103
DTSTAMP:20260418T233644
CREATED:20231027T125235Z
LAST-MODIFIED:20231027T125235Z
UID:2811-1698710400-1698969599@havelockevents.com
SUMMARY:Private Event
DESCRIPTION:
URL:https://havelockevents.com/event/private-event-195/
END:VEVENT
BEGIN:VEVENT
DTSTART;TZID=America/New_York:20231107T153000
DTEND;TZID=America/New_York:20231107T170000
DTSTAMP:20260418T233644
CREATED:20231027T124037Z
LAST-MODIFIED:20231027T124112Z
UID:2805-1699371000-1699376400@havelockevents.com
SUMMARY:ECAHF Development Committee Meeting
DESCRIPTION:
URL:https://havelockevents.com/event/ecahf-development-meeting-7/
END:VEVENT
BEGIN:VEVENT
DTSTART;TZID=America/New_York:20231109T180000
DTEND;TZID=America/New_York:20231110T000000
DTSTAMP:20260418T233644
CREATED:20231030T155006Z
LAST-MODIFIED:20231030T155006Z
UID:2822-1699552800-1699574400@havelockevents.com
SUMMARY:Private Event
DESCRIPTION:
URL:https://havelockevents.com/event/private-event-197/
END:VEVENT
BEGIN:VEVENT
DTSTART;VALUE=DATE:20231110
DTEND;VALUE=DATE:20231111
DTSTAMP:20260418T233644
CREATED:20231027T125651Z
LAST-MODIFIED:20231027T131044Z
UID:2813-1699574400-1699660799@havelockevents.com
SUMMARY:TEC Closed - Honoring Those Who Served
DESCRIPTION:Veteran’s Day \nHonoring Those Who Served
URL:https://havelockevents.com/event/tec-closed-6/
END:VEVENT
BEGIN:VEVENT
DTSTART;VALUE=DATE:20231117
DTEND;VALUE=DATE:20231118
DTSTAMP:20260418T233644
CREATED:20231027T130337Z
LAST-MODIFIED:20231027T130337Z
UID:2815-1700179200-1700265599@havelockevents.com
SUMMARY:Private Event
DESCRIPTION:
URL:https://havelockevents.com/event/private-event-196/
END:VEVENT
BEGIN:VEVENT
DTSTART;TZID=America/New_York:20231117T083000
DTEND;TZID=America/New_York:20231117T100000
DTSTAMP:20260418T233644
CREATED:20231027T125007Z
LAST-MODIFIED:20231027T125040Z
UID:2808-1700209800-1700215200@havelockevents.com
SUMMARY:ECAHF Board of Directors Meeting
DESCRIPTION:
URL:https://havelockevents.com/event/ecahf-board-meeting-5/
END:VEVENT
BEGIN:VEVENT
DTSTART;VALUE=DATE:20231118
DTEND;VALUE=DATE:20231119
DTSTAMP:20260418T233644
CREATED:20231027T130708Z
LAST-MODIFIED:20231027T130708Z
UID:2819-1700265600-1700351999@havelockevents.com
SUMMARY:Private Event
DESCRIPTION:
URL:https://havelockevents.com/event/private-event-198/
END:VEVENT
BEGIN:VEVENT
DTSTART;TZID=America/New_York:20231123T000000
DTEND;TZID=America/New_York:20231124T235900
DTSTAMP:20260418T233644
CREATED:20231030T155612Z
LAST-MODIFIED:20231030T160022Z
UID:2828-1700697600-1700870340@havelockevents.com
SUMMARY:TEC Closed Happy Thanksgiving!
DESCRIPTION:
URL:https://havelockevents.com/event/tec-closed-7/
END:VEVENT
BEGIN:VEVENT
DTSTART;TZID=America/New_York:20231125T160000
DTEND;TZID=America/New_York:20231125T233000
DTSTAMP:20260418T233644
CREATED:20231030T160408Z
LAST-MODIFIED:20231030T164011Z
UID:2831-1700928000-1700955000@havelockevents.com
SUMMARY:Private Event
DESCRIPTION:
URL:https://havelockevents.com/event/private-event-199/
END:VEVENT
BEGIN:VEVENT
DTSTART;TZID=America/New_York:20231129T113000
DTEND;TZID=America/New_York:20231129T133000
DTSTAMP:20260418T233644
CREATED:20231030T160551Z
LAST-MODIFIED:20231030T160551Z
UID:2833-1701257400-1701264600@havelockevents.com
SUMMARY:Private Event
DESCRIPTION:
URL:https://havelockevents.com/event/private-event-200/
END:VEVENT
END:VCALENDAR