BEGIN:VCALENDAR
VERSION:2.0
PRODID:-//Havelock Tourist &amp; Event Center - ECPv6.15.20//NONSGML v1.0//EN
CALSCALE:GREGORIAN
METHOD:PUBLISH
X-WR-CALNAME:Havelock Tourist &amp; Event Center
X-ORIGINAL-URL:https://havelockevents.com
X-WR-CALDESC:Events for Havelock Tourist &amp; Event Center
REFRESH-INTERVAL;VALUE=DURATION:PT1H
X-Robots-Tag:noindex
X-PUBLISHED-TTL:PT1H
BEGIN:VTIMEZONE
TZID:America/New_York
BEGIN:DAYLIGHT
TZOFFSETFROM:-0500
TZOFFSETTO:-0400
TZNAME:EDT
DTSTART:20230312T070000
END:DAYLIGHT
BEGIN:STANDARD
TZOFFSETFROM:-0400
TZOFFSETTO:-0500
TZNAME:EST
DTSTART:20231105T060000
END:STANDARD
BEGIN:DAYLIGHT
TZOFFSETFROM:-0500
TZOFFSETTO:-0400
TZNAME:EDT
DTSTART:20240310T070000
END:DAYLIGHT
BEGIN:STANDARD
TZOFFSETFROM:-0400
TZOFFSETTO:-0500
TZNAME:EST
DTSTART:20241103T060000
END:STANDARD
BEGIN:DAYLIGHT
TZOFFSETFROM:-0500
TZOFFSETTO:-0400
TZNAME:EDT
DTSTART:20250309T070000
END:DAYLIGHT
BEGIN:STANDARD
TZOFFSETFROM:-0400
TZOFFSETTO:-0500
TZNAME:EST
DTSTART:20251102T060000
END:STANDARD
END:VTIMEZONE
BEGIN:VEVENT
DTSTART;TZID=America/New_York:20241203T153000
DTEND;TZID=America/New_York:20241203T163000
DTSTAMP:20260418T224138
CREATED:20240620T163806Z
LAST-MODIFIED:20240620T163806Z
UID:3414-1733239800-1733243400@havelockevents.com
SUMMARY:ECAHF Development Committee Meeting
DESCRIPTION:
URL:https://havelockevents.com/event/ecahf-development-committee-meeting-30/
END:VEVENT
BEGIN:VEVENT
DTSTART;TZID=America/New_York:20241206T170000
DTEND;TZID=America/New_York:20241206T170000
DTSTAMP:20260418T224138
CREATED:20240620T163903Z
LAST-MODIFIED:20240620T163903Z
UID:3416-1733504400-1733504400@havelockevents.com
SUMMARY:VMFA-251 Marine Corp Ball
DESCRIPTION:
URL:https://havelockevents.com/event/vmfa-251-marine-corp-ball/
END:VEVENT
BEGIN:VEVENT
DTSTART;TZID=America/New_York:20241207T160000
DTEND;TZID=America/New_York:20241207T220000
DTSTAMP:20260418T224138
CREATED:20240620T163953Z
LAST-MODIFIED:20240620T163953Z
UID:3418-1733587200-1733608800@havelockevents.com
SUMMARY:Private Event
DESCRIPTION:
URL:https://havelockevents.com/event/private-event-243/
END:VEVENT
BEGIN:VEVENT
DTSTART;TZID=America/New_York:20241213T083000
DTEND;TZID=America/New_York:20241213T093000
DTSTAMP:20260418T224138
CREATED:20240620T164228Z
LAST-MODIFIED:20240620T164228Z
UID:3421-1734078600-1734082200@havelockevents.com
SUMMARY:ECAHF Board of Directors Meeting
DESCRIPTION:
URL:https://havelockevents.com/event/ecahf-board-of-directors-meeting-31/
END:VEVENT
BEGIN:VEVENT
DTSTART;TZID=America/New_York:20241214T180000
DTEND;TZID=America/New_York:20241214T213000
DTSTAMP:20260418T224138
CREATED:20240620T164322Z
LAST-MODIFIED:20240620T164322Z
UID:3424-1734199200-1734211800@havelockevents.com
SUMMARY:Private Christmas Celebration
DESCRIPTION:
URL:https://havelockevents.com/event/private-christmas-celebration/
END:VEVENT
BEGIN:VEVENT
DTSTART;TZID=America/New_York:20241220T110000
DTEND;TZID=America/New_York:20241220T143000
DTSTAMP:20260418T224138
CREATED:20240620T164421Z
LAST-MODIFIED:20240620T164421Z
UID:3426-1734692400-1734705000@havelockevents.com
SUMMARY:Private Christmas Celebration
DESCRIPTION:
URL:https://havelockevents.com/event/private-christmas-celebration-2/
END:VEVENT
BEGIN:VEVENT
DTSTART;VALUE=DATE:20241221
DTEND;VALUE=DATE:20241222
DTSTAMP:20260418T224138
CREATED:20240620T164505Z
LAST-MODIFIED:20240620T164505Z
UID:3428-1734739200-1734825599@havelockevents.com
SUMMARY:TEC Closed - Merry Christmas
DESCRIPTION:
URL:https://havelockevents.com/event/tec-closed-merry-christmas-4/
END:VEVENT
BEGIN:VEVENT
DTSTART;VALUE=DATE:20241223
DTEND;VALUE=DATE:20241226
DTSTAMP:20260418T224138
CREATED:20231229T205318Z
LAST-MODIFIED:20231229T205318Z
UID:2927-1734912000-1735171199@havelockevents.com
SUMMARY:TEC Closed - Merry Christmas!
DESCRIPTION:
URL:https://havelockevents.com/event/tec-closed-merry-christmas-3/
END:VEVENT
BEGIN:VEVENT
DTSTART;TZID=America/New_York:20241228T140000
DTEND;TZID=America/New_York:20241228T220000
DTSTAMP:20260418T224138
CREATED:20240620T164616Z
LAST-MODIFIED:20240620T164616Z
UID:3430-1735394400-1735423200@havelockevents.com
SUMMARY:Private Event
DESCRIPTION:
URL:https://havelockevents.com/event/private-event-244/
END:VEVENT
END:VCALENDAR