BEGIN:VCALENDAR
VERSION:2.0
PRODID:-//Havelock Tourist &amp; Event Center - ECPv6.15.20//NONSGML v1.0//EN
CALSCALE:GREGORIAN
METHOD:PUBLISH
X-WR-CALNAME:Havelock Tourist &amp; Event Center
X-ORIGINAL-URL:https://havelockevents.com
X-WR-CALDESC:Events for Havelock Tourist &amp; Event Center
REFRESH-INTERVAL;VALUE=DURATION:PT1H
X-Robots-Tag:noindex
X-PUBLISHED-TTL:PT1H
BEGIN:VTIMEZONE
TZID:America/New_York
BEGIN:DAYLIGHT
TZOFFSETFROM:-0500
TZOFFSETTO:-0400
TZNAME:EDT
DTSTART:20240310T070000
END:DAYLIGHT
BEGIN:STANDARD
TZOFFSETFROM:-0400
TZOFFSETTO:-0500
TZNAME:EST
DTSTART:20241103T060000
END:STANDARD
BEGIN:DAYLIGHT
TZOFFSETFROM:-0500
TZOFFSETTO:-0400
TZNAME:EDT
DTSTART:20250309T070000
END:DAYLIGHT
BEGIN:STANDARD
TZOFFSETFROM:-0400
TZOFFSETTO:-0500
TZNAME:EST
DTSTART:20251102T060000
END:STANDARD
BEGIN:DAYLIGHT
TZOFFSETFROM:-0500
TZOFFSETTO:-0400
TZNAME:EDT
DTSTART:20260308T070000
END:DAYLIGHT
BEGIN:STANDARD
TZOFFSETFROM:-0400
TZOFFSETTO:-0500
TZNAME:EST
DTSTART:20261101T060000
END:STANDARD
END:VTIMEZONE
BEGIN:VEVENT
DTSTART;TZID=America/New_York:20250805T153000
DTEND;TZID=America/New_York:20250805T170000
DTSTAMP:20260418T224500
CREATED:20250131T174013Z
LAST-MODIFIED:20250131T174013Z
UID:3726-1754407800-1754413200@havelockevents.com
SUMMARY:ECAHF Development Committee Meeting
DESCRIPTION:
URL:https://havelockevents.com/event/ecahf-development-committee-meeting-39/
END:VEVENT
BEGIN:VEVENT
DTSTART;TZID=America/New_York:20250808T083000
DTEND;TZID=America/New_York:20250808T100000
DTSTAMP:20260418T224500
CREATED:20250131T174836Z
LAST-MODIFIED:20250131T174836Z
UID:3736-1754641800-1754647200@havelockevents.com
SUMMARY:ECAHF Board of Directors Meeting
DESCRIPTION:
URL:https://havelockevents.com/event/ecahf-board-of-directors-meeting-39/
END:VEVENT
BEGIN:VEVENT
DTSTART;VALUE=DATE:20250815
DTEND;VALUE=DATE:20250816
DTSTAMP:20260418T224500
CREATED:20250131T193634Z
LAST-MODIFIED:20250131T193634Z
UID:3772-1755216000-1755302399@havelockevents.com
SUMMARY:Private Training Event
DESCRIPTION:
URL:https://havelockevents.com/event/private-training-event/
END:VEVENT
BEGIN:VEVENT
DTSTART;TZID=America/New_York:20250815T163000
DTEND;TZID=America/New_York:20250815T200000
DTSTAMP:20260418T224500
CREATED:20250131T193413Z
LAST-MODIFIED:20250131T193413Z
UID:3770-1755275400-1755288000@havelockevents.com
SUMMARY:ECAHF Fly In
DESCRIPTION:
URL:https://havelockevents.com/event/ecahf-fly-in/
END:VEVENT
BEGIN:VEVENT
DTSTART;VALUE=DATE:20250820
DTEND;VALUE=DATE:20250821
DTSTAMP:20260418T224500
CREATED:20250815T174408Z
LAST-MODIFIED:20250815T174408Z
UID:3944-1755648000-1755734399@havelockevents.com
SUMMARY:Private Training Luncheon
DESCRIPTION:
URL:https://havelockevents.com/event/private-training-luncheon/
END:VEVENT
BEGIN:VEVENT
DTSTART;VALUE=DATE:20250823
DTEND;VALUE=DATE:20250824
DTSTAMP:20260418T224500
CREATED:20250131T193722Z
LAST-MODIFIED:20250131T193722Z
UID:3774-1755907200-1755993599@havelockevents.com
SUMMARY:Kickboxing Tournament
DESCRIPTION:
URL:https://havelockevents.com/event/kickboxing-tournament-3/
END:VEVENT
BEGIN:VEVENT
DTSTART;VALUE=DATE:20250828
DTEND;VALUE=DATE:20250829
DTSTAMP:20260418T224500
CREATED:20250815T174447Z
LAST-MODIFIED:20250815T174447Z
UID:3946-1756339200-1756425599@havelockevents.com
SUMMARY:Wedding & Reception
DESCRIPTION:
URL:https://havelockevents.com/event/wedding-reception-8/
END:VEVENT
BEGIN:VEVENT
DTSTART;TZID=America/New_York:20250828T160000
DTEND;TZID=America/New_York:20250828T170000
DTSTAMP:20260418T224500
CREATED:20250131T192009Z
LAST-MODIFIED:20250131T192009Z
UID:3754-1756396800-1756400400@havelockevents.com
SUMMARY:Chamber Board of Directors Meeting
DESCRIPTION:
URL:https://havelockevents.com/event/chamber-board-of-directors-meeting-8/
END:VEVENT
BEGIN:VEVENT
DTSTART;VALUE=DATE:20250829
DTEND;VALUE=DATE:20250830
DTSTAMP:20260418T224500
CREATED:20250131T193753Z
LAST-MODIFIED:20250131T193753Z
UID:3776-1756425600-1756511999@havelockevents.com
SUMMARY:Private Family Reunion
DESCRIPTION:
URL:https://havelockevents.com/event/private-family-reunion-3/
END:VEVENT
BEGIN:VEVENT
DTSTART;TZID=America/New_York:20250830T150000
DTEND;TZID=America/New_York:20250830T230000
DTSTAMP:20260418T224500
CREATED:20250131T193839Z
LAST-MODIFIED:20250131T193839Z
UID:3778-1756566000-1756594800@havelockevents.com
SUMMARY:Private Family Reunion
DESCRIPTION:
URL:https://havelockevents.com/event/private-family-reunion-4/
END:VEVENT
END:VCALENDAR