BEGIN:VCALENDAR
VERSION:2.0
PRODID:-//Havelock Tourist &amp; Event Center - ECPv6.15.20//NONSGML v1.0//EN
CALSCALE:GREGORIAN
METHOD:PUBLISH
X-ORIGINAL-URL:https://havelockevents.com
X-WR-CALDESC:Events for Havelock Tourist &amp; Event Center
REFRESH-INTERVAL;VALUE=DURATION:PT1H
X-Robots-Tag:noindex
X-PUBLISHED-TTL:PT1H
BEGIN:VTIMEZONE
TZID:America/New_York
BEGIN:DAYLIGHT
TZOFFSETFROM:-0500
TZOFFSETTO:-0400
TZNAME:EDT
DTSTART:20240310T070000
END:DAYLIGHT
BEGIN:STANDARD
TZOFFSETFROM:-0400
TZOFFSETTO:-0500
TZNAME:EST
DTSTART:20241103T060000
END:STANDARD
BEGIN:DAYLIGHT
TZOFFSETFROM:-0500
TZOFFSETTO:-0400
TZNAME:EDT
DTSTART:20250309T070000
END:DAYLIGHT
BEGIN:STANDARD
TZOFFSETFROM:-0400
TZOFFSETTO:-0500
TZNAME:EST
DTSTART:20251102T060000
END:STANDARD
BEGIN:DAYLIGHT
TZOFFSETFROM:-0500
TZOFFSETTO:-0400
TZNAME:EDT
DTSTART:20260308T070000
END:DAYLIGHT
BEGIN:STANDARD
TZOFFSETFROM:-0400
TZOFFSETTO:-0500
TZNAME:EST
DTSTART:20261101T060000
END:STANDARD
END:VTIMEZONE
BEGIN:VEVENT
DTSTART;VALUE=DATE:20250901
DTEND;VALUE=DATE:20250902
DTSTAMP:20260418T234248
CREATED:20250131T194003Z
LAST-MODIFIED:20250131T194003Z
UID:3780-1756684800-1756771199@havelockevents.com
SUMMARY:Labor Day  TEC Closed
DESCRIPTION:
URL:https://havelockevents.com/event/labor-day-tec-closed/
END:VEVENT
BEGIN:VEVENT
DTSTART;TZID=America/New_York:20250902T153000
DTEND;TZID=America/New_York:20250902T170000
DTSTAMP:20260418T234248
CREATED:20250131T170135Z
LAST-MODIFIED:20250131T170200Z
UID:3718-1756827000-1756832400@havelockevents.com
SUMMARY:ECAHF Development Committee Meeting
DESCRIPTION:
URL:https://havelockevents.com/event/ecahf-development-committee-meeting-37/
END:VEVENT
BEGIN:VEVENT
DTSTART;VALUE=DATE:20250906
DTEND;VALUE=DATE:20250907
DTSTAMP:20260418T234248
CREATED:20250131T195006Z
LAST-MODIFIED:20250131T195006Z
UID:3784-1757116800-1757203199@havelockevents.com
SUMMARY:Comic Con
DESCRIPTION:
URL:https://havelockevents.com/event/comic-con-2/
END:VEVENT
BEGIN:VEVENT
DTSTART;TZID=America/New_York:20250912T083000
DTEND;TZID=America/New_York:20250912T100000
DTSTAMP:20260418T234248
CREATED:20250131T174908Z
LAST-MODIFIED:20250131T174908Z
UID:3738-1757665800-1757671200@havelockevents.com
SUMMARY:ECAHF Board of Directors Meeting
DESCRIPTION:
URL:https://havelockevents.com/event/ecahf-board-of-directors-meeting-40/
END:VEVENT
BEGIN:VEVENT
DTSTART;VALUE=DATE:20250913
DTEND;VALUE=DATE:20250914
DTSTAMP:20260418T234248
CREATED:20250815T174513Z
LAST-MODIFIED:20250815T174513Z
UID:3948-1757721600-1757807999@havelockevents.com
SUMMARY:Private Party
DESCRIPTION:
URL:https://havelockevents.com/event/private-party-6/
END:VEVENT
BEGIN:VEVENT
DTSTART;VALUE=DATE:20250915
DTEND;VALUE=DATE:20250916
DTSTAMP:20260418T234248
CREATED:20250815T174536Z
LAST-MODIFIED:20250815T174536Z
UID:3950-1757894400-1757980799@havelockevents.com
SUMMARY:God & Country Christian Alliance Banquet
DESCRIPTION:
URL:https://havelockevents.com/event/god-country-christian-alliance-banquet-2/
END:VEVENT
BEGIN:VEVENT
DTSTART;VALUE=DATE:20250920
DTEND;VALUE=DATE:20250921
DTSTAMP:20260418T234248
CREATED:20250815T174621Z
LAST-MODIFIED:20250815T174627Z
UID:3952-1758326400-1758412799@havelockevents.com
SUMMARY:Martial Arts Competition
DESCRIPTION:
URL:https://havelockevents.com/event/martial-arts-competition-2/
END:VEVENT
BEGIN:VEVENT
DTSTART;TZID=America/New_York:20250925T160000
DTEND;TZID=America/New_York:20250925T170000
DTSTAMP:20260418T234248
CREATED:20250131T192100Z
LAST-MODIFIED:20250131T192100Z
UID:3756-1758816000-1758819600@havelockevents.com
SUMMARY:Chamber Board of Directors Meeting
DESCRIPTION:
URL:https://havelockevents.com/event/chamber-board-of-directors-meeting-9/
END:VEVENT
BEGIN:VEVENT
DTSTART;TZID=America/New_York:20250927T173000
DTEND;TZID=America/New_York:20250927T230000
DTSTAMP:20260418T234248
CREATED:20250131T194106Z
LAST-MODIFIED:20250131T194106Z
UID:3782-1758994200-1759014000@havelockevents.com
SUMMARY:Ducks Unlimited
DESCRIPTION:
URL:https://havelockevents.com/event/ducks-unlimited/
END:VEVENT
END:VCALENDAR